BEGIN:VCALENDAR
VERSION:2.0
PRODID:-//bc magazine - ECPv6.15.20//NONSGML v1.0//EN
CALSCALE:GREGORIAN
METHOD:PUBLISH
X-WR-CALNAME:bc magazine
X-ORIGINAL-URL:https://www.bcmagazine.net
X-WR-CALDESC:Events for bc magazine
REFRESH-INTERVAL;VALUE=DURATION:PT1H
X-Robots-Tag:noindex
X-PUBLISHED-TTL:PT1H
BEGIN:VTIMEZONE
TZID:Asia/Hong_Kong
BEGIN:STANDARD
TZOFFSETFROM:+0800
TZOFFSETTO:+0800
TZNAME:HKT
DTSTART:20180101T000000
END:STANDARD
END:VTIMEZONE
BEGIN:VEVENT
DTSTART;VALUE=DATE:20191212
DTEND;VALUE=DATE:20200218
DTSTAMP:20260422T030924
CREATED:19181120T072433Z
LAST-MODIFIED:20191105T060620Z
UID:10004585-1576108800-1581983999@www.bcmagazine.net
SUMMARY:AIA Carnival + The Great Circus of Europe
DESCRIPTION:AIA Carnival + The Great Circus of Europe\nDate: 12 December\, 2019 – 17 February\, 2020\nVenue: Central Harbourfront\nTickets: $400\, $300\, $130\, $50
URL:https://www.bcmagazine.net/event/aia-carnival-2019/
LOCATION:Central Harbourfront\,  9 Lung Wo Road\, Central\, Hong Kong
CATEGORIES:2019,2020,Music,Nightlife,Other,Performing Arts
ATTACH;FMTTYPE=image/jpeg:https://www.bcmagazine.net/wp-content/uploads/1918/11/carnival-2019.jpg
GEO:22.2826223;114.164346
X-APPLE-STRUCTURED-LOCATION;VALUE=URI;X-ADDRESS=Central Harbourfront  9 Lung Wo Road Central Hong Kong;X-APPLE-RADIUS=500;X-TITLE=9 Lung Wo Road:geo:114.164346,22.2826223
END:VEVENT
BEGIN:VEVENT
DTSTART;VALUE=DATE:20200214
DTEND;VALUE=DATE:20200220
DTSTAMP:20260422T030924
CREATED:20191213T000859Z
LAST-MODIFIED:20200211T053439Z
UID:10006608-1581638400-1582156799@www.bcmagazine.net
SUMMARY:India by the Bay - Postponed
DESCRIPTION:India by the Bay sixth edition (14-19 February\, 2020) has been postponed until April. \nThe Festival offers HongKongers an insight into Indian culture and history through a diverse and eclectic programme including music\, dance\, film\, food\, theatre\, yoga\, literature and art. \nIndia by the Bay 2020\nDate: April\, 2020\nVenue: Asia Society Hong Kong Center\nTickets: tbc
URL:https://www.bcmagazine.net/event/india-by-the-bay-2020/
LOCATION:Asia Society Hong Kong Center\, 9 Justice Drive\, Admiralty\, Hong Kong
CATEGORIES:2020,Cultural Festival,Dance,Lifestyle,Music,Other
ATTACH;FMTTYPE=image/jpeg:https://www.bcmagazine.net/wp-content/uploads/2018/10/india-by-the-bay-2020-poster.jpg
END:VEVENT
BEGIN:VEVENT
DTSTART;VALUE=DATE:20200215
DTEND;VALUE=DATE:20200216
DTSTAMP:20260422T030924
CREATED:19191213T000859Z
LAST-MODIFIED:20200107T011106Z
UID:10004917-1581724800-1581811199@www.bcmagazine.net
SUMMARY:Literary Saturday
DESCRIPTION:Literary Saturday\nIndia by the Bay\, John Zubrzycki\, Tara Gandhi Bhattacharjee\, Khooni Vaisakhi\, Lisa Ray\, Sandeep Unnithan\nDate: 15 February\, 2020\nVenue: Asia Society Hong Kong Center\nTickets: $175/session\nMore info:\nFive sessions:\n10am – John Zubrzycki\n11am – Tara Gandhi Bhattacharjee\n12:30pm – Khooni Vaisakhi\n13:45pm – Lisa Ray\n15:00pm – Sandeep Unnithan
URL:https://www.bcmagazine.net/event/literary-saturday-15-02-2020/
LOCATION:Asia Society Hong Kong Center\, 9 Justice Drive\, Admiralty\, Hong Kong
CATEGORIES:2020,Cultural Festival,Dance,Lifestyle,Music,Other
ATTACH;FMTTYPE=image/jpeg:https://www.bcmagazine.net/wp-content/uploads/2018/10/india-by-the-bay-2020-poster.jpg
END:VEVENT
END:VCALENDAR