BEGIN:VCALENDAR
VERSION:2.0
PRODID:-//bc magazine - ECPv6.15.20//NONSGML v1.0//EN
CALSCALE:GREGORIAN
METHOD:PUBLISH
X-WR-CALNAME:bc magazine
X-ORIGINAL-URL:https://www.bcmagazine.net
X-WR-CALDESC:Events for bc magazine
REFRESH-INTERVAL;VALUE=DURATION:PT1H
X-Robots-Tag:noindex
X-PUBLISHED-TTL:PT1H
BEGIN:VTIMEZONE
TZID:Asia/Hong_Kong
BEGIN:STANDARD
TZOFFSETFROM:+0800
TZOFFSETTO:+0800
TZNAME:HKT
DTSTART:20180101T000000
END:STANDARD
END:VTIMEZONE
BEGIN:VEVENT
DTSTART;VALUE=DATE:20190428
DTEND;VALUE=DATE:20190502
DTSTAMP:20260421T050847
CREATED:19181213T044512Z
LAST-MODIFIED:20190315T103821Z
UID:10004700-1556409600-1556755199@www.bcmagazine.net
SUMMARY:Hush!
DESCRIPTION:Hush! Macau Beach Concert\nDate: 28 April – 1 May\, 2019\nVenue: Beach in Macau\nTickets: tbc
URL:https://www.bcmagazine.net/event/hush-macau-2019/
CATEGORIES:2019,concert,Concert,Macau,Music,Performing Arts
END:VEVENT
BEGIN:VEVENT
DTSTART;TZID=Asia/Hong_Kong:20190503T200000
DTEND;TZID=Asia/Hong_Kong:20190503T200000
DTSTAMP:20260421T050847
CREATED:19180805T120338Z
LAST-MODIFIED:20180805T122858Z
UID:10004398-1556913600-1556913600@www.bcmagazine.net
SUMMARY:White Mountains\, Black Waters
DESCRIPTION:White Mountains\, Black Waters – The Rustic Landscape of Northeastern China\nHK Chinese Orchestra\nDate: 8pm\, 3-4 May\, 2019\nVenue: HK City Hall\, Concert Hall\nTickets: $350\, $280\, $220\, $170 from Urbtix
URL:https://www.bcmagazine.net/event/white-mountains-black-waters-hkco-03-05-2019/
LOCATION:HK City Hall\, Concert Hall\,  5 Edinburgh Place\, Central\, Hong Kong
CATEGORIES:2019,Concert,Music,Performing Arts
END:VEVENT
BEGIN:VEVENT
DTSTART;TZID=Asia/Hong_Kong:20190503T200000
DTEND;TZID=Asia/Hong_Kong:20190503T200000
DTSTAMP:20260421T050847
CREATED:19181213T044512Z
LAST-MODIFIED:20190329T002947Z
UID:10003955-1556913600-1556913600@www.bcmagazine.net
SUMMARY:With Confidence
DESCRIPTION:With Confidence\nSupport: Copak \, Seasons For Change\nDate: 8pm\, 3 May\, 2019\nVenue: This Town Needs (TTN)\nTickets: $420\, $350 (advance)
URL:https://www.bcmagazine.net/event/with-confidence-hk-2019/
LOCATION:This Town Needs (TTN)\, 1/F Ocean One\, 6 Shung Shun Street\, Yau Tong\, Hong Kong
CATEGORIES:2019,Concert,Music,Performing Arts
ATTACH;FMTTYPE=image/jpeg:https://www.bcmagazine.net/wp-content/uploads/1918/12/With-Confidence-hk-2019.jpg
GEO:22.292861;114.23782
X-APPLE-STRUCTURED-LOCATION;VALUE=URI;X-ADDRESS=This Town Needs (TTN) 1/F Ocean One 6 Shung Shun Street Yau Tong Hong Kong;X-APPLE-RADIUS=500;X-TITLE=1/F Ocean One\, 6 Shung Shun Street:geo:114.23782,22.292861
END:VEVENT
BEGIN:VEVENT
DTSTART;VALUE=DATE:20190504
DTEND;VALUE=DATE:20190506
DTSTAMP:20260421T050847
CREATED:19180716T124702Z
LAST-MODIFIED:20190219T004534Z
UID:10004330-1556928000-1557100799@www.bcmagazine.net
SUMMARY:Shi Fu Miz Festival - Spring 2019
DESCRIPTION:Shi Fu Miz Festival – Spring 2019\nPalms Trax\, Orpheu The Wizard\, La Mamie’s\, Kuniyuki Takahash\, Levon Vincent\, Awesome Tapes From Africa\, Shuya Okino\, Kamma & Masalo\nDate: 4-5 May\, 2019\nVenue: Sai Yuen Camping & Adventure Park\nTickets: $880\, $680\, $580\, $480
URL:https://www.bcmagazine.net/event/shi-fu-miz-festival-spring-2019/
LOCATION:Saiyuen Camping & Adventure Park\, Sai Yuen\, Sai Wan\, Hong Kong
CATEGORIES:2019,Comedy,Concert,Music,Performing Arts
END:VEVENT
BEGIN:VEVENT
DTSTART;TZID=Asia/Hong_Kong:20190504T193000
DTEND;TZID=Asia/Hong_Kong:20190504T193000
DTSTAMP:20260421T050847
CREATED:20190328T044512Z
LAST-MODIFIED:20190328T235615Z
UID:10006576-1556998200-1556998200@www.bcmagazine.net
SUMMARY:DragJam 3
DESCRIPTION:DragJam 3 –  Just Because It’s Kink\nDate: 7:30pm\, 4 May\, 2019\nVenue: McNamara Art Project\, 202\, The Factory\, 1 Yip Fat Street\, Hong Kong\nTickets: $150
URL:https://www.bcmagazine.net/event/dragjam-3/
LOCATION:McNamara Art Project\, 202\, The Factory\, 1 Yip Fat Street\, Wong Chuk Hang\, Hong Kong
CATEGORIES:2019,LGBT,Lifestyle,Music,Nightlife,Performing Arts,Theatre
ATTACH;FMTTYPE=image/jpeg:https://www.bcmagazine.net/wp-content/uploads/2019/01/dragjam-3.jpg
END:VEVENT
BEGIN:VEVENT
DTSTART;TZID=Asia/Hong_Kong:20190504T200000
DTEND;TZID=Asia/Hong_Kong:20190504T200000
DTSTAMP:20260421T050847
CREATED:19180805T120338Z
LAST-MODIFIED:20180805T122933Z
UID:10004399-1557000000-1557000000@www.bcmagazine.net
SUMMARY:White Mountains\, Black Waters
DESCRIPTION:White Mountains\, Black Waters – The Rustic Landscape of Northeastern China\nHK Chinese Orchestra\nDate: 8pm\, 3-4 May\, 2019\nVenue: HK City Hall\, Concert Hall\nTickets: $350\, $280\, $220\, $170 from Urbtix
URL:https://www.bcmagazine.net/event/white-mountains-black-waters-hkco-04-05-2019/
LOCATION:HK City Hall\, Concert Hall\,  5 Edinburgh Place\, Central\, Hong Kong
CATEGORIES:2019,Concert,Music,Performing Arts
END:VEVENT
BEGIN:VEVENT
DTSTART;TZID=Asia/Hong_Kong:20190504T200000
DTEND;TZID=Asia/Hong_Kong:20190504T200000
DTSTAMP:20260421T050847
CREATED:19190411T044512Z
LAST-MODIFIED:20190424T091630Z
UID:10004768-1557000000-1557000000@www.bcmagazine.net
SUMMARY:Rainie Yang
DESCRIPTION:Rainie Yang – Youth Lies Within World Tour\nDate: 8pm\, 4 May\, 2019\nVenue: Cotai Arena\nTickets: $980\, $780\, $580\, $380 from Cotai Ticketing
URL:https://www.bcmagazine.net/event/rainie-yang-macau-2019/
LOCATION:Cotai Arena\, Venetian Macao\, Macau
CATEGORIES:2019,Concert,Macau,Music,Performing Arts
ATTACH;FMTTYPE=image/jpeg:https://www.bcmagazine.net/wp-content/uploads/1919/04/rainie-2019_1000x750-1.jpg
END:VEVENT
BEGIN:VEVENT
DTSTART;TZID=Asia/Hong_Kong:20190504T200000
DTEND;TZID=Asia/Hong_Kong:20190504T200000
DTSTAMP:20260421T050847
CREATED:20190409T044512Z
LAST-MODIFIED:20190412T134529Z
UID:10006577-1557000000-1557000000@www.bcmagazine.net
SUMMARY:Deerhoof
DESCRIPTION:Deerhoof\nDate: 8pm\, 4 May\, 2019\nVenue: MOM Livehouse\nTickets: $340\, $260 (advance)
URL:https://www.bcmagazine.net/event/deerhoof/
LOCATION:MOM Livehouse\, B39 Seven Seas Shopping Centre\, 117-121 Kings Road\, North Point\, Hong Kong
CATEGORIES:2019,Concert,Music,Performing Arts
ATTACH;FMTTYPE=image/jpeg:https://www.bcmagazine.net/wp-content/uploads/1918/12/Deerhoof-hk-2019.jpg
GEO:22.2884683;114.192803
X-APPLE-STRUCTURED-LOCATION;VALUE=URI;X-ADDRESS=MOM Livehouse B39 Seven Seas Shopping Centre 117-121 Kings Road North Point Hong Kong;X-APPLE-RADIUS=500;X-TITLE=B39 Seven Seas Shopping Centre\, 117-121 Kings Road:geo:114.192803,22.2884683
END:VEVENT
BEGIN:VEVENT
DTSTART;TZID=Asia/Hong_Kong:20190506T200000
DTEND;TZID=Asia/Hong_Kong:20190506T200000
DTSTAMP:20260421T050847
CREATED:20181213T044512Z
LAST-MODIFIED:20181217T034908Z
UID:10006556-1557172800-1557172800@www.bcmagazine.net
SUMMARY:Troye Sivan
DESCRIPTION:Troye Sivan – The Bloom Tour\nDate: 8pm\, 6 May\, 2019\nVenue: AsiaWorld Expo\, Hall 10\nTickets: $888\, $588 from HKTicketing
URL:https://www.bcmagazine.net/event/troye-sivan/
LOCATION:AsiaWorld-Expo\, Hall 10\, Cheong Wing Road\, Chek Lap Kok\, Lantau\, Hong Kong
CATEGORIES:2019,Concert,concert,Music,Performing Arts
ATTACH;FMTTYPE=image/jpeg:https://www.bcmagazine.net/wp-content/uploads/2018/12/HK-Troye-Sivan.jpg
GEO:22.3217383;113.9402012
X-APPLE-STRUCTURED-LOCATION;VALUE=URI;X-ADDRESS=AsiaWorld-Expo Hall 10 Cheong Wing Road Chek Lap Kok Lantau Hong Kong;X-APPLE-RADIUS=500;X-TITLE=Cheong Wing Road\, Chek Lap Kok:geo:113.9402012,22.3217383
END:VEVENT
BEGIN:VEVENT
DTSTART;TZID=Asia/Hong_Kong:20190508T200000
DTEND;TZID=Asia/Hong_Kong:20190508T200000
DTSTAMP:20260421T050847
CREATED:19170909T021037Z
LAST-MODIFIED:20181127T002904Z
UID:10003417-1557345600-1557345600@www.bcmagazine.net
SUMMARY:Peel Street Poetry
DESCRIPTION:Peel Street Poetry is an open mic poetry night at Social Room. It runs every Wednesdays of the month except the first and last. The environment is friendly and they love new performers\, so come share your poetry or just listen along to some of Hong Kong’s sharpest poetic talents. \nPeel Street Poetry Open Mic\nDate: 2nd\, 3rd (and 4th) Wednesdays of the month\nVenue: Social Room\nTickets: Free\nMore info:\nwww.peelstreetpoetry.com
URL:https://www.bcmagazine.net/event/peel-street-poetry/2019-05-08/
LOCATION:Social Room\, 74-78 Stanley Street \, Central\, Hong Kong
CATEGORIES:2018,2019,Free,Performing Arts,Poetry
GEO:22.2834184;114.1544925
X-APPLE-STRUCTURED-LOCATION;VALUE=URI;X-ADDRESS=Social Room 74-78 Stanley Street  Central Hong Kong;X-APPLE-RADIUS=500;X-TITLE=74-78 Stanley Street:geo:114.1544925,22.2834184
END:VEVENT
BEGIN:VEVENT
DTSTART;TZID=Asia/Hong_Kong:20190508T200000
DTEND;TZID=Asia/Hong_Kong:20190508T200000
DTSTAMP:20260421T050847
CREATED:20181206T044512Z
LAST-MODIFIED:20181203T104140Z
UID:10006554-1557345600-1557345600@www.bcmagazine.net
SUMMARY:Kyle Dixon & Michael Stein
DESCRIPTION:Kyle Dixon & Michael Stein: Perform the Music of Stranger Things\nDate: 8pm\, 8 May\, 2019\nVenue: MacPherson Stadium\nTickets: $550\, $495\, $450
URL:https://www.bcmagazine.net/event/kyle-dixon-michael-stein-2019/
LOCATION:MacPherson Stadium\, 38 Nelson Street\, Mongkok\, Hong Kong
CATEGORIES:2019,Concert,concert,Music,Performing Arts
ATTACH;FMTTYPE=image/jpeg:https://www.bcmagazine.net/wp-content/uploads/2018/12/stranger-thing-concert-2019.jpg
GEO:22.3188457;114.1728403
X-APPLE-STRUCTURED-LOCATION;VALUE=URI;X-ADDRESS=MacPherson Stadium 38 Nelson Street Mongkok Hong Kong;X-APPLE-RADIUS=500;X-TITLE=38 Nelson Street:geo:114.1728403,22.3188457
END:VEVENT
BEGIN:VEVENT
DTSTART;TZID=Asia/Hong_Kong:20190510T200000
DTEND;TZID=Asia/Hong_Kong:20190510T200000
DTSTAMP:20260421T050847
CREATED:19181213T044512Z
LAST-MODIFIED:20190319T014715Z
UID:10004710-1557518400-1557518400@www.bcmagazine.net
SUMMARY:Fragile Girls
DESCRIPTION:Fragile Girls\nDate: 8pm\, 10 May 2019\nVenue: This Town Needs (TTN)\nTickets: $320\, $280 (advance)
URL:https://www.bcmagazine.net/event/fragile-girls-hk-2019/
LOCATION:This Town Needs (TTN)\, 1/F Ocean One\, 6 Shung Shun Street\, Yau Tong\, Hong Kong
CATEGORIES:2019,Concert,Music,Performing Arts
ATTACH;FMTTYPE=image/jpeg:https://www.bcmagazine.net/wp-content/uploads/1918/12/FragileGirls-hk-2019.jpg
GEO:22.292861;114.23782
X-APPLE-STRUCTURED-LOCATION;VALUE=URI;X-ADDRESS=This Town Needs (TTN) 1/F Ocean One 6 Shung Shun Street Yau Tong Hong Kong;X-APPLE-RADIUS=500;X-TITLE=1/F Ocean One\, 6 Shung Shun Street:geo:114.23782,22.292861
END:VEVENT
BEGIN:VEVENT
DTSTART;TZID=Asia/Hong_Kong:20190510T223000
DTEND;TZID=Asia/Hong_Kong:20190510T223000
DTSTAMP:20260421T050847
CREATED:19181213T044512Z
LAST-MODIFIED:20190329T002337Z
UID:10003951-1557527400-1557527400@www.bcmagazine.net
SUMMARY:John Stowell
DESCRIPTION:John Stowell\nDate: 10:30pm\, 10 May\, 2019\nVenue: Gecko Lounge\nTickets: tbc
URL:https://www.bcmagazine.net/event/john-stowell-hk-2019/
LOCATION:Gecko Lounge\, LG/F\, Ezra Lane\, Lower Hollywood Road\, Central\, Hong Kong
CATEGORIES:2019,Concert,Jazz,Music,Performing Arts
ATTACH;FMTTYPE=image/jpeg:https://www.bcmagazine.net/wp-content/uploads/1918/12/John-Stowell-hk-2019.jpg
END:VEVENT
BEGIN:VEVENT
DTSTART;TZID=Asia/Hong_Kong:20190511T193000
DTEND;TZID=Asia/Hong_Kong:20190511T193000
DTSTAMP:20260421T050847
CREATED:19190409T044512Z
LAST-MODIFIED:20190412T135438Z
UID:10004748-1557603000-1557603000@www.bcmagazine.net
SUMMARY:Eins
DESCRIPTION:Eins – BanG Dream\nDate: 7:30pm\, 11 May\, 2019\nVenue: MOM Livehouse\nTickets: $100
URL:https://www.bcmagazine.net/event/eins/
LOCATION:MOM Livehouse\, B39 Seven Seas Shopping Centre\, 117-121 Kings Road\, North Point\, Hong Kong
CATEGORIES:2019,Concert,Music,Performing Arts
ATTACH;FMTTYPE=image/jpeg:https://www.bcmagazine.net/wp-content/uploads/1919/04/Eins-hk-2019.jpg
GEO:22.2884683;114.192803
X-APPLE-STRUCTURED-LOCATION;VALUE=URI;X-ADDRESS=MOM Livehouse B39 Seven Seas Shopping Centre 117-121 Kings Road North Point Hong Kong;X-APPLE-RADIUS=500;X-TITLE=B39 Seven Seas Shopping Centre\, 117-121 Kings Road:geo:114.192803,22.2884683
END:VEVENT
BEGIN:VEVENT
DTSTART;TZID=Asia/Hong_Kong:20190511T200000
DTEND;TZID=Asia/Hong_Kong:20190511T200000
DTSTAMP:20260421T050847
CREATED:19190411T044512Z
LAST-MODIFIED:20190424T092020Z
UID:10004769-1557604800-1557604800@www.bcmagazine.net
SUMMARY:Raymond Lam
DESCRIPTION:Raymond Lam – Heart Attack\nDate: 8pm\, 11 May\, 2019\nVenue: Cotai Arena\nTickets: $1\,280\, $880\, $680\, $480\, $280 from Cotai Ticketing
URL:https://www.bcmagazine.net/event/raymond-lam-macau-2019/
LOCATION:Cotai Arena\, Venetian Macao\, Macau
CATEGORIES:2019,Concert,Macau,Music,Performing Arts
ATTACH;FMTTYPE=image/jpeg:https://www.bcmagazine.net/wp-content/uploads/1919/04/raymond-2019_detail-banner_1900x800_en.jpg
END:VEVENT
BEGIN:VEVENT
DTSTART;TZID=Asia/Hong_Kong:20190512T153000
DTEND;TZID=Asia/Hong_Kong:20190512T153000
DTSTAMP:20260421T050847
CREATED:19190409T044512Z
LAST-MODIFIED:20190412T135118Z
UID:10004747-1557675000-1557675000@www.bcmagazine.net
SUMMARY:AniCharm #03
DESCRIPTION:AniCharm #03\nDate: 15:30pm\, 12 May\, 2019\nVenue: MOM Livehouse\nTickets: $280\, $230 (advance)
URL:https://www.bcmagazine.net/event/anicharm-03/
LOCATION:MOM Livehouse\, B39 Seven Seas Shopping Centre\, 117-121 Kings Road\, North Point\, Hong Kong
CATEGORIES:2019,Concert,Music,Performing Arts
ATTACH;FMTTYPE=image/jpeg:https://www.bcmagazine.net/wp-content/uploads/2019/04/aniCharm-03.jpg
GEO:22.2884683;114.192803
X-APPLE-STRUCTURED-LOCATION;VALUE=URI;X-ADDRESS=MOM Livehouse B39 Seven Seas Shopping Centre 117-121 Kings Road North Point Hong Kong;X-APPLE-RADIUS=500;X-TITLE=B39 Seven Seas Shopping Centre\, 117-121 Kings Road:geo:114.192803,22.2884683
END:VEVENT
BEGIN:VEVENT
DTSTART;TZID=Asia/Hong_Kong:20190515T200000
DTEND;TZID=Asia/Hong_Kong:20190515T200000
DTSTAMP:20260421T050847
CREATED:20230114T165259Z
LAST-MODIFIED:20230114T165259Z
UID:10003441-1557950400-1557950400@www.bcmagazine.net
SUMMARY:Peel Street Poetry
DESCRIPTION:Peel Street Poetry is an open mic poetry night at Social Room. It runs every Wednesdays of the month except the first and last. The environment is friendly and they love new performers\, so come share your poetry or just listen along to some of Hong Kong’s sharpest poetic talents. \nPeel Street Poetry Open Mic\nDate: 2nd\, 3rd (and 4th) Wednesdays of the month\nVenue: Social Room\nTickets: Free\nMore info:\nwww.peelstreetpoetry.com
URL:https://www.bcmagazine.net/event/peel-street-poetry/2019-05-15/
LOCATION:Social Room\, 74-78 Stanley Street \, Central\, Hong Kong
CATEGORIES:2018,2019,Free,Performing Arts,Poetry
GEO:22.2834184;114.1544925
X-APPLE-STRUCTURED-LOCATION;VALUE=URI;X-ADDRESS=Social Room 74-78 Stanley Street  Central Hong Kong;X-APPLE-RADIUS=500;X-TITLE=74-78 Stanley Street:geo:114.1544925,22.2834184
END:VEVENT
BEGIN:VEVENT
DTSTART;TZID=Asia/Hong_Kong:20190517T200000
DTEND;TZID=Asia/Hong_Kong:20190517T200000
DTSTAMP:20260421T050847
CREATED:19180805T120338Z
LAST-MODIFIED:20180805T124204Z
UID:10004403-1558123200-1558123200@www.bcmagazine.net
SUMMARY:Music from the Heart
DESCRIPTION:Music from the Heart\nHK Chinese Orchestra\nDate: 8pm\, 17 May\, 2019\nVenue: HKCO Recital Hall\nTickets: $250 from Urbtix
URL:https://www.bcmagazine.net/event/hkco-music-from-the-heart/
LOCATION:HKCO Recital Hall\, Central\, Hong Kong
CATEGORIES:2019,Concert,Music,Performing Arts
END:VEVENT
BEGIN:VEVENT
DTSTART;TZID=Asia/Hong_Kong:20190517T200000
DTEND;TZID=Asia/Hong_Kong:20190517T200000
DTSTAMP:20260421T050847
CREATED:19181020T145036Z
LAST-MODIFIED:20181029T081557Z
UID:10004497-1558123200-1558123200@www.bcmagazine.net
SUMMARY:Jason Mraz
DESCRIPTION:Jason Mraz – Good Vibes 2019\nDate: 8pm\, 17 -18 May\, 2019\nVenue: HKCEC\, Hall 5BC\nTickets: $1\, 088\, $888\, $788\, $588 from HKTicketing
URL:https://www.bcmagazine.net/event/jason-mraz-17-05-2019/
LOCATION:HK Convention and Exhibition Centre\, 1 Expo Drive\, Wanchai\, Hong Kong
CATEGORIES:2019,Concert,Music,Performing Arts
ATTACH;FMTTYPE=image/jpeg:https://www.bcmagazine.net/wp-content/uploads/1918/10/jason-marz-2019.jpg
END:VEVENT
BEGIN:VEVENT
DTSTART;TZID=Asia/Hong_Kong:20190517T200000
DTEND;TZID=Asia/Hong_Kong:20190517T200000
DTSTAMP:20260421T050847
CREATED:19181213T044512Z
LAST-MODIFIED:20190322T052145Z
UID:10003949-1558123200-1558123200@www.bcmagazine.net
SUMMARY:Virgin Graffiti
DESCRIPTION:Virgin Graffiti  シャムキャッツ\nDate: 8pm\, 17 May\, 2019\nVenue: MOM Livehouse\nTickets: tbc
URL:https://www.bcmagazine.net/event/virgin-graffiti-2019/
LOCATION:MOM Livehouse\, B39 Seven Seas Shopping Centre\, 117-121 Kings Road\, North Point\, Hong Kong
CATEGORIES:2019,Concert,Music,Performing Arts
ATTACH;FMTTYPE=image/jpeg:https://www.bcmagazine.net/wp-content/uploads/1918/12/Virgin-Graffiti.jpg
GEO:22.2884683;114.192803
X-APPLE-STRUCTURED-LOCATION;VALUE=URI;X-ADDRESS=MOM Livehouse B39 Seven Seas Shopping Centre 117-121 Kings Road North Point Hong Kong;X-APPLE-RADIUS=500;X-TITLE=B39 Seven Seas Shopping Centre\, 117-121 Kings Road:geo:114.192803,22.2884683
END:VEVENT
BEGIN:VEVENT
DTSTART;TZID=Asia/Hong_Kong:20190517T200000
DTEND;TZID=Asia/Hong_Kong:20190517T200000
DTSTAMP:20260421T050847
CREATED:19190212T044512Z
LAST-MODIFIED:20190216T085808Z
UID:10004729-1558123200-1558123200@www.bcmagazine.net
SUMMARY:Last Dinosaurs
DESCRIPTION:Last Dinosaurs – Yumeno Garden\nSupport: Phoon\nDate: 8pm\, 17 May\, 2019\nVenue: This Town Needs (TTN)\nTickets: $400\, $350 (advance)
URL:https://www.bcmagazine.net/event/last-dinosaurs-hk-2019/
LOCATION:This Town Needs (TTN)\, 1/F Ocean One\, 6 Shung Shun Street\, Yau Tong\, Hong Kong
CATEGORIES:2019,Concert,Music,Performing Arts
ATTACH;FMTTYPE=image/jpeg:https://www.bcmagazine.net/wp-content/uploads/1919/02/Last-Dinosaurs-2019.jpg
GEO:22.292861;114.23782
X-APPLE-STRUCTURED-LOCATION;VALUE=URI;X-ADDRESS=This Town Needs (TTN) 1/F Ocean One 6 Shung Shun Street Yau Tong Hong Kong;X-APPLE-RADIUS=500;X-TITLE=1/F Ocean One\, 6 Shung Shun Street:geo:114.23782,22.292861
END:VEVENT
BEGIN:VEVENT
DTSTART;TZID=Asia/Hong_Kong:20190517T200000
DTEND;TZID=Asia/Hong_Kong:20190517T200000
DTSTAMP:20260421T050847
CREATED:19190411T044512Z
LAST-MODIFIED:20190414T003333Z
UID:10004759-1558123200-1558123200@www.bcmagazine.net
SUMMARY:Elephant Gym
DESCRIPTION:Elephant Gym – Underwater\nDate: 8pm\, 17 May\, 2019\nVenue: Kitec\, Music Zone@E-Max\nTickets: $420\, $350 (advance)
URL:https://www.bcmagazine.net/event/elephant-gym-hk-2019/
LOCATION:KITEC\, Music Zone@E-Max\, KITEC\,‎ 1 Trademart Drive\, Kowloon Bay\, Hong Kong
CATEGORIES:2019,Concert,Music,Performing Arts
ATTACH;FMTTYPE=image/jpeg:https://www.bcmagazine.net/wp-content/uploads/1919/04/Elephant-Gym-hk-2019.jpg
GEO:22.3239575;114.2037608
X-APPLE-STRUCTURED-LOCATION;VALUE=URI;X-ADDRESS=KITEC Music Zone@E-Max KITEC‎ 1 Trademart Drive Kowloon Bay Hong Kong;X-APPLE-RADIUS=500;X-TITLE=KITEC\,‎ 1 Trademart Drive:geo:114.2037608,22.3239575
END:VEVENT
BEGIN:VEVENT
DTSTART;TZID=Asia/Hong_Kong:20190517T200000
DTEND;TZID=Asia/Hong_Kong:20190517T200000
DTSTAMP:20260421T050847
CREATED:20190415T044512Z
LAST-MODIFIED:20190424T084610Z
UID:10006579-1558123200-1558123200@www.bcmagazine.net
SUMMARY:Last Dinosaurs
DESCRIPTION:Last Dinosaurs\nDate: 8pm\, 17 May\, 2019\nVenue: This Town Needs (TTN)\nTickets: $400\, $350 (advance)
URL:https://www.bcmagazine.net/event/last-dinosaurs-hk-2019-2/
LOCATION:This Town Needs (TTN)\, 1/F Ocean One\, 6 Shung Shun Street\, Yau Tong\, Hong Kong
CATEGORIES:2019,Concert,Music,Performing Arts
ATTACH;FMTTYPE=image/jpeg:https://www.bcmagazine.net/wp-content/uploads/2019/04/Last-Dinosaurs-hk-2019.jpg
GEO:22.292861;114.23782
X-APPLE-STRUCTURED-LOCATION;VALUE=URI;X-ADDRESS=This Town Needs (TTN) 1/F Ocean One 6 Shung Shun Street Yau Tong Hong Kong;X-APPLE-RADIUS=500;X-TITLE=1/F Ocean One\, 6 Shung Shun Street:geo:114.23782,22.292861
END:VEVENT
BEGIN:VEVENT
DTSTART;TZID=Asia/Hong_Kong:20190518T190000
DTEND;TZID=Asia/Hong_Kong:20190518T190000
DTSTAMP:20260421T050847
CREATED:19181213T044512Z
LAST-MODIFIED:20190314T135502Z
UID:10004692-1558206000-1558206000@www.bcmagazine.net
SUMMARY:Jeong Eunji
DESCRIPTION:Jeong Eunji\nDate: 7pm\, 18 May\, 2019\nVenue: MacPherson Stadium\nTickets: $1\,488\, $988\, $688 from Cityline
URL:https://www.bcmagazine.net/event/jeong-eunji-hk-2019/
LOCATION:MacPherson Stadium\, 38 Nelson Street\, Mongkok\, Hong Kong
CATEGORIES:2019,Concert,Music,Performing Arts
ATTACH;FMTTYPE=image/jpeg:https://www.bcmagazine.net/wp-content/uploads/1918/12/jeong-junji-2019-hk.jpg
GEO:22.3188457;114.1728403
X-APPLE-STRUCTURED-LOCATION;VALUE=URI;X-ADDRESS=MacPherson Stadium 38 Nelson Street Mongkok Hong Kong;X-APPLE-RADIUS=500;X-TITLE=38 Nelson Street:geo:114.1728403,22.3188457
END:VEVENT
BEGIN:VEVENT
DTSTART;TZID=Asia/Hong_Kong:20190518T190000
DTEND;TZID=Asia/Hong_Kong:20190518T190000
DTSTAMP:20260421T050847
CREATED:19190111T045612Z
LAST-MODIFIED:20190225T170033Z
UID:10003973-1558206000-1558206000@www.bcmagazine.net
SUMMARY:Yanaginagi
DESCRIPTION:Yanaginagi – Library & Museum Live in Hong Kong\nDate: 7pm\, 18 May\, 2019\nVenue: Kitec\, Music Zone@E-Max\nTickets: $790\, $590 from Cityline
URL:https://www.bcmagazine.net/event/yanaginagi-2019/
LOCATION:KITEC\, Music Zone@E-Max\, KITEC\,‎ 1 Trademart Drive\, Kowloon Bay\, Hong Kong
CATEGORIES:2019,Concert,Music,Performing Arts
ATTACH;FMTTYPE=image/jpeg:https://www.bcmagazine.net/wp-content/uploads/1919/01/yanaginagi-hk-2019.jpg
GEO:22.3239575;114.2037608
X-APPLE-STRUCTURED-LOCATION;VALUE=URI;X-ADDRESS=KITEC Music Zone@E-Max KITEC‎ 1 Trademart Drive Kowloon Bay Hong Kong;X-APPLE-RADIUS=500;X-TITLE=KITEC\,‎ 1 Trademart Drive:geo:114.2037608,22.3239575
END:VEVENT
BEGIN:VEVENT
DTSTART;TZID=Asia/Hong_Kong:20190518T200000
DTEND;TZID=Asia/Hong_Kong:20190518T200000
DTSTAMP:20260421T050848
CREATED:19180805T120338Z
LAST-MODIFIED:20180805T122616Z
UID:10004397-1558209600-1558209600@www.bcmagazine.net
SUMMARY:Fascinating Strings
DESCRIPTION:Fascinating Strings – An Evening with HKCO Huqin Principals\nHK Chinese Orchestra\nDate: 8pm\, 18 May\, 2019\nVenue: HK Cultural Centre\, Studio Theatre\nTickets: $280\, $220 from Urbtix
URL:https://www.bcmagazine.net/event/fascinating-strings-hkco/
LOCATION:HK Cultural Centre\, Studio Theatre\, 10 Salisbury Road\, Tsim Sha Tsui\, Hong Kong
CATEGORIES:2019,Concert,Music,Performing Arts
END:VEVENT
BEGIN:VEVENT
DTSTART;TZID=Asia/Hong_Kong:20190518T200000
DTEND;TZID=Asia/Hong_Kong:20190518T200000
DTSTAMP:20260421T050848
CREATED:19181020T145036Z
LAST-MODIFIED:20181029T081634Z
UID:10004498-1558209600-1558209600@www.bcmagazine.net
SUMMARY:Jason Mraz
DESCRIPTION:Jason Mraz – Good Vibes 2019\nDate: 8pm\, 17 -18 May\, 2019\nVenue: HKCEC\, Hall 5BC\nTickets: $1\, 088\, $888\, $788\, $588 from HKTicketing
URL:https://www.bcmagazine.net/event/jason-mraz-18-05-2019/
LOCATION:HK Convention and Exhibition Centre\, 1 Expo Drive\, Wanchai\, Hong Kong
CATEGORIES:2019,Concert,Music,Performing Arts
ATTACH;FMTTYPE=image/jpeg:https://www.bcmagazine.net/wp-content/uploads/1918/10/jason-marz-2019.jpg
END:VEVENT
BEGIN:VEVENT
DTSTART;TZID=Asia/Hong_Kong:20190518T200000
DTEND;TZID=Asia/Hong_Kong:20190518T200000
DTSTAMP:20260421T050848
CREATED:19190411T044512Z
LAST-MODIFIED:20190424T091200Z
UID:10004767-1558209600-1558209600@www.bcmagazine.net
SUMMARY:Grasshopper
DESCRIPTION:Grasshopper 17385 World Tour\nDate: 8pm\, 18 May\, 2019\nVenue: Cotai Arena\nTickets: $1\,180\, $880\, $580\, $380 from Cotai Ticketing
URL:https://www.bcmagazine.net/event/grasshopper-macau-2019/
LOCATION:Cotai Arena\, Venetian Macao\, Macau
CATEGORIES:2019,Concert,Macau,Music,Performing Arts
ATTACH;FMTTYPE=image/jpeg:https://www.bcmagazine.net/wp-content/uploads/1919/04/grasshopper-2019_detail-banner_1900x800_en.jpg
END:VEVENT
BEGIN:VEVENT
DTSTART;TZID=Asia/Hong_Kong:20190519T200000
DTEND;TZID=Asia/Hong_Kong:20190519T200000
DTSTAMP:20260421T050848
CREATED:19190411T044512Z
LAST-MODIFIED:20190515T185152Z
UID:10004797-1558296000-1558296000@www.bcmagazine.net
SUMMARY:Joker Xue
DESCRIPTION:Joker Xue – Skyscraper World Tour\nDate: 8pm\, 19 May\, 2019\nVenue: AsiaWorld-Expo\, Arena\nTickets: $1\,097\, $897\, $597 from HKTicketing
URL:https://www.bcmagazine.net/event/joker-xue-hk-2019/
LOCATION:AsiaWorld-Expo\, Arena\, Cheong Wing Road\, Chek Lap Kok\, Lantau\, Hong Kong
CATEGORIES:2019,Concert,Music,Performing Arts
GEO:22.3217383;113.9402012
X-APPLE-STRUCTURED-LOCATION;VALUE=URI;X-ADDRESS=AsiaWorld-Expo Arena Cheong Wing Road Chek Lap Kok Lantau Hong Kong;X-APPLE-RADIUS=500;X-TITLE=Cheong Wing Road\, Chek Lap Kok:geo:113.9402012,22.3217383
END:VEVENT
BEGIN:VEVENT
DTSTART;TZID=Asia/Hong_Kong:20190519T200000
DTEND;TZID=Asia/Hong_Kong:20190519T200000
DTSTAMP:20260421T050848
CREATED:19190411T044512Z
LAST-MODIFIED:20190414T002327Z
UID:10004756-1558296000-1558296000@www.bcmagazine.net
SUMMARY:Regallily × Helsinki Lambda Club
DESCRIPTION:Regallily × Helsinki Lambda Club – Our Blueberry Night\nDate: 8pm\, 19 May\, 2019\nVenue: This Town Needs (TTN)\nTickets: $580\, $480\, $380 (advance)
URL:https://www.bcmagazine.net/event/regallily-x-helsinki-lambda-club-hk-2019/
LOCATION:This Town Needs (TTN)\, 1/F Ocean One\, 6 Shung Shun Street\, Yau Tong\, Hong Kong
CATEGORIES:2019,Concert,Music,Performing Arts
ATTACH;FMTTYPE=image/jpeg:https://www.bcmagazine.net/wp-content/uploads/2019/04/Regallily-×-Helsinki-Lambda-Club-hk-2019.jpg
GEO:22.292861;114.23782
X-APPLE-STRUCTURED-LOCATION;VALUE=URI;X-ADDRESS=This Town Needs (TTN) 1/F Ocean One 6 Shung Shun Street Yau Tong Hong Kong;X-APPLE-RADIUS=500;X-TITLE=1/F Ocean One\, 6 Shung Shun Street:geo:114.23782,22.292861
END:VEVENT
END:VCALENDAR