BEGIN:VCALENDAR
VERSION:2.0
PRODID:-//bc magazine - ECPv6.15.20//NONSGML v1.0//EN
CALSCALE:GREGORIAN
METHOD:PUBLISH
X-WR-CALNAME:bc magazine
X-ORIGINAL-URL:https://www.bcmagazine.net
X-WR-CALDESC:Events for bc magazine
REFRESH-INTERVAL;VALUE=DURATION:PT1H
X-Robots-Tag:noindex
X-PUBLISHED-TTL:PT1H
BEGIN:VTIMEZONE
TZID:Asia/Hong_Kong
BEGIN:STANDARD
TZOFFSETFROM:+0800
TZOFFSETTO:+0800
TZNAME:HKT
DTSTART:20180101T000000
END:STANDARD
END:VTIMEZONE
BEGIN:VEVENT
DTSTART;VALUE=DATE:20190921
DTEND;VALUE=DATE:20191125
DTSTAMP:20260421T051533
CREATED:19190819T041350Z
LAST-MODIFIED:20190923T105324Z
UID:10004892-1569024000-1574639999@www.bcmagazine.net
SUMMARY:Russian Culture Festival
DESCRIPTION:Russian Culture Festival\nDate: 21 September -24 November\, 2019\nVenue: various\nTickets: tbc\nMore info:\nwww.facebook.com/russianculturefestivalhk
URL:https://www.bcmagazine.net/event/russian-culture-festival-2019/
CATEGORIES:2019,Exhibition,Film,Performing Arts
ATTACH;FMTTYPE=image/jpeg:https://www.bcmagazine.net/wp-content/uploads/2019/08/russian-autumn-culture-festival-2019.jpg
END:VEVENT
BEGIN:VEVENT
DTSTART;VALUE=DATE:20190928
DTEND;VALUE=DATE:20191103
DTSTAMP:20260421T051533
CREATED:20190920T041525Z
LAST-MODIFIED:20190930T123930Z
UID:10006602-1569628800-1572739199@www.bcmagazine.net
SUMMARY:Pink Season
DESCRIPTION:Pink Season\nDate: 28 September – 2 November\, 2019\nVenue: various\nTickets: various\nMore info:\nwww.facebook.com/PinkSeason.HK \nSep 28 10:00 – 02:00 – Launch Party 開幕派對\nSep 29 10:00 – 18:00 – Bike Ride 單車騎行\nSep 29 18:00 – 20:00 – Rainbow China Forum 彩虹中國論壇\nOct 3 20:00 – 22:00 – Comedy Night 喜劇之夜\nOct 4 19:30 – 21:30 – Drag Workshop#1 變妝工作坊#1\nOct 5 14:00 – 18:00 Health Forum 健康講座\nOct 5 18:00 – 20:00 – Drag Workshop#2 變妝工作坊#2\nOct 8 19:30 – 22:30 – Quiz Night 答題挑戰\nOct 9 19:00 – 21:00 – How To Be An Intersectional Ally 成為盟友\nOct 10 19:00 – 21:00 – Yoga For All 一起瑜伽\nOct 15 20:00 – 23:00 – Variety Show 達人秀\nOct 16 19:30 – 22:00 – Wine Pairing Dinner 配酒晚宴\nOct 17 19:30 – 22:00 – Book Launch 新書發佈\nOct 19 10:00 – 18:00 – Urban Race 城市賽跑\nOct 19 18:00 – 20:00 – Drag Workshop#3 變妝工作坊#3\nOct 22 20:00 – 22:00 – Band Night 樂隊之夜\nOct 23 19:00 – 22:00 – Money Forum 金錢研討會\nOct 24 19:00 – 22:00 – Happiness Program#1\nOct 25 19:00 – 22:00 – Happiness Program#2\nOct 26 09:00 – 12:00 – Happiness Program#3\nOct 26 13:00 – 17:00 Career Day 職業日\nOct 27 18:00 – 20:00 LGBT+ and Christianity LGBT 與基督信仰講座\nOct 29 19:00 – 21:00 Yoga For All 一起瑜珈\nOct 30 19:00 – 21:00 Marriage Equality Forum 婚姻平權研討會
URL:https://www.bcmagazine.net/event/pink-season-2019/
CATEGORIES:2019,Concert,Cultural Festival,Exhibition,Food,LGBT,Lifestyle,Music,Nightlife,Performing Arts
ATTACH;FMTTYPE=image/jpeg:https://www.bcmagazine.net/wp-content/uploads/1916/04/pink-season-2019.jpg
END:VEVENT
BEGIN:VEVENT
DTSTART;VALUE=DATE:20191029
DTEND;VALUE=DATE:20191118
DTSTAMP:20260421T051533
CREATED:19191021T075302Z
LAST-MODIFIED:20191021T080329Z
UID:10004900-1572307200-1574035199@www.bcmagazine.net
SUMMARY:Hong Kong Asian Film Festival
DESCRIPTION:16th Hong Kong Asian Film Festival\nDate: 29 October – 17 November\, 2019\nVenues: Broadway Cinematheque\, Broadway The One\, My Cinema Yoho Mall\, AMC Pacific Place\, Palace IFC\, Movie Movie Citiplaza\, Premiere Elements\nTickets: www.cinema.com.hk
URL:https://www.bcmagazine.net/event/hong-kong-asian-film-festival-2019/
CATEGORIES:2019,Cultural Festival,Film,Performing Arts
ATTACH;FMTTYPE=image/jpeg:https://www.bcmagazine.net/wp-content/uploads/2019/10/AFF2019-poster.jpg
END:VEVENT
BEGIN:VEVENT
DTSTART;VALUE=DATE:20191101
DTEND;VALUE=DATE:20191111
DTSTAMP:20260421T051533
CREATED:20190820T025116Z
LAST-MODIFIED:20190828T214000Z
UID:10006597-1572566400-1573430399@www.bcmagazine.net
SUMMARY:HK International Literary Festival
DESCRIPTION:Hong Kong International Literary Festival\nDate: 1-10 November\, 2019\nVenue: various\nTickets: various\nMore info:\nFull festival schedule www.festival.org.hk/events/
URL:https://www.bcmagazine.net/event/hk-international-literary-festival-2019/
CATEGORIES:2019,Cultural Festival,Performing Arts
ATTACH;FMTTYPE=image/jpeg:https://www.bcmagazine.net/wp-content/uploads/1915/09/hkilf-2019.jpg
END:VEVENT
BEGIN:VEVENT
DTSTART;TZID=Asia/Hong_Kong:20191101T200000
DTEND;TZID=Asia/Hong_Kong:20191101T200000
DTSTAMP:20260421T051533
CREATED:19180716T124702Z
LAST-MODIFIED:20191015T121349Z
UID:10004332-1572638400-1572638400@www.bcmagazine.net
SUMMARY:Carmen | Hong Kong - Postponed to 2020
DESCRIPTION:Carmen | Hong Kong\nMore Than Musical\nDate: 1-2 November\, 2019\nVenue: The Box\, Freespace\, Art Park\, West Kowloon Cultural District\nTickets: $850\, $550\, $350\, $250\nMore info:\n8pm – 1 November\, 2019\n4:30pm – 2 November\, 2019
URL:https://www.bcmagazine.net/event/carmen-hong-kong-01-11-2019/
LOCATION:West Kowloon Cultural District\, Freespace\, The Box\, West Kowloon\, Hong Kong
CATEGORIES:2019,Music,Opera,Performing Arts
ATTACH;FMTTYPE=image/jpeg:https://www.bcmagazine.net/wp-content/uploads/1918/07/carmen-hk.jpg
END:VEVENT
BEGIN:VEVENT
DTSTART;TZID=Asia/Hong_Kong:20191101T200000
DTEND;TZID=Asia/Hong_Kong:20191101T200000
DTSTAMP:20260421T051533
CREATED:19190409T044512Z
LAST-MODIFIED:20190924T043232Z
UID:10004011-1572638400-1572638400@www.bcmagazine.net
SUMMARY:Myavi
DESCRIPTION:Myavi – No Sleep Till Tokyo\nDate: 8pm\, 1 November\, 2019\nVenue: Kitec\, Music Zone@E-Max\nTickets: $990\, $890\, $690 from Cityline
URL:https://www.bcmagazine.net/event/myavi-2019/
LOCATION:KITEC\, Music Zone@E-Max\, KITEC\,‎ 1 Trademart Drive\, Kowloon Bay\, Hong Kong
CATEGORIES:2019,Concert,Music,Performing Arts
GEO:22.3239575;114.2037608
X-APPLE-STRUCTURED-LOCATION;VALUE=URI;X-ADDRESS=KITEC Music Zone@E-Max KITEC‎ 1 Trademart Drive Kowloon Bay Hong Kong;X-APPLE-RADIUS=500;X-TITLE=KITEC\,‎ 1 Trademart Drive:geo:114.2037608,22.3239575
END:VEVENT
BEGIN:VEVENT
DTSTART;TZID=Asia/Hong_Kong:20191102T100000
DTEND;TZID=Asia/Hong_Kong:20191102T223000
DTSTAMP:20260421T051533
CREATED:19150914T034205Z
LAST-MODIFIED:20220907T004429Z
UID:10000365-1572688800-1572733800@www.bcmagazine.net
SUMMARY:Hong Kong Jewish Film Festival
DESCRIPTION:Twentieth Hong Kong Jewish Film Festival\nDate: 2-10 November\, 2019\nVenue: Asia Society Hong Kong Center\nTickets: $100\nMore info: www.hkjff.org
URL:https://www.bcmagazine.net/event/hong-kong-jewish-film-festival-2019/
LOCATION:Asia Society Hong Kong Center\, 9 Justice Drive\, Admiralty\, Hong Kong
CATEGORIES:2019,Cultural Festival,Film,Performing Arts
ATTACH;FMTTYPE=image/png:https://www.bcmagazine.net/wp-content/uploads/2015/09/hkjff2019.png
END:VEVENT
BEGIN:VEVENT
DTSTART;TZID=Asia/Hong_Kong:20191102T163000
DTEND;TZID=Asia/Hong_Kong:20191102T163000
DTSTAMP:20260421T051533
CREATED:19180716T124702Z
LAST-MODIFIED:20191015T121340Z
UID:10004333-1572712200-1572712200@www.bcmagazine.net
SUMMARY:Carmen | Hong Kong - Postponed to 2020
DESCRIPTION:Carmen | Hong Kong\nMore Than Musical\nDate: 1-2 November\, 2019\nVenue: The Box\, Freespace\, Art Park\, West Kowloon Cultural District\nTickets: $850\, $550\, $350\, $250\nMore info:\n8pm – 1 November\, 2019\n4:30pm – 2 November\, 2019
URL:https://www.bcmagazine.net/event/carmen-hong-kong-02-11-2019/
LOCATION:West Kowloon Cultural District\, Freespace\, The Box\, West Kowloon\, Hong Kong
CATEGORIES:2019,Music,Opera,Performing Arts
ATTACH;FMTTYPE=image/jpeg:https://www.bcmagazine.net/wp-content/uploads/1918/07/carmen-hk.jpg
END:VEVENT
BEGIN:VEVENT
DTSTART;TZID=Asia/Hong_Kong:20191102T200000
DTEND;TZID=Asia/Hong_Kong:20191102T200000
DTSTAMP:20260421T051533
CREATED:19190724T042957Z
LAST-MODIFIED:20190724T043026Z
UID:10004867-1572724800-1572724800@www.bcmagazine.net
SUMMARY:Paul Ogata
DESCRIPTION:Paul Ogata\nDate: 8pm\, 2 November\, 2019\nVenue: Cyberport 3\nTickets: $388 from Ticketflap
URL:https://www.bcmagazine.net/event/paul-ogata-02-11-2019/
LOCATION:Cyberport 3\, 3 Cyberport Road\, Telegraph Bay\, Hong Kong
CATEGORIES:2019,Comedy,Performing Arts
ATTACH;FMTTYPE=image/jpeg:https://www.bcmagazine.net/wp-content/uploads/2019/07/paul-ogata-hk-2019.jpg
END:VEVENT
BEGIN:VEVENT
DTSTART;TZID=Asia/Hong_Kong:20191103T180000
DTEND;TZID=Asia/Hong_Kong:20191103T180000
DTSTAMP:20260421T051533
CREATED:19190409T044512Z
LAST-MODIFIED:20190924T043042Z
UID:10004008-1572804000-1572804000@www.bcmagazine.net
SUMMARY:Konomi Suzuki
DESCRIPTION:Konomi Suzuki\nDate: 6pm\, 3 November\, 2019\nVenue: Kitec\, Music Zone@E-Max\nTickets: $790\, $590 from Cityline
URL:https://www.bcmagazine.net/event/konomi-suzuki-2019/
LOCATION:KITEC\, Music Zone@E-Max\, KITEC\,‎ 1 Trademart Drive\, Kowloon Bay\, Hong Kong
CATEGORIES:2019,Concert,Music,Performing Arts
GEO:22.3239575;114.2037608
X-APPLE-STRUCTURED-LOCATION;VALUE=URI;X-ADDRESS=KITEC Music Zone@E-Max KITEC‎ 1 Trademart Drive Kowloon Bay Hong Kong;X-APPLE-RADIUS=500;X-TITLE=KITEC\,‎ 1 Trademart Drive:geo:114.2037608,22.3239575
END:VEVENT
BEGIN:VEVENT
DTSTART;VALUE=DATE:20191109
DTEND;VALUE=DATE:20191111
DTSTAMP:20260421T051533
CREATED:19160429T221525Z
LAST-MODIFIED:20190926T100018Z
UID:10000493-1573257600-1573430399@www.bcmagazine.net
SUMMARY:Freespace Jazz Fest
DESCRIPTION:Freespace Jazz Fest\nGoGo Penguin\, Robert Glasper Trio\nDate: 9-10 November\, 2019\nVenue: West Kowloon Cultural District\, Freespace and Art Park\nTickets: $720\, $520\, $420\, Free
URL:https://www.bcmagazine.net/event/freespace-jazz-fest-2019/
LOCATION:West Kowloon Culture District\, West Kowloon Waterfront Promenade\, Hong Kong
CATEGORIES:2019,Concert,Free,Jazz,Music,Performing Arts
ATTACH;FMTTYPE=image/jpeg:https://www.bcmagazine.net/wp-content/uploads/1916/04/freespace-jazz-2019.jpg
GEO:22.302243;114.155596
X-APPLE-STRUCTURED-LOCATION;VALUE=URI;X-ADDRESS=West Kowloon Culture District West Kowloon Waterfront Promenade Hong Kong;X-APPLE-RADIUS=500;X-TITLE=West Kowloon Waterfront Promenade:geo:114.155596,22.302243
END:VEVENT
BEGIN:VEVENT
DTSTART;TZID=Asia/Hong_Kong:20191109T181500
DTEND;TZID=Asia/Hong_Kong:20191109T181500
DTSTAMP:20260421T051533
CREATED:19150914T034205Z
LAST-MODIFIED:20191022T061821Z
UID:10000376-1573323300-1573323300@www.bcmagazine.net
SUMMARY:Contempo Lion Dance
DESCRIPTION:Contempo Lion Dance\nDate: 6:15pm\, 9-10 November\, 2019\nVenue: Haw Par Mansion\nTickets: Free with registration
URL:https://www.bcmagazine.net/event/contempo-lion-dance-09-11-2019/
LOCATION:Haw Par Mansion\, 15A Tai Hang Road\, Tai Hang\, Hong Kong
CATEGORIES:2019,Dance,Free,Performing Arts
ATTACH;FMTTYPE=image/jpeg:https://www.bcmagazine.net/wp-content/uploads/1915/09/Contempo-Lion-Dance-2019.jpg
END:VEVENT
BEGIN:VEVENT
DTSTART;TZID=Asia/Hong_Kong:20191109T190000
DTEND;TZID=Asia/Hong_Kong:20191109T190000
DTSTAMP:20260421T051533
CREATED:19190411T044512Z
LAST-MODIFIED:20190925T150034Z
UID:10004833-1573326000-1573326000@www.bcmagazine.net
SUMMARY:Itzy
DESCRIPTION:Itzy\nDate: 7pm\, 9 November\, 2019\nVenue: Broadway Theatre\nTickets: $1\,488\, $1\,088\, $888\, $588 from Cityline
URL:https://www.bcmagazine.net/event/itzy-macau-2019/
LOCATION:Broadway Macau\, Avenida Marginal Flor de Lotus\, Cotai\, Macau
CATEGORIES:2019,Concert,Macau,Music,Performing Arts
ATTACH;FMTTYPE=image/jpeg:https://www.bcmagazine.net/wp-content/uploads/1919/04/ITZY-Macau-Poster-Final-s.jpg
END:VEVENT
BEGIN:VEVENT
DTSTART;TZID=Asia/Hong_Kong:20191109T200000
DTEND;TZID=Asia/Hong_Kong:20191109T200000
DTSTAMP:20260421T051533
CREATED:19190411T044512Z
LAST-MODIFIED:20190924T053014Z
UID:10004830-1573329600-1573329600@www.bcmagazine.net
SUMMARY:Cyndi Wang
DESCRIPTION:Cyndi Wang\nDate: 8pm\, 9 November\, 2019\nVenue: Cotai Arena\nTickets: $1\,380\, $980\, $780\, $580\, $380 from Cotai Ticketing
URL:https://www.bcmagazine.net/event/cyndi-wang-macau-2019/
LOCATION:Cotai Arena\, Venetian Macao\, Macau
CATEGORIES:2019,Concert,Macau,Music,Performing Arts
END:VEVENT
BEGIN:VEVENT
DTSTART;TZID=Asia/Hong_Kong:20191109T213000
DTEND;TZID=Asia/Hong_Kong:20191109T213000
DTSTAMP:20260421T051533
CREATED:19160429T221525Z
LAST-MODIFIED:20190926T100442Z
UID:10000495-1573335000-1573335000@www.bcmagazine.net
SUMMARY:GoGo Penguin
DESCRIPTION:GoGo Penguin\nFreespace Jazz Fest\nDate: 9:30pm\, 9 November\, 2019\nVenue: West Kowloon Cultural District\, The Box\nTickets: $520
URL:https://www.bcmagazine.net/event/gogo-penguin-2019/
LOCATION:West Kowloon Cultural District\, Freespace\, The Box\, West Kowloon\, Hong Kong
CATEGORIES:2019,Concert,Free,Jazz,Music,Performing Arts
ATTACH;FMTTYPE=image/jpeg:https://www.bcmagazine.net/wp-content/uploads/1916/04/GoGo-Penguin.jpg
END:VEVENT
BEGIN:VEVENT
DTSTART;TZID=Asia/Hong_Kong:20191110T181500
DTEND;TZID=Asia/Hong_Kong:20191110T181500
DTSTAMP:20260421T051533
CREATED:19150914T034205Z
LAST-MODIFIED:20191022T061813Z
UID:10000387-1573409700-1573409700@www.bcmagazine.net
SUMMARY:Contempo Lion Dance
DESCRIPTION:Contempo Lion Dance\nKwok’s Lion Kung-Fu & Dragon Lion Dance Team\nDate: 6:15pm\, 9-10 November\, 2019\nVenue: Haw Par Mansion\nTickets: Free with registration
URL:https://www.bcmagazine.net/event/contempo-lion-dance-10-11-2019/
LOCATION:Haw Par Mansion\, 15A Tai Hang Road\, Tai Hang\, Hong Kong
CATEGORIES:2019,Dance,Free,Performing Arts
ATTACH;FMTTYPE=image/jpeg:https://www.bcmagazine.net/wp-content/uploads/1915/09/Contempo-Lion-Dance-2019.jpg
END:VEVENT
BEGIN:VEVENT
DTSTART;TZID=Asia/Hong_Kong:20191110T213000
DTEND;TZID=Asia/Hong_Kong:20191110T213000
DTSTAMP:20260421T051533
CREATED:19160429T221525Z
LAST-MODIFIED:20190926T100717Z
UID:10000496-1573421400-1573421400@www.bcmagazine.net
SUMMARY:Robert Glasper Trio
DESCRIPTION:Robert Glasper Trio\nFreespace Jazz Fest\nDate: 9:30pm\, 10 November\, 2019\nVenue: West Kowloon Cultural District\, The Box\nTickets: $720
URL:https://www.bcmagazine.net/event/robert-glasper-trio-2019/
LOCATION:West Kowloon Cultural District\, Freespace\, The Box\, West Kowloon\, Hong Kong
CATEGORIES:2019,Concert,Free,Jazz,Music,Performing Arts
ATTACH;FMTTYPE=image/jpeg:https://www.bcmagazine.net/wp-content/uploads/1916/04/Robert-Glasper-Trio.jpg
END:VEVENT
BEGIN:VEVENT
DTSTART;TZID=Asia/Hong_Kong:20191113T200000
DTEND;TZID=Asia/Hong_Kong:20191113T200000
DTSTAMP:20260421T051533
CREATED:19170909T021037Z
LAST-MODIFIED:20181127T002904Z
UID:10003423-1573675200-1573675200@www.bcmagazine.net
SUMMARY:Peel Street Poetry
DESCRIPTION:Peel Street Poetry is an open mic poetry night at Social Room. It runs every Wednesdays of the month except the first and last. The environment is friendly and they love new performers\, so come share your poetry or just listen along to some of Hong Kong’s sharpest poetic talents. \nPeel Street Poetry Open Mic\nDate: 2nd\, 3rd (and 4th) Wednesdays of the month\nVenue: Social Room\nTickets: Free\nMore info:\nwww.peelstreetpoetry.com
URL:https://www.bcmagazine.net/event/peel-street-poetry/2019-11-13/
LOCATION:Social Room\, 74-78 Stanley Street \, Central\, Hong Kong
CATEGORIES:2018,2019,Free,Performing Arts,Poetry
GEO:22.2834184;114.1544925
X-APPLE-STRUCTURED-LOCATION;VALUE=URI;X-ADDRESS=Social Room 74-78 Stanley Street  Central Hong Kong;X-APPLE-RADIUS=500;X-TITLE=74-78 Stanley Street:geo:114.1544925,22.2834184
END:VEVENT
BEGIN:VEVENT
DTSTART;TZID=Asia/Hong_Kong:20191113T200000
DTEND;TZID=Asia/Hong_Kong:20191113T200000
DTSTAMP:20260421T051533
CREATED:19190409T044512Z
LAST-MODIFIED:20190924T041916Z
UID:10003999-1573675200-1573675200@www.bcmagazine.net
SUMMARY:My Little Airport
DESCRIPTION:My Little Airport – The Taste of Tears\nDate: 8pm\, 15 November\, 2019\nVenue: Kitec\, Star Hall\nTickets: $480 from HKTicketing
URL:https://www.bcmagazine.net/event/my-little-airport-15-11-2019/
LOCATION:KITEC\, Star Hall\, KITEC\, 1 Trademart Drive\, Kowloon Bay\, Hong Kong
CATEGORIES:2019,Concert,Music,Performing Arts
GEO:22.3239575;114.2037608
X-APPLE-STRUCTURED-LOCATION;VALUE=URI;X-ADDRESS=KITEC Star Hall KITEC 1 Trademart Drive Kowloon Bay Hong Kong;X-APPLE-RADIUS=500;X-TITLE=KITEC\, 1 Trademart Drive:geo:114.2037608,22.3239575
END:VEVENT
BEGIN:VEVENT
DTSTART;TZID=Asia/Hong_Kong:20191113T200000
DTEND;TZID=Asia/Hong_Kong:20191113T200000
DTSTAMP:20260421T051533
CREATED:20191113T044512Z
LAST-MODIFIED:20191113T094035Z
UID:10006605-1573675200-1573675200@www.bcmagazine.net
SUMMARY:Sekai No Owari - Cancelled
DESCRIPTION:Sekai No Owari – The Colors\nDate: 8pm\, 13 November\, 2019\nVenue: Kitec\, Star Hall\nTickets: $1\,088\, $888\, $688 from HKTicketing
URL:https://www.bcmagazine.net/event/sekai-no-owari-2019/
LOCATION:KITEC\, Star Hall\, KITEC\, 1 Trademart Drive\, Kowloon Bay\, Hong Kong
CATEGORIES:2019,Concert,Music,Performing Arts
GEO:22.3239575;114.2037608
X-APPLE-STRUCTURED-LOCATION;VALUE=URI;X-ADDRESS=KITEC Star Hall KITEC 1 Trademart Drive Kowloon Bay Hong Kong;X-APPLE-RADIUS=500;X-TITLE=KITEC\, 1 Trademart Drive:geo:114.2037608,22.3239575
END:VEVENT
BEGIN:VEVENT
DTSTART;VALUE=DATE:20191114
DTEND;VALUE=DATE:20191125
DTSTAMP:20260421T051533
CREATED:19190819T041350Z
LAST-MODIFIED:20190923T104833Z
UID:10004891-1573689600-1574639999@www.bcmagazine.net
SUMMARY:Russian Resurrection Film Festival
DESCRIPTION:Russian Resurrection Film Festival\nDate: 14-24 November\, 2019\nVenue: various\nTickets: tbc
URL:https://www.bcmagazine.net/event/russian-resurrection-film-festival-2019/
CATEGORIES:2019,Exhibition,Film,Performing Arts
ATTACH;FMTTYPE=image/jpeg:https://www.bcmagazine.net/wp-content/uploads/1919/08/Russian-Resurrection-Film-Festival-2019.jpg
END:VEVENT
BEGIN:VEVENT
DTSTART;TZID=Asia/Hong_Kong:20191114T200000
DTEND;TZID=Asia/Hong_Kong:20191114T200000
DTSTAMP:20260421T051533
CREATED:19160429T221525Z
LAST-MODIFIED:20190930T105853Z
UID:10001593-1573761600-1573761600@www.bcmagazine.net
SUMMARY:The Marías
DESCRIPTION:The Marías\nDate: 8pm\, 14 November\, 2019\nVenue: This Town Needs (TTN)\nTickets: $450\, $380 (advance) from Ticketflap
URL:https://www.bcmagazine.net/event/the-marias-hk-2019/
LOCATION:This Town Needs (TTN)\, 1/F Ocean One\, 6 Shung Shun Street\, Yau Tong\, Hong Kong
CATEGORIES:2019,Concert,Music,Performing Arts
ATTACH;FMTTYPE=image/jpeg:https://www.bcmagazine.net/wp-content/uploads/1916/04/The-Marías-hk-2019.jpg
GEO:22.292861;114.23782
X-APPLE-STRUCTURED-LOCATION;VALUE=URI;X-ADDRESS=This Town Needs (TTN) 1/F Ocean One 6 Shung Shun Street Yau Tong Hong Kong;X-APPLE-RADIUS=500;X-TITLE=1/F Ocean One\, 6 Shung Shun Street:geo:114.23782,22.292861
END:VEVENT
BEGIN:VEVENT
DTSTART;TZID=Asia/Hong_Kong:20191114T200000
DTEND;TZID=Asia/Hong_Kong:20191114T200000
DTSTAMP:20260421T051533
CREATED:19160429T221525Z
LAST-MODIFIED:20190930T104653Z
UID:10000498-1573761600-1573761600@www.bcmagazine.net
SUMMARY:Naia Izumi
DESCRIPTION:Naia Izumi\nDate: 8pm\, 14 November\, 2019\nVenue: Terrible Baby\nTickets: $180 from Ticketflap
URL:https://www.bcmagazine.net/event/naia-izumi-2019/
LOCATION:Terrible Baby\, 4/F\, Eaton HK\, 380 Nathan Road\, Jordan\, Hong Kong
CATEGORIES:2019,Concert,Music,Performing Arts
ATTACH;FMTTYPE=image/jpeg:https://www.bcmagazine.net/wp-content/uploads/1916/04/Naia-Izumi-hk-2019.jpg
END:VEVENT
BEGIN:VEVENT
DTSTART;TZID=Asia/Hong_Kong:20191120T200000
DTEND;TZID=Asia/Hong_Kong:20191120T200000
DTSTAMP:20260421T051533
CREATED:20230114T165259Z
LAST-MODIFIED:20230114T165259Z
UID:10003447-1574280000-1574280000@www.bcmagazine.net
SUMMARY:Peel Street Poetry
DESCRIPTION:Peel Street Poetry is an open mic poetry night at Social Room. It runs every Wednesdays of the month except the first and last. The environment is friendly and they love new performers\, so come share your poetry or just listen along to some of Hong Kong’s sharpest poetic talents. \nPeel Street Poetry Open Mic\nDate: 2nd\, 3rd (and 4th) Wednesdays of the month\nVenue: Social Room\nTickets: Free\nMore info:\nwww.peelstreetpoetry.com
URL:https://www.bcmagazine.net/event/peel-street-poetry/2019-11-20/
LOCATION:Social Room\, 74-78 Stanley Street \, Central\, Hong Kong
CATEGORIES:2018,2019,Free,Performing Arts,Poetry
GEO:22.2834184;114.1544925
X-APPLE-STRUCTURED-LOCATION;VALUE=URI;X-ADDRESS=Social Room 74-78 Stanley Street  Central Hong Kong;X-APPLE-RADIUS=500;X-TITLE=74-78 Stanley Street:geo:114.1544925,22.2834184
END:VEVENT
BEGIN:VEVENT
DTSTART;VALUE=DATE:20191121
DTEND;VALUE=DATE:20191125
DTSTAMP:20260421T051533
CREATED:20171010T032020Z
LAST-MODIFIED:20191021T081129Z
UID:10006448-1574294400-1574639999@www.bcmagazine.net
SUMMARY:Lumieres
DESCRIPTION:Lumieres\nDate: 21-24 November & 28 November – 1 December\, 2019\nVenue: Across Hong Kong\nTickets: Free
URL:https://www.bcmagazine.net/event/lumieres-nov-2019/
CATEGORIES:2019,Cultural Festival,Free,Lifestyle,Performing Arts
ATTACH;FMTTYPE=image/jpeg:https://www.bcmagazine.net/wp-content/uploads/2017/10/lumieres-2019.jpg
END:VEVENT
BEGIN:VEVENT
DTSTART;VALUE=DATE:20191122
DTEND;VALUE=DATE:20191125
DTSTAMP:20260421T051533
CREATED:19171225T085402Z
LAST-MODIFIED:20200709T121541Z
UID:10003701-1574380800-1574639999@www.bcmagazine.net
SUMMARY:Clockenflap
DESCRIPTION:Clockenflap\nDate: 22-24 November\, 2019\nVenue: Central Harbourfront\nTickets: $1\,410\, $890\, $820 (early bird) from Ticketflap
URL:https://www.bcmagazine.net/event/clockenflap-2019/
LOCATION:Central Harbourfront\,  9 Lung Wo Road\, Central\, Hong Kong
CATEGORIES:2019,Concert,Music,Performing Arts
GEO:22.2826223;114.164346
X-APPLE-STRUCTURED-LOCATION;VALUE=URI;X-ADDRESS=Central Harbourfront  9 Lung Wo Road Central Hong Kong;X-APPLE-RADIUS=500;X-TITLE=9 Lung Wo Road:geo:114.164346,22.2826223
END:VEVENT
BEGIN:VEVENT
DTSTART;VALUE=DATE:20191122
DTEND;VALUE=DATE:20191125
DTSTAMP:20260421T051533
CREATED:20241020T085802Z
LAST-MODIFIED:20241021T120241Z
UID:10010174-1574380800-1574639999@www.bcmagazine.net
SUMMARY:HypeFest
DESCRIPTION:HypeFest\nAdoy\, Awich\, d4vd\, Dean\, Hypebeast\, Hype Fest\, Justice\, Milli\,  N.Y.P.D\, One or Eight\, Peggy Gou\, Rich the Kid\, So!Yoon!\, Sunkis\nDate: 9-10 November\, 2024\nVenue: Central Harbourfront\nTickets: $988\, $680
URL:https://www.bcmagazine.net/event/hypefest-2024-hong-kong/
LOCATION:Central Harbourfront\,  9 Lung Wo Road\, Central\, Hong Kong
CATEGORIES:2024,Concert,Music,Nightlife,Performing Arts
ATTACH;FMTTYPE=image/jpeg:https://www.bcmagazine.net/wp-content/uploads/1917/12/Hype-Fest-Hong-Kong-2024.jpeg
GEO:22.2826223;114.164346
X-APPLE-STRUCTURED-LOCATION;VALUE=URI;X-ADDRESS=Central Harbourfront  9 Lung Wo Road Central Hong Kong;X-APPLE-RADIUS=500;X-TITLE=9 Lung Wo Road:geo:114.164346,22.2826223
END:VEVENT
BEGIN:VEVENT
DTSTART;VALUE=DATE:20191128
DTEND;VALUE=DATE:20191202
DTSTAMP:20260421T051533
CREATED:20171010T032020Z
LAST-MODIFIED:20191021T081126Z
UID:10006449-1574899200-1575244799@www.bcmagazine.net
SUMMARY:Lumieres
DESCRIPTION:Lumieres\nDate: 21-24 November & 28 November – 1 December 2019\nVenue: Across Hong Kong\nTickets: Free
URL:https://www.bcmagazine.net/event/lumieres-2019/
CATEGORIES:2019,Cultural Festival,Free,Lifestyle,Performing Arts
ATTACH;FMTTYPE=image/jpeg:https://www.bcmagazine.net/wp-content/uploads/2017/10/lumieres-2019.jpg
END:VEVENT
BEGIN:VEVENT
DTSTART;TZID=Asia/Hong_Kong:20191129T193000
DTEND;TZID=Asia/Hong_Kong:20191129T193000
DTSTAMP:20260421T051533
CREATED:19181023T145036Z
LAST-MODIFIED:20190807T115012Z
UID:10004553-1575055800-1575055800@www.bcmagazine.net
SUMMARY:Sales
DESCRIPTION:Sales\nDate: 7:30pm\, 29 November\, 2019\nVenue: This Town Needs\nTickets: $360 from Ticketflap
URL:https://www.bcmagazine.net/event/sales-hk-2019/
LOCATION:This Town Needs (TTN)\, 1/F Ocean One\, 6 Shung Shun Street\, Yau Tong\, Hong Kong
CATEGORIES:2019,Concert,Music,Performing Arts
ATTACH;FMTTYPE=image/jpeg:https://www.bcmagazine.net/wp-content/uploads/1918/10/sales-hk-2019.jpg
GEO:22.292861;114.23782
X-APPLE-STRUCTURED-LOCATION;VALUE=URI;X-ADDRESS=This Town Needs (TTN) 1/F Ocean One 6 Shung Shun Street Yau Tong Hong Kong;X-APPLE-RADIUS=500;X-TITLE=1/F Ocean One\, 6 Shung Shun Street:geo:114.23782,22.292861
END:VEVENT
BEGIN:VEVENT
DTSTART;TZID=Asia/Hong_Kong:20191130T193000
DTEND;TZID=Asia/Hong_Kong:20191130T193000
DTSTAMP:20260421T051533
CREATED:19190328T044512Z
LAST-MODIFIED:20191109T135732Z
UID:10004746-1575142200-1575142200@www.bcmagazine.net
SUMMARY:DragJam 5 - Just Because Its Monster
DESCRIPTION:DragJam 5 – Just Because Its Monster\nDate: 7:30pm\, 30 November\, 2019\nVenue: The Hive Spring\, 3/F\, Remex Centre\, 42 Wong Chuk Hang Road\, Wong Chuk Hang\nTickets: $150
URL:https://www.bcmagazine.net/event/dragjam-5-just-because-its-monster/
LOCATION:The Hive Spring\, 3/F\, Remex Centre\, 42 Wong Chuk Hang Road\, Wong Chuk Hang\, Hong Kong
CATEGORIES:2019,LGBT,Lifestyle,Music,Nightlife,Performing Arts,Theatre
ATTACH;FMTTYPE=image/jpeg:https://www.bcmagazine.net/wp-content/uploads/2019/03/dragjam5.jpg
END:VEVENT
END:VCALENDAR