BEGIN:VCALENDAR
VERSION:2.0
PRODID:-//bc magazine - ECPv6.15.20//NONSGML v1.0//EN
CALSCALE:GREGORIAN
METHOD:PUBLISH
X-WR-CALNAME:bc magazine
X-ORIGINAL-URL:https://www.bcmagazine.net
X-WR-CALDESC:Events for bc magazine
REFRESH-INTERVAL;VALUE=DURATION:PT1H
X-Robots-Tag:noindex
X-PUBLISHED-TTL:PT1H
BEGIN:VTIMEZONE
TZID:Asia/Hong_Kong
BEGIN:STANDARD
TZOFFSETFROM:+0800
TZOFFSETTO:+0800
TZNAME:HKT
DTSTART:20200101T000000
END:STANDARD
END:VTIMEZONE
BEGIN:VEVENT
DTSTART;TZID=Asia/Hong_Kong:20210114T194500
DTEND;TZID=Asia/Hong_Kong:20210114T194500
DTSTAMP:20260421T082508
CREATED:20201209T103057Z
LAST-MODIFIED:20201209T103128Z
UID:10006646-1610653500-1610653500@www.bcmagazine.net
SUMMARY:Carmen - Cancelled
DESCRIPTION:Carmen\nOpera Hong Kong\nDate: 14-17 January\, 2021\nVenue: HK Cultural Centre\, Grand Theatre\nTickets: tbc from Urbtix\nMore info:\nIn French with Chinese and English surtitles\n14-16 Jan – 7:45pm\n17 Jan – 3pm
URL:https://www.bcmagazine.net/event/carmen-14-01-2021/
LOCATION:HK Cultural Centre\, Grand Theatre\,\, 10 Salisbury Road\, Tsim Sha Tsui\, Hong Kong
CATEGORIES:2020,Concert,Music,Opera,Performing Arts
ATTACH;FMTTYPE=image/jpeg:https://www.bcmagazine.net/wp-content/uploads/1917/08/carmen-2021.jpg
GEO:22.294318;114.171708
X-APPLE-STRUCTURED-LOCATION;VALUE=URI;X-ADDRESS=HK Cultural Centre Grand Theatre 10 Salisbury Road Tsim Sha Tsui Hong Kong;X-APPLE-RADIUS=500;X-TITLE=10 Salisbury Road:geo:114.171708,22.294318
END:VEVENT
BEGIN:VEVENT
DTSTART;TZID=Asia/Hong_Kong:20210115T194500
DTEND;TZID=Asia/Hong_Kong:20210115T194500
DTSTAMP:20260421T082508
CREATED:19170810T093057Z
LAST-MODIFIED:20201209T103009Z
UID:10003210-1610739900-1610739900@www.bcmagazine.net
SUMMARY:Carmen - Cancelled
DESCRIPTION:Carmen\nOpera Hong Kong\nDate: 14-17 January\, 2021\nVenue: HK Cultural Centre\, Grand Theatre\nTickets: tbc from Urbtix\nMore info:\nIn French with Chinese and English surtitles\n14-16 Jan – 7:45pm\n17 Jan – 3pm
URL:https://www.bcmagazine.net/event/carmen-15-01-2021/
LOCATION:HK Cultural Centre\, Grand Theatre\,\, 10 Salisbury Road\, Tsim Sha Tsui\, Hong Kong
CATEGORIES:2020,Concert,Music,Opera,Performing Arts
ATTACH;FMTTYPE=image/jpeg:https://www.bcmagazine.net/wp-content/uploads/1917/08/carmen-2021.jpg
GEO:22.294318;114.171708
X-APPLE-STRUCTURED-LOCATION;VALUE=URI;X-ADDRESS=HK Cultural Centre Grand Theatre 10 Salisbury Road Tsim Sha Tsui Hong Kong;X-APPLE-RADIUS=500;X-TITLE=10 Salisbury Road:geo:114.171708,22.294318
END:VEVENT
BEGIN:VEVENT
DTSTART;TZID=Asia/Hong_Kong:20210116T194500
DTEND;TZID=Asia/Hong_Kong:20210116T194500
DTSTAMP:20260421T082508
CREATED:19170810T093057Z
LAST-MODIFIED:20201209T103004Z
UID:10003211-1610826300-1610826300@www.bcmagazine.net
SUMMARY:Carmen - Cancelled
DESCRIPTION:Carmen\nOpera Hong Kong\nDate: 14-17 January\, 2021\nVenue: HK Cultural Centre\, Grand Theatre\nTickets: tbc from Urbtix\nMore info:\nIn French with Chinese and English surtitles\n14-16 Jan – 7:45pm\n17 Jan – 3pm
URL:https://www.bcmagazine.net/event/carmen-16-01-2021/
LOCATION:HK Cultural Centre\, Grand Theatre\,\, 10 Salisbury Road\, Tsim Sha Tsui\, Hong Kong
CATEGORIES:2020,Concert,Music,Opera,Performing Arts
ATTACH;FMTTYPE=image/jpeg:https://www.bcmagazine.net/wp-content/uploads/1917/08/carmen-2021.jpg
GEO:22.294318;114.171708
X-APPLE-STRUCTURED-LOCATION;VALUE=URI;X-ADDRESS=HK Cultural Centre Grand Theatre 10 Salisbury Road Tsim Sha Tsui Hong Kong;X-APPLE-RADIUS=500;X-TITLE=10 Salisbury Road:geo:114.171708,22.294318
END:VEVENT
BEGIN:VEVENT
DTSTART;TZID=Asia/Hong_Kong:20210117T150000
DTEND;TZID=Asia/Hong_Kong:20210117T150000
DTSTAMP:20260421T082508
CREATED:19170810T093057Z
LAST-MODIFIED:20201209T102959Z
UID:10003212-1610895600-1610895600@www.bcmagazine.net
SUMMARY:Carmen - Cancelled
DESCRIPTION:Carmen\nOpera Hong Kong\nDate: 14-17 January\, 2021\nVenue: HK Cultural Centre\, Grand Theatre\nTickets: tbc from Urbtix\nMore info:\nIn French with Chinese and English surtitles\n14-16 Jan – 7:45pm\n17 Jan – 3pm
URL:https://www.bcmagazine.net/event/carmen-17-01-2021/
LOCATION:HK Cultural Centre\, Grand Theatre\,\, 10 Salisbury Road\, Tsim Sha Tsui\, Hong Kong
CATEGORIES:2020,Concert,Music,Opera,Performing Arts
ATTACH;FMTTYPE=image/jpeg:https://www.bcmagazine.net/wp-content/uploads/1917/08/carmen-2021.jpg
GEO:22.294318;114.171708
X-APPLE-STRUCTURED-LOCATION;VALUE=URI;X-ADDRESS=HK Cultural Centre Grand Theatre 10 Salisbury Road Tsim Sha Tsui Hong Kong;X-APPLE-RADIUS=500;X-TITLE=10 Salisbury Road:geo:114.171708,22.294318
END:VEVENT
END:VCALENDAR