BEGIN:VCALENDAR
VERSION:2.0
PRODID:-//bc magazine - ECPv6.15.20//NONSGML v1.0//EN
CALSCALE:GREGORIAN
METHOD:PUBLISH
X-WR-CALNAME:bc magazine
X-ORIGINAL-URL:https://www.bcmagazine.net
X-WR-CALDESC:Events for bc magazine
REFRESH-INTERVAL;VALUE=DURATION:PT1H
X-Robots-Tag:noindex
X-PUBLISHED-TTL:PT1H
BEGIN:VTIMEZONE
TZID:Asia/Hong_Kong
BEGIN:STANDARD
TZOFFSETFROM:+0800
TZOFFSETTO:+0800
TZNAME:HKT
DTSTART:20200101T000000
END:STANDARD
END:VTIMEZONE
BEGIN:VEVENT
DTSTART;VALUE=DATE:20210212
DTEND;VALUE=DATE:20210312
DTSTAMP:20260421T144413
CREATED:19210210T100341Z
LAST-MODIFIED:20210210T101107Z
UID:10005091-1613088000-1615507199@www.bcmagazine.net
SUMMARY:Yim Tin Tsai Arts Festival
DESCRIPTION:Yim Tin Tsai Arts Festival\nDate: 12 February – 11 March\, 2021\nVenue: Online\nTickets
URL:https://www.bcmagazine.net/event/yim-tin-tsai-arts-festival-2021/
LOCATION:Yim Tin Tsai\, Yim Tin Tsai Island\, Hong Kong
CATEGORIES:2021,Cultural Festival,Free,Performing Arts
END:VEVENT
BEGIN:VEVENT
DTSTART;VALUE=DATE:20210225
DTEND;VALUE=DATE:20210302
DTSTAMP:20260421T144413
CREATED:19210209T093112Z
LAST-MODIFIED:20210209T094054Z
UID:10005090-1614211200-1614643199@www.bcmagazine.net
SUMMARY:Larger Than Life: The American Civil Rights Movement in Documentaries
DESCRIPTION:Larger Than Life: the American Civil Rights Movement in Documentaries\nDate: 25 February – 1 March\, 2021\nVenue: Vimeo\nTickets: Free
URL:https://www.bcmagazine.net/event/larger-than-life-the-american-civil-rights-movement-in-documentaries/
LOCATION:Online\, Hong Kong
CATEGORIES:2021,Film,Free,Lifestyle,Performing Arts,talk
ATTACH;FMTTYPE=image/png:https://www.bcmagazine.net/wp-content/uploads/2021/02/larger-than-life-2021.png
END:VEVENT
BEGIN:VEVENT
DTSTART;VALUE=DATE:20210227
DTEND;VALUE=DATE:20210329
DTSTAMP:20260421T144413
CREATED:19181213T044512Z
LAST-MODIFIED:20210301T082807Z
UID:10003960-1614384000-1616975999@www.bcmagazine.net
SUMMARY:HK Arts Festival
DESCRIPTION:49th HK Arts Festival\nDate: 27 February – 28 March\, 2021\nVenue: Various\nTickets: Urbtix
URL:https://www.bcmagazine.net/event/hk-arts-festival-2021/
CATEGORIES:2021,Ballet,Cantonese drama,Cantonese Opera,Chinese opera,Concert,Cultural Festival,Dance,Music,Opera,Performing Arts,talk,Theatre
ATTACH;FMTTYPE=image/png:https://www.bcmagazine.net/wp-content/uploads/1918/12/49-hk-arts-festival-2021.png
END:VEVENT
BEGIN:VEVENT
DTSTART;TZID=Asia/Hong_Kong:20210307T143000
DTEND;TZID=Asia/Hong_Kong:20210307T143000
DTSTAMP:20260421T144413
CREATED:19210308T135013Z
LAST-MODIFIED:20210309T082231Z
UID:10005092-1615127400-1615127400@www.bcmagazine.net
SUMMARY:The Absolutely Fabulous Theatre Connection
DESCRIPTION:Comedy of Mistakes\nDate: 2:30pm\, 7 & 14 March\, 2021\nVenue: Sai Wan Ho Civic Centre Theatre\nTickets: $200\, $150 from Urbtix
URL:https://www.bcmagazine.net/event/the-absolutely-fabulous-theatre-connection/
LOCATION:Sai Wan Ho Civic Centre\, Theatre\, 111 Shau Kei Wan Road\, Sai Wan Ho\, Hong Kong
CATEGORIES:2021,Performing Arts,Theatre
ATTACH;FMTTYPE=image/jpeg:https://www.bcmagazine.net/wp-content/uploads/2021/03/Comedy-of-Mistakes-2021web.jpg
GEO:22.282055;114.222378
X-APPLE-STRUCTURED-LOCATION;VALUE=URI;X-ADDRESS=Sai Wan Ho Civic Centre Theatre 111 Shau Kei Wan Road Sai Wan Ho Hong Kong;X-APPLE-RADIUS=500;X-TITLE=111 Shau Kei Wan Road:geo:114.222378,22.282055
END:VEVENT
BEGIN:VEVENT
DTSTART;TZID=Asia/Hong_Kong:20210314T143000
DTEND;TZID=Asia/Hong_Kong:20210314T143000
DTSTAMP:20260421T144413
CREATED:20210309T082105Z
LAST-MODIFIED:20210309T082127Z
UID:10006652-1615732200-1615732200@www.bcmagazine.net
SUMMARY:Comedy of Mistakes
DESCRIPTION:This is a (nearly) original play inspired by Benjamin Britten’s The Young Person’s Guide to the Orchestra\, with a play within a play adapted from Sherlock Holmes’ The Speckled Band. Comedy of Mistakes is where everything goes wrong on stage with hilarious consequences. And when it all finally goes right\, you will get a rare glimpse of the diverse aspects of what and whom constitutes a theatre production. Don’t miss this unique and ground-breaking piece of theatre! \nCo-directors/ Playwrights/ Adaptation: Dr Vicki Ooi & Oscar Fung\nIn English with bilingual surtitles \nPublic Shows\nSCOLAR English Alliance “From Page to Stage®” Programme 2021 – Comedy of Mistakes\nDate: 2:30pm\, 14 March 2021\nVenue: Sai Wan Ho Civic Centre Theatre\nTickets: $200\, $150 from Urbtix\nMore info: In English with bilingual surtitles
URL:https://www.bcmagazine.net/event/comedy-of-mistakes-2021/
LOCATION:Sai Wan Ho Civic Centre\, Theatre\, 111 Shau Kei Wan Road\, Sai Wan Ho\, Hong Kong
CATEGORIES:2021,Performing Arts,Theatre
ATTACH;FMTTYPE=image/jpeg:https://www.bcmagazine.net/wp-content/uploads/2021/03/0223_AFTEC_P2S_Web-Poster_V3_Landscape.jpg
GEO:22.282055;114.222378
X-APPLE-STRUCTURED-LOCATION;VALUE=URI;X-ADDRESS=Sai Wan Ho Civic Centre Theatre 111 Shau Kei Wan Road Sai Wan Ho Hong Kong;X-APPLE-RADIUS=500;X-TITLE=111 Shau Kei Wan Road:geo:114.222378,22.282055
END:VEVENT
BEGIN:VEVENT
DTSTART;VALUE=DATE:20210315
DTEND;VALUE=DATE:20210413
DTSTAMP:20260421T144413
CREATED:20210306T090416Z
LAST-MODIFIED:20210313T161927Z
UID:10006651-1615766400-1618271999@www.bcmagazine.net
SUMMARY:Entertainment Expo
DESCRIPTION:Entertainment Expo comprises a series of events\, including the HKTDC Hong Kong International Film and TV Market (FILMART)\, Hong Kong International Film Festival\, Hong Kong-Asia Film Financing Forum (HAF)\, ifva Festival\, Digital Entertainment Summit\, and the Entertainment Asia Forum. \nEntertainment Expo\nDate: 15 March – 12 April\, 2021\nVenue: various\nTickets: tbc
URL:https://www.bcmagazine.net/event/entertainment-expo-2021/
LOCATION:HK Convention and Exhibition Centre\, 1 Expo Drive\, Wanchai\, Hong Kong
CATEGORIES:2021,Exhibition,Film,Lifestyle,Performing Arts
ATTACH;FMTTYPE=image/jpeg:https://www.bcmagazine.net/wp-content/uploads/2020/04/entertainment-expo-2021.jpeg
END:VEVENT
BEGIN:VEVENT
DTSTART;TZID=Asia/Hong_Kong:20210319T200000
DTEND;TZID=Asia/Hong_Kong:20210319T200000
DTSTAMP:20260421T144413
CREATED:19190711T044512Z
LAST-MODIFIED:20210303T121705Z
UID:10004860-1616184000-1616184000@www.bcmagazine.net
SUMMARY:Green Day - Cancelled
DESCRIPTION:Green Day\nDate: 8pm\, 19 March\, 2021\nVenue: AsiaWorld-Expo\, Arena\nTickets: $988\, $888\, $788\, $688\, $588 from HKTicketing\nMore info:\nRescheduled from 20 March 2020
URL:https://www.bcmagazine.net/event/green-day-hk-2020/
LOCATION:AsiaWorld Expo\, Arena\, Hong Kong
CATEGORIES:2021,Cancelled,Concert,Music,Performing Arts
ATTACH;FMTTYPE=image/jpeg:https://www.bcmagazine.net/wp-content/uploads/1919/07/green-day-hk-2020.jpg
END:VEVENT
BEGIN:VEVENT
DTSTART;TZID=Asia/Hong_Kong:20210327T201500
DTEND;TZID=Asia/Hong_Kong:20210327T201500
DTSTAMP:20260421T144413
CREATED:19200709T085402Z
LAST-MODIFIED:20210319T085510Z
UID:10004945-1616876100-1616876100@www.bcmagazine.net
SUMMARY:Eman Lam
DESCRIPTION:Eman Lam The Beginning of Faith Live\nDate: 8:15pm\, 27-29 March\, 2021\nVenue: Hong Kong Coliseum\nTickets: $680 from Urbtix
URL:https://www.bcmagazine.net/event/eman-lam-2/2021-03-27/
LOCATION:HK Coliseum\, 9 Cheong Wan Road\, Hung Hom\, Hong Kong
CATEGORIES:2021,Concert,Music,Performing Arts
GEO:22.3014169;114.1820305
X-APPLE-STRUCTURED-LOCATION;VALUE=URI;X-ADDRESS=HK Coliseum 9 Cheong Wan Road Hung Hom Hong Kong;X-APPLE-RADIUS=500;X-TITLE=9 Cheong Wan Road:geo:114.1820305,22.3014169
END:VEVENT
BEGIN:VEVENT
DTSTART;TZID=Asia/Hong_Kong:20210328T201500
DTEND;TZID=Asia/Hong_Kong:20210328T201500
DTSTAMP:20260421T144413
CREATED:19200709T085402Z
LAST-MODIFIED:20210319T085510Z
UID:10004946-1616962500-1616962500@www.bcmagazine.net
SUMMARY:Eman Lam
DESCRIPTION:Eman Lam The Beginning of Faith Live\nDate: 8:15pm\, 27-29 March\, 2021\nVenue: Hong Kong Coliseum\nTickets: $680 from Urbtix
URL:https://www.bcmagazine.net/event/eman-lam-2/2021-03-28/
LOCATION:HK Coliseum\, 9 Cheong Wan Road\, Hung Hom\, Hong Kong
CATEGORIES:2021,Concert,Music,Performing Arts
GEO:22.3014169;114.1820305
X-APPLE-STRUCTURED-LOCATION;VALUE=URI;X-ADDRESS=HK Coliseum 9 Cheong Wan Road Hung Hom Hong Kong;X-APPLE-RADIUS=500;X-TITLE=9 Cheong Wan Road:geo:114.1820305,22.3014169
END:VEVENT
END:VCALENDAR