BEGIN:VCALENDAR
VERSION:2.0
PRODID:-//bc magazine - ECPv6.15.20//NONSGML v1.0//EN
CALSCALE:GREGORIAN
METHOD:PUBLISH
X-ORIGINAL-URL:https://www.bcmagazine.net
X-WR-CALDESC:Events for bc magazine
REFRESH-INTERVAL;VALUE=DURATION:PT1H
X-Robots-Tag:noindex
X-PUBLISHED-TTL:PT1H
BEGIN:VTIMEZONE
TZID:Asia/Hong_Kong
BEGIN:STANDARD
TZOFFSETFROM:+0800
TZOFFSETTO:+0800
TZNAME:HKT
DTSTART:20210101T000000
END:STANDARD
END:VTIMEZONE
BEGIN:VEVENT
DTSTART;VALUE=DATE:20220708
DTEND;VALUE=DATE:20220815
DTSTAMP:20260421T050925
CREATED:19170612T074724Z
LAST-MODIFIED:20220708T115618Z
UID:10002851-1657238400-1660521599@www.bcmagazine.net
SUMMARY:International Arts Carnival
DESCRIPTION:International Arts Carnival 2022 \nDate: 8 July – 14 August\, 2022\nVenue: Various\nTickets: Various
URL:https://www.bcmagazine.net/event/international-arts-carnival/
CATEGORIES:2022,Ballet,Cantonese drama,Cantonese Opera,concert,Dance,Music,Performing Arts,Theatre
END:VEVENT
BEGIN:VEVENT
DTSTART;TZID=Asia/Hong_Kong:20220801T201500
DTEND;TZID=Asia/Hong_Kong:20220801T201500
DTSTAMP:20260421T050925
CREATED:19160105T144028Z
LAST-MODIFIED:20220502T114559Z
UID:10000272-1659384900-1659384900@www.bcmagazine.net
SUMMARY:Mirror.We.Are
DESCRIPTION:Mirror.We.Are Live 2022\nMirror\nDate: 8:15pm\, 25-31 July\, 2-4 August 2022\nVenue: HK Coliseum\nTickets: $1\,280\, $880\, $480
URL:https://www.bcmagazine.net/event/mirror-we-are/2022-08-01/
LOCATION:HK Coliseum\, 9 Cheong Wan Road\, Hung Hom\, Hong Kong
CATEGORIES:2022,Cantopop,Concert,Music,Nightlife,Performing Arts
ATTACH;FMTTYPE=image/jpeg:https://www.bcmagazine.net/wp-content/uploads/1916/01/mirror-live-2022.jpg
GEO:22.3014169;114.1820305
X-APPLE-STRUCTURED-LOCATION;VALUE=URI;X-ADDRESS=HK Coliseum 9 Cheong Wan Road Hung Hom Hong Kong;X-APPLE-RADIUS=500;X-TITLE=9 Cheong Wan Road:geo:114.1820305,22.3014169
END:VEVENT
BEGIN:VEVENT
DTSTART;TZID=Asia/Hong_Kong:20220802T201500
DTEND;TZID=Asia/Hong_Kong:20220802T201500
DTSTAMP:20260421T050925
CREATED:19160105T144028Z
LAST-MODIFIED:20220502T114559Z
UID:10000273-1659471300-1659471300@www.bcmagazine.net
SUMMARY:Mirror.We.Are
DESCRIPTION:Mirror.We.Are Live 2022\nMirror\nDate: 8:15pm\, 25-31 July\, 2-4 August 2022\nVenue: HK Coliseum\nTickets: $1\,280\, $880\, $480
URL:https://www.bcmagazine.net/event/mirror-we-are/2022-08-02/
LOCATION:HK Coliseum\, 9 Cheong Wan Road\, Hung Hom\, Hong Kong
CATEGORIES:2022,Cantopop,Concert,Music,Nightlife,Performing Arts
ATTACH;FMTTYPE=image/jpeg:https://www.bcmagazine.net/wp-content/uploads/1916/01/mirror-live-2022.jpg
GEO:22.3014169;114.1820305
X-APPLE-STRUCTURED-LOCATION;VALUE=URI;X-ADDRESS=HK Coliseum 9 Cheong Wan Road Hung Hom Hong Kong;X-APPLE-RADIUS=500;X-TITLE=9 Cheong Wan Road:geo:114.1820305,22.3014169
END:VEVENT
BEGIN:VEVENT
DTSTART;TZID=Asia/Hong_Kong:20220803T201500
DTEND;TZID=Asia/Hong_Kong:20220803T201500
DTSTAMP:20260421T050925
CREATED:19160105T144028Z
LAST-MODIFIED:20220502T114559Z
UID:10000274-1659557700-1659557700@www.bcmagazine.net
SUMMARY:Mirror.We.Are
DESCRIPTION:Mirror.We.Are Live 2022\nMirror\nDate: 8:15pm\, 25-31 July\, 2-4 August 2022\nVenue: HK Coliseum\nTickets: $1\,280\, $880\, $480
URL:https://www.bcmagazine.net/event/mirror-we-are/2022-08-03/
LOCATION:HK Coliseum\, 9 Cheong Wan Road\, Hung Hom\, Hong Kong
CATEGORIES:2022,Cantopop,Concert,Music,Nightlife,Performing Arts
ATTACH;FMTTYPE=image/jpeg:https://www.bcmagazine.net/wp-content/uploads/1916/01/mirror-live-2022.jpg
GEO:22.3014169;114.1820305
X-APPLE-STRUCTURED-LOCATION;VALUE=URI;X-ADDRESS=HK Coliseum 9 Cheong Wan Road Hung Hom Hong Kong;X-APPLE-RADIUS=500;X-TITLE=9 Cheong Wan Road:geo:114.1820305,22.3014169
END:VEVENT
BEGIN:VEVENT
DTSTART;TZID=Asia/Hong_Kong:20220804T201500
DTEND;TZID=Asia/Hong_Kong:20220804T201500
DTSTAMP:20260421T050925
CREATED:19160105T144028Z
LAST-MODIFIED:20220502T114559Z
UID:10000275-1659644100-1659644100@www.bcmagazine.net
SUMMARY:Mirror.We.Are
DESCRIPTION:Mirror.We.Are Live 2022\nMirror\nDate: 8:15pm\, 25-31 July\, 2-4 August 2022\nVenue: HK Coliseum\nTickets: $1\,280\, $880\, $480
URL:https://www.bcmagazine.net/event/mirror-we-are/2022-08-04/
LOCATION:HK Coliseum\, 9 Cheong Wan Road\, Hung Hom\, Hong Kong
CATEGORIES:2022,Cantopop,Concert,Music,Nightlife,Performing Arts
ATTACH;FMTTYPE=image/jpeg:https://www.bcmagazine.net/wp-content/uploads/1916/01/mirror-live-2022.jpg
GEO:22.3014169;114.1820305
X-APPLE-STRUCTURED-LOCATION;VALUE=URI;X-ADDRESS=HK Coliseum 9 Cheong Wan Road Hung Hom Hong Kong;X-APPLE-RADIUS=500;X-TITLE=9 Cheong Wan Road:geo:114.1820305,22.3014169
END:VEVENT
BEGIN:VEVENT
DTSTART;TZID=Asia/Hong_Kong:20220806T200000
DTEND;TZID=Asia/Hong_Kong:20220806T200000
DTSTAMP:20260421T050925
CREATED:20220702T024537Z
LAST-MODIFIED:20220704T155132Z
UID:10006708-1659816000-1659816000@www.bcmagazine.net
SUMMARY:Merry Lamb Lamb
DESCRIPTION:Merry Lamb Lamb – Genesis Album Launch Concert\nSupport: Cehryl\nDate: 8pm\, 6 August\, 2022\nVenue: West Kowloon Cultural District\, Freespace\, The Box\nTickets: $320
URL:https://www.bcmagazine.net/event/merry-lamb-lamb-genesis-2022/
LOCATION:West Kowloon Cultural District\, Freespace\, The Box\, West Kowloon\, Hong Kong
CATEGORIES:2022,Cantopop,Concert,Music,Nightlife,Performing Arts
ATTACH;FMTTYPE=image/jpeg:https://www.bcmagazine.net/wp-content/uploads/2021/12/merry-lamb-lamb-2022.jpg
END:VEVENT
BEGIN:VEVENT
DTSTART;VALUE=DATE:20220815
DTEND;VALUE=DATE:20220901
DTSTAMP:20260421T050926
CREATED:19210122T063818Z
LAST-MODIFIED:20220422T042326Z
UID:10005039-1660521600-1661990399@www.bcmagazine.net
SUMMARY:46th Hong Kong International Film Festival
DESCRIPTION:46th Hong Kong International Film Festival\nDate: 15-31 August\, 2022\nVenue: various\nTickets: tbc
URL:https://www.bcmagazine.net/event/46th-hong-kong-international-film-festival/
CATEGORIES:2022,Film,Performing Arts
ATTACH;FMTTYPE=image/jpeg:https://www.bcmagazine.net/wp-content/uploads/2021/01/HKIFF46-poster.jpg
END:VEVENT
BEGIN:VEVENT
DTSTART;TZID=Asia/Hong_Kong:20220819T201500
DTEND;TZID=Asia/Hong_Kong:20220819T201500
DTSTAMP:20260421T050926
CREATED:19190728T124055Z
LAST-MODIFIED:20220810T020835Z
UID:10004873-1660940100-1660940100@www.bcmagazine.net
SUMMARY:Terence Lam
DESCRIPTION:Terence Lam – Summer Blues\nDate: 8:15pm\, 19-21\, 24-26 August\, 2022\nVenue: HK Coliseum\nTickets: $880\, $780\, $580\, $380 from Urbtix
URL:https://www.bcmagazine.net/event/terence-lam/2022-08-19/
LOCATION:HK Coliseum\, 9 Cheong Wan Road\, Hung Hom\, Hong Kong
CATEGORIES:2022,Concert,Music,Performing Arts
ATTACH;FMTTYPE=image/jpeg:https://www.bcmagazine.net/wp-content/uploads/1919/07/Summer-Blues-Terence-Lam.jpeg
GEO:22.3014169;114.1820305
X-APPLE-STRUCTURED-LOCATION;VALUE=URI;X-ADDRESS=HK Coliseum 9 Cheong Wan Road Hung Hom Hong Kong;X-APPLE-RADIUS=500;X-TITLE=9 Cheong Wan Road:geo:114.1820305,22.3014169
END:VEVENT
BEGIN:VEVENT
DTSTART;TZID=Asia/Hong_Kong:20220820T201500
DTEND;TZID=Asia/Hong_Kong:20220820T201500
DTSTAMP:20260421T050926
CREATED:19190728T124055Z
LAST-MODIFIED:20220810T020835Z
UID:10004874-1661026500-1661026500@www.bcmagazine.net
SUMMARY:Terence Lam
DESCRIPTION:Terence Lam – Summer Blues\nDate: 8:15pm\, 19-21\, 24-26 August\, 2022\nVenue: HK Coliseum\nTickets: $880\, $780\, $580\, $380 from Urbtix
URL:https://www.bcmagazine.net/event/terence-lam/2022-08-20/
LOCATION:HK Coliseum\, 9 Cheong Wan Road\, Hung Hom\, Hong Kong
CATEGORIES:2022,Concert,Music,Performing Arts
ATTACH;FMTTYPE=image/jpeg:https://www.bcmagazine.net/wp-content/uploads/1919/07/Summer-Blues-Terence-Lam.jpeg
GEO:22.3014169;114.1820305
X-APPLE-STRUCTURED-LOCATION;VALUE=URI;X-ADDRESS=HK Coliseum 9 Cheong Wan Road Hung Hom Hong Kong;X-APPLE-RADIUS=500;X-TITLE=9 Cheong Wan Road:geo:114.1820305,22.3014169
END:VEVENT
BEGIN:VEVENT
DTSTART;TZID=Asia/Hong_Kong:20220821T201500
DTEND;TZID=Asia/Hong_Kong:20220821T201500
DTSTAMP:20260421T050926
CREATED:19190728T124055Z
LAST-MODIFIED:20220810T020835Z
UID:10004875-1661112900-1661112900@www.bcmagazine.net
SUMMARY:Terence Lam
DESCRIPTION:Terence Lam – Summer Blues\nDate: 8:15pm\, 19-21\, 24-26 August\, 2022\nVenue: HK Coliseum\nTickets: $880\, $780\, $580\, $380 from Urbtix
URL:https://www.bcmagazine.net/event/terence-lam/2022-08-21/
LOCATION:HK Coliseum\, 9 Cheong Wan Road\, Hung Hom\, Hong Kong
CATEGORIES:2022,Concert,Music,Performing Arts
ATTACH;FMTTYPE=image/jpeg:https://www.bcmagazine.net/wp-content/uploads/1919/07/Summer-Blues-Terence-Lam.jpeg
GEO:22.3014169;114.1820305
X-APPLE-STRUCTURED-LOCATION;VALUE=URI;X-ADDRESS=HK Coliseum 9 Cheong Wan Road Hung Hom Hong Kong;X-APPLE-RADIUS=500;X-TITLE=9 Cheong Wan Road:geo:114.1820305,22.3014169
END:VEVENT
BEGIN:VEVENT
DTSTART;TZID=Asia/Hong_Kong:20220824T200000
DTEND;TZID=Asia/Hong_Kong:20220824T200000
DTSTAMP:20260421T050926
CREATED:20220725T124055Z
LAST-MODIFIED:20220810T012834Z
UID:10006710-1661371200-1661371200@www.bcmagazine.net
SUMMARY:If Not Now\, Then When
DESCRIPTION:If Not Now\, Then When\nSupport: Looper\nDate: 8pm\, 24 August\, 2022\nVenue: Kitec\, Music Zone@E-Max\nTickets: $318\, $288
URL:https://www.bcmagazine.net/event/if-not-now-then-when/
LOCATION:KITEC\, Music Zone@E-Max\, KITEC\,‎ 1 Trademart Drive\, Kowloon Bay\, Hong Kong
CATEGORIES:2022,Concert,Music,Performing Arts
ATTACH;FMTTYPE=image/jpeg:https://www.bcmagazine.net/wp-content/uploads/1918/06/If-not-now-then-when-2022-scaled.jpeg
GEO:22.3239575;114.2037608
X-APPLE-STRUCTURED-LOCATION;VALUE=URI;X-ADDRESS=KITEC Music Zone@E-Max KITEC‎ 1 Trademart Drive Kowloon Bay Hong Kong;X-APPLE-RADIUS=500;X-TITLE=KITEC\,‎ 1 Trademart Drive:geo:114.2037608,22.3239575
END:VEVENT
BEGIN:VEVENT
DTSTART;TZID=Asia/Hong_Kong:20220824T201500
DTEND;TZID=Asia/Hong_Kong:20220824T201500
DTSTAMP:20260421T050926
CREATED:19190728T124055Z
LAST-MODIFIED:20220810T020835Z
UID:10004876-1661372100-1661372100@www.bcmagazine.net
SUMMARY:Terence Lam
DESCRIPTION:Terence Lam – Summer Blues\nDate: 8:15pm\, 19-21\, 24-26 August\, 2022\nVenue: HK Coliseum\nTickets: $880\, $780\, $580\, $380 from Urbtix
URL:https://www.bcmagazine.net/event/terence-lam/2022-08-24/
LOCATION:HK Coliseum\, 9 Cheong Wan Road\, Hung Hom\, Hong Kong
CATEGORIES:2022,Concert,Music,Performing Arts
ATTACH;FMTTYPE=image/jpeg:https://www.bcmagazine.net/wp-content/uploads/1919/07/Summer-Blues-Terence-Lam.jpeg
GEO:22.3014169;114.1820305
X-APPLE-STRUCTURED-LOCATION;VALUE=URI;X-ADDRESS=HK Coliseum 9 Cheong Wan Road Hung Hom Hong Kong;X-APPLE-RADIUS=500;X-TITLE=9 Cheong Wan Road:geo:114.1820305,22.3014169
END:VEVENT
BEGIN:VEVENT
DTSTART;TZID=Asia/Hong_Kong:20220825T201500
DTEND;TZID=Asia/Hong_Kong:20220825T201500
DTSTAMP:20260421T050926
CREATED:19190728T124055Z
LAST-MODIFIED:20220810T020835Z
UID:10004877-1661458500-1661458500@www.bcmagazine.net
SUMMARY:Terence Lam
DESCRIPTION:Terence Lam – Summer Blues\nDate: 8:15pm\, 19-21\, 24-26 August\, 2022\nVenue: HK Coliseum\nTickets: $880\, $780\, $580\, $380 from Urbtix
URL:https://www.bcmagazine.net/event/terence-lam/2022-08-25/
LOCATION:HK Coliseum\, 9 Cheong Wan Road\, Hung Hom\, Hong Kong
CATEGORIES:2022,Concert,Music,Performing Arts
ATTACH;FMTTYPE=image/jpeg:https://www.bcmagazine.net/wp-content/uploads/1919/07/Summer-Blues-Terence-Lam.jpeg
GEO:22.3014169;114.1820305
X-APPLE-STRUCTURED-LOCATION;VALUE=URI;X-ADDRESS=HK Coliseum 9 Cheong Wan Road Hung Hom Hong Kong;X-APPLE-RADIUS=500;X-TITLE=9 Cheong Wan Road:geo:114.1820305,22.3014169
END:VEVENT
BEGIN:VEVENT
DTSTART;TZID=Asia/Hong_Kong:20220826T200000
DTEND;TZID=Asia/Hong_Kong:20220826T200000
DTSTAMP:20260421T050926
CREATED:20220808T000816Z
LAST-MODIFIED:20220824T044321Z
UID:10006715-1661544000-1661544000@www.bcmagazine.net
SUMMARY:TYNT
DESCRIPTION:TYNT – Dust EP Release Concert\nSupport: Bedroom Party\, Manson Vibes\nDate: 8pm\, 26 August\, 2022\nVenue: Kitec\, Music Zone@E-Max\nTickets: $500\, $420 at Ticketcats
URL:https://www.bcmagazine.net/event/tynt-dust-2022/
LOCATION:KITEC\, Music Zone@E-Max\, KITEC\,‎ 1 Trademart Drive\, Kowloon Bay\, Hong Kong
CATEGORIES:2022,Concert,Music,Performing Arts
ATTACH;FMTTYPE=image/jpeg:https://www.bcmagazine.net/wp-content/uploads/2020/02/tynt_poster_2022.jpg
GEO:22.3239575;114.2037608
X-APPLE-STRUCTURED-LOCATION;VALUE=URI;X-ADDRESS=KITEC Music Zone@E-Max KITEC‎ 1 Trademart Drive Kowloon Bay Hong Kong;X-APPLE-RADIUS=500;X-TITLE=KITEC\,‎ 1 Trademart Drive:geo:114.2037608,22.3239575
END:VEVENT
BEGIN:VEVENT
DTSTART;TZID=Asia/Hong_Kong:20220826T201500
DTEND;TZID=Asia/Hong_Kong:20220826T201500
DTSTAMP:20260421T050926
CREATED:19190728T124055Z
LAST-MODIFIED:20220810T020835Z
UID:10004878-1661544900-1661544900@www.bcmagazine.net
SUMMARY:Terence Lam
DESCRIPTION:Terence Lam – Summer Blues\nDate: 8:15pm\, 19-21\, 24-26 August\, 2022\nVenue: HK Coliseum\nTickets: $880\, $780\, $580\, $380 from Urbtix
URL:https://www.bcmagazine.net/event/terence-lam/2022-08-26/
LOCATION:HK Coliseum\, 9 Cheong Wan Road\, Hung Hom\, Hong Kong
CATEGORIES:2022,Concert,Music,Performing Arts
ATTACH;FMTTYPE=image/jpeg:https://www.bcmagazine.net/wp-content/uploads/1919/07/Summer-Blues-Terence-Lam.jpeg
GEO:22.3014169;114.1820305
X-APPLE-STRUCTURED-LOCATION;VALUE=URI;X-ADDRESS=HK Coliseum 9 Cheong Wan Road Hung Hom Hong Kong;X-APPLE-RADIUS=500;X-TITLE=9 Cheong Wan Road:geo:114.1820305,22.3014169
END:VEVENT
BEGIN:VEVENT
DTSTART;TZID=Asia/Hong_Kong:20220827T200000
DTEND;TZID=Asia/Hong_Kong:20220827T200000
DTSTAMP:20260421T050926
CREATED:19220811T000816Z
LAST-MODIFIED:20220816T072323Z
UID:10005350-1661630400-1661630400@www.bcmagazine.net
SUMMARY:Anna Hisbbur
DESCRIPTION:Anna Hisbbur – Now You See Me Album Launch\nDate: 8pm\, 27 August\, 2022\nVenue: Soho House\nTickets: $240 from TickCats
URL:https://www.bcmagazine.net/event/anna-hisbbur-now-you-see-me-2022/
LOCATION:Soho House\, 33 Des Voeux Road West\, Sheung Wan\, Hong Kong
CATEGORIES:2022,Concert,Music,Performing Arts
ATTACH;FMTTYPE=image/jpeg:https://www.bcmagazine.net/wp-content/uploads/1922/07/Anna-Hisbbur-2022.jpeg
END:VEVENT
BEGIN:VEVENT
DTSTART;TZID=Asia/Hong_Kong:20220827T200000
DTEND;TZID=Asia/Hong_Kong:20220827T200000
DTSTAMP:20260421T050926
CREATED:20220728T124055Z
LAST-MODIFIED:20220810T013300Z
UID:10006712-1661630400-1661630400@www.bcmagazine.net
SUMMARY:Jason Chan & Sophy Wong
DESCRIPTION:This is Live – Jason Chan & Sophy Wong\nDate: 8pm\, 27 August\, 2022\nVenue: Kitec\, Star Hall\nTickets: $780\, $580\, $380 from HKTicketing
URL:https://www.bcmagazine.net/event/jason-chan-sophy-wong/
LOCATION:KITEC\, Star Hall\, KITEC\, 1 Trademart Drive\, Kowloon Bay\, Hong Kong
CATEGORIES:2022,Concert,Music,Performing Arts
ATTACH;FMTTYPE=image/jpeg:https://www.bcmagazine.net/wp-content/uploads/2022/07/sophy-wong-jason-chan-2022.jpeg
GEO:22.3239575;114.2037608
X-APPLE-STRUCTURED-LOCATION;VALUE=URI;X-ADDRESS=KITEC Star Hall KITEC 1 Trademart Drive Kowloon Bay Hong Kong;X-APPLE-RADIUS=500;X-TITLE=KITEC\, 1 Trademart Drive:geo:114.2037608,22.3239575
END:VEVENT
END:VCALENDAR