BEGIN:VCALENDAR
VERSION:2.0
PRODID:-//bc magazine - ECPv6.15.20//NONSGML v1.0//EN
CALSCALE:GREGORIAN
METHOD:PUBLISH
X-WR-CALNAME:bc magazine
X-ORIGINAL-URL:https://www.bcmagazine.net
X-WR-CALDESC:Events for bc magazine
REFRESH-INTERVAL;VALUE=DURATION:PT1H
X-Robots-Tag:noindex
X-PUBLISHED-TTL:PT1H
BEGIN:VTIMEZONE
TZID:Asia/Hong_Kong
BEGIN:STANDARD
TZOFFSETFROM:+0800
TZOFFSETTO:+0800
TZNAME:HKT
DTSTART:20210101T000000
END:STANDARD
END:VTIMEZONE
BEGIN:VEVENT
DTSTART;TZID=Asia/Hong_Kong:20220902T194500
DTEND;TZID=Asia/Hong_Kong:20220902T194500
DTSTAMP:20260421T104808
CREATED:19190728T124055Z
LAST-MODIFIED:20220810T022827Z
UID:10004883-1662147900-1662147900@www.bcmagazine.net
SUMMARY:Fung Lam x Wing Shya
DESCRIPTION:Fung Lam x Wing Shya: Nocturnes\nDate: 7:45pm\, 2-3 September\, 2022\nVenue: HK Cultural Centre\, Grand Theatre\nTickets: $380\, $280\, $180 from Urbtix
URL:https://www.bcmagazine.net/event/fung-lam-x-wing-shya/2022-09-02/
LOCATION:HK Cultural Centre\, Grand Theatre\,\, 10 Salisbury Road\, Tsim Sha Tsui\, Hong Kong
CATEGORIES:2022,Concert,Music,Performing Arts
GEO:22.294318;114.171708
X-APPLE-STRUCTURED-LOCATION;VALUE=URI;X-ADDRESS=HK Cultural Centre Grand Theatre 10 Salisbury Road Tsim Sha Tsui Hong Kong;X-APPLE-RADIUS=500;X-TITLE=10 Salisbury Road:geo:114.171708,22.294318
END:VEVENT
BEGIN:VEVENT
DTSTART;TZID=Asia/Hong_Kong:20220902T200000
DTEND;TZID=Asia/Hong_Kong:20220902T200000
DTSTAMP:20260421T104808
CREATED:19190728T124055Z
LAST-MODIFIED:20220810T013730Z
UID:10004868-1662148800-1662148800@www.bcmagazine.net
SUMMARY:Frenemy
DESCRIPTION:Frenemy\nDate: 8pm\, 2-4 September\, 2022\nVenue: Kitec\, Star Hall\nTickets: $880\, $680 from HKTicketing
URL:https://www.bcmagazine.net/event/frenemy/2022-09-02/
LOCATION:KITEC\, Star Hall\, KITEC\, 1 Trademart Drive\, Kowloon Bay\, Hong Kong
CATEGORIES:2022,Concert,Music,Performing Arts
ATTACH;FMTTYPE=image/jpeg:https://www.bcmagazine.net/wp-content/uploads/2022/07/frenemy-2022-live.jpeg
GEO:22.3239575;114.2037608
X-APPLE-STRUCTURED-LOCATION;VALUE=URI;X-ADDRESS=KITEC Star Hall KITEC 1 Trademart Drive Kowloon Bay Hong Kong;X-APPLE-RADIUS=500;X-TITLE=KITEC\, 1 Trademart Drive:geo:114.2037608,22.3239575
END:VEVENT
BEGIN:VEVENT
DTSTART;TZID=Asia/Hong_Kong:20220902T201500
DTEND;TZID=Asia/Hong_Kong:20220902T201500
DTSTAMP:20260421T104808
CREATED:19190728T124055Z
LAST-MODIFIED:20220810T021318Z
UID:10004879-1662149700-1662149700@www.bcmagazine.net
SUMMARY:Endy Chow jaugwokyin THE END
DESCRIPTION:Endy Chow jaugwokyin – The End\nDate: 8:15pm\, 2-4 September\, 2022\nVenue: HK Coliseum\nTickets: $880\, $580\, $380 from Urbtix
URL:https://www.bcmagazine.net/event/endy-chow-jaugwokyin-the-end/2022-09-02/
LOCATION:HK Coliseum\, 9 Cheong Wan Road\, Hung Hom\, Hong Kong
CATEGORIES:2022,Concert,Music,Performing Arts
ATTACH;FMTTYPE=image/jpeg:https://www.bcmagazine.net/wp-content/uploads/1919/07/Endy-Chow-jaugwokyin-THE-END-2022.jpeg
GEO:22.3014169;114.1820305
X-APPLE-STRUCTURED-LOCATION;VALUE=URI;X-ADDRESS=HK Coliseum 9 Cheong Wan Road Hung Hom Hong Kong;X-APPLE-RADIUS=500;X-TITLE=9 Cheong Wan Road:geo:114.1820305,22.3014169
END:VEVENT
BEGIN:VEVENT
DTSTART;TZID=Asia/Hong_Kong:20220903T194500
DTEND;TZID=Asia/Hong_Kong:20220903T194500
DTSTAMP:20260421T104808
CREATED:19190728T124055Z
LAST-MODIFIED:20220810T022827Z
UID:10004884-1662234300-1662234300@www.bcmagazine.net
SUMMARY:Fung Lam x Wing Shya
DESCRIPTION:Fung Lam x Wing Shya: Nocturnes\nDate: 7:45pm\, 2-3 September\, 2022\nVenue: HK Cultural Centre\, Grand Theatre\nTickets: $380\, $280\, $180 from Urbtix
URL:https://www.bcmagazine.net/event/fung-lam-x-wing-shya/2022-09-03/
LOCATION:HK Cultural Centre\, Grand Theatre\,\, 10 Salisbury Road\, Tsim Sha Tsui\, Hong Kong
CATEGORIES:2022,Concert,Music,Performing Arts
GEO:22.294318;114.171708
X-APPLE-STRUCTURED-LOCATION;VALUE=URI;X-ADDRESS=HK Cultural Centre Grand Theatre 10 Salisbury Road Tsim Sha Tsui Hong Kong;X-APPLE-RADIUS=500;X-TITLE=10 Salisbury Road:geo:114.171708,22.294318
END:VEVENT
BEGIN:VEVENT
DTSTART;TZID=Asia/Hong_Kong:20220903T200000
DTEND;TZID=Asia/Hong_Kong:20220903T200000
DTSTAMP:20260421T104808
CREATED:19190728T124055Z
LAST-MODIFIED:20220810T013730Z
UID:10004869-1662235200-1662235200@www.bcmagazine.net
SUMMARY:Frenemy
DESCRIPTION:Frenemy\nDate: 8pm\, 2-4 September\, 2022\nVenue: Kitec\, Star Hall\nTickets: $880\, $680 from HKTicketing
URL:https://www.bcmagazine.net/event/frenemy/2022-09-03/
LOCATION:KITEC\, Star Hall\, KITEC\, 1 Trademart Drive\, Kowloon Bay\, Hong Kong
CATEGORIES:2022,Concert,Music,Performing Arts
ATTACH;FMTTYPE=image/jpeg:https://www.bcmagazine.net/wp-content/uploads/2022/07/frenemy-2022-live.jpeg
GEO:22.3239575;114.2037608
X-APPLE-STRUCTURED-LOCATION;VALUE=URI;X-ADDRESS=KITEC Star Hall KITEC 1 Trademart Drive Kowloon Bay Hong Kong;X-APPLE-RADIUS=500;X-TITLE=KITEC\, 1 Trademart Drive:geo:114.2037608,22.3239575
END:VEVENT
BEGIN:VEVENT
DTSTART;TZID=Asia/Hong_Kong:20220903T201500
DTEND;TZID=Asia/Hong_Kong:20220903T201500
DTSTAMP:20260421T104808
CREATED:19190728T124055Z
LAST-MODIFIED:20220810T021318Z
UID:10004880-1662236100-1662236100@www.bcmagazine.net
SUMMARY:Endy Chow jaugwokyin THE END
DESCRIPTION:Endy Chow jaugwokyin – The End\nDate: 8:15pm\, 2-4 September\, 2022\nVenue: HK Coliseum\nTickets: $880\, $580\, $380 from Urbtix
URL:https://www.bcmagazine.net/event/endy-chow-jaugwokyin-the-end/2022-09-03/
LOCATION:HK Coliseum\, 9 Cheong Wan Road\, Hung Hom\, Hong Kong
CATEGORIES:2022,Concert,Music,Performing Arts
ATTACH;FMTTYPE=image/jpeg:https://www.bcmagazine.net/wp-content/uploads/1919/07/Endy-Chow-jaugwokyin-THE-END-2022.jpeg
GEO:22.3014169;114.1820305
X-APPLE-STRUCTURED-LOCATION;VALUE=URI;X-ADDRESS=HK Coliseum 9 Cheong Wan Road Hung Hom Hong Kong;X-APPLE-RADIUS=500;X-TITLE=9 Cheong Wan Road:geo:114.1820305,22.3014169
END:VEVENT
BEGIN:VEVENT
DTSTART;TZID=Asia/Hong_Kong:20220904T200000
DTEND;TZID=Asia/Hong_Kong:20220904T200000
DTSTAMP:20260421T104808
CREATED:19190728T124055Z
LAST-MODIFIED:20220810T013730Z
UID:10004870-1662321600-1662321600@www.bcmagazine.net
SUMMARY:Frenemy
DESCRIPTION:Frenemy\nDate: 8pm\, 2-4 September\, 2022\nVenue: Kitec\, Star Hall\nTickets: $880\, $680 from HKTicketing
URL:https://www.bcmagazine.net/event/frenemy/2022-09-04/
LOCATION:KITEC\, Star Hall\, KITEC\, 1 Trademart Drive\, Kowloon Bay\, Hong Kong
CATEGORIES:2022,Concert,Music,Performing Arts
ATTACH;FMTTYPE=image/jpeg:https://www.bcmagazine.net/wp-content/uploads/2022/07/frenemy-2022-live.jpeg
GEO:22.3239575;114.2037608
X-APPLE-STRUCTURED-LOCATION;VALUE=URI;X-ADDRESS=KITEC Star Hall KITEC 1 Trademart Drive Kowloon Bay Hong Kong;X-APPLE-RADIUS=500;X-TITLE=KITEC\, 1 Trademart Drive:geo:114.2037608,22.3239575
END:VEVENT
BEGIN:VEVENT
DTSTART;TZID=Asia/Hong_Kong:20220904T201500
DTEND;TZID=Asia/Hong_Kong:20220904T201500
DTSTAMP:20260421T104808
CREATED:19190728T124055Z
LAST-MODIFIED:20220810T021318Z
UID:10004881-1662322500-1662322500@www.bcmagazine.net
SUMMARY:Endy Chow jaugwokyin THE END
DESCRIPTION:Endy Chow jaugwokyin – The End\nDate: 8:15pm\, 2-4 September\, 2022\nVenue: HK Coliseum\nTickets: $880\, $580\, $380 from Urbtix
URL:https://www.bcmagazine.net/event/endy-chow-jaugwokyin-the-end/2022-09-04/
LOCATION:HK Coliseum\, 9 Cheong Wan Road\, Hung Hom\, Hong Kong
CATEGORIES:2022,Concert,Music,Performing Arts
ATTACH;FMTTYPE=image/jpeg:https://www.bcmagazine.net/wp-content/uploads/1919/07/Endy-Chow-jaugwokyin-THE-END-2022.jpeg
GEO:22.3014169;114.1820305
X-APPLE-STRUCTURED-LOCATION;VALUE=URI;X-ADDRESS=HK Coliseum 9 Cheong Wan Road Hung Hom Hong Kong;X-APPLE-RADIUS=500;X-TITLE=9 Cheong Wan Road:geo:114.1820305,22.3014169
END:VEVENT
BEGIN:VEVENT
DTSTART;TZID=Asia/Hong_Kong:20220906T190000
DTEND;TZID=Asia/Hong_Kong:20220906T190000
DTSTAMP:20260421T104808
CREATED:20220708T000816Z
LAST-MODIFIED:20220816T065247Z
UID:10006709-1662490800-1662490800@www.bcmagazine.net
SUMMARY:Joyce Cheng x Anson Lo
DESCRIPTION:Joyce Cheng x Anson Lo\nDate: 7pm\, 6 September\, 2022\nVenue: AsiaWorld-Expo\, Arena\nTickets:
URL:https://www.bcmagazine.net/event/joyce-cheng-x-anson-lo-2022/
LOCATION:AsiaWorld Expo\, Arena\, Hong Kong
CATEGORIES:2022,Cantopop,Concert,Music,Performing Arts
ATTACH;FMTTYPE=image/jpeg:https://www.bcmagazine.net/wp-content/uploads/2022/08/Joyce-Cheng-x-Anson-Lo-2022.jpeg
END:VEVENT
BEGIN:VEVENT
DTSTART;TZID=Asia/Hong_Kong:20220909T190000
DTEND;TZID=Asia/Hong_Kong:20220909T190000
DTSTAMP:20260421T104808
CREATED:19220728T000816Z
LAST-MODIFIED:20220816T071542Z
UID:10005349-1662750000-1662750000@www.bcmagazine.net
SUMMARY:Brand New Live
DESCRIPTION:Brand New Live: 193\, Ansonbean\, Before The Night Ends\, Fatboy\, Lokman\, Mansonvibes\, MC $oHo & KidNey\, MC張天賦\, 力臻\, 李妍\, 呂爵安\, 炎明熹\, 姚焯菲\, 張蔓姿\, 惡夢扭蛋及薛晉寧\nDate: 7pm\, 9 September\, 2022\nVenue: AsiaWorld-Expo\, Arena\nTickets: $880\, $680\, $480\, $380 from Cityline
URL:https://www.bcmagazine.net/event/brand-new-live-2022/
LOCATION:AsiaWorld Expo\, Arena\, Hong Kong
CATEGORIES:2022,Cantopop,Concert,Music,Performing Arts
ATTACH;FMTTYPE=image/jpeg:https://www.bcmagazine.net/wp-content/uploads/2022/07/George-Lam-The-Smiling-2022.jpeg
END:VEVENT
BEGIN:VEVENT
DTSTART;TZID=Asia/Hong_Kong:20220910T150000
DTEND;TZID=Asia/Hong_Kong:20220910T150000
DTSTAMP:20260421T104808
CREATED:19190728T124055Z
LAST-MODIFIED:20220810T021654Z
UID:10004882-1662822000-1662822000@www.bcmagazine.net
SUMMARY:Woo Fung
DESCRIPTION:Woo Fung\nDate: 3pm\, 10 September\, 2022\nVenue: HK Coliseum\nTickets: $980\, $780\, $580\, $380 from Urbtix
URL:https://www.bcmagazine.net/event/woo-fung/2022-09-10/
LOCATION:HK Coliseum\, 9 Cheong Wan Road\, Hung Hom\, Hong Kong
CATEGORIES:2022,Concert,Music,Performing Arts
ATTACH;FMTTYPE=image/jpeg:https://www.bcmagazine.net/wp-content/uploads/1919/07/woo-fung-2022.jpeg
GEO:22.3014169;114.1820305
X-APPLE-STRUCTURED-LOCATION;VALUE=URI;X-ADDRESS=HK Coliseum 9 Cheong Wan Road Hung Hom Hong Kong;X-APPLE-RADIUS=500;X-TITLE=9 Cheong Wan Road:geo:114.1820305,22.3014169
END:VEVENT
BEGIN:VEVENT
DTSTART;TZID=Asia/Hong_Kong:20220913T200000
DTEND;TZID=Asia/Hong_Kong:20220913T200000
DTSTAMP:20260421T104808
CREATED:19190728T124055Z
LAST-MODIFIED:20220810T014322Z
UID:10004843-1663099200-1663099200@www.bcmagazine.net
SUMMARY:Bedrex Showcase
DESCRIPTION:Bedrex Showcase 2022\nDate: 8pm\, 13-14 September\, 2022\nVenue: Kitec\, Star Hall\nTickets: $240\, $200\, $180\, $160
URL:https://www.bcmagazine.net/event/bedrex-showcase/2022-09-13/
LOCATION:KITEC\, Star Hall\, KITEC\, 1 Trademart Drive\, Kowloon Bay\, Hong Kong
CATEGORIES:2022,Concert,Dance,Music,Performing Arts
ATTACH;FMTTYPE=image/jpeg:https://www.bcmagazine.net/wp-content/uploads/1919/07/Bedrex-2022.jpeg
GEO:22.3239575;114.2037608
X-APPLE-STRUCTURED-LOCATION;VALUE=URI;X-ADDRESS=KITEC Star Hall KITEC 1 Trademart Drive Kowloon Bay Hong Kong;X-APPLE-RADIUS=500;X-TITLE=KITEC\, 1 Trademart Drive:geo:114.2037608,22.3239575
END:VEVENT
BEGIN:VEVENT
DTSTART;TZID=Asia/Hong_Kong:20220914T200000
DTEND;TZID=Asia/Hong_Kong:20220914T200000
DTSTAMP:20260421T104808
CREATED:19190728T124055Z
LAST-MODIFIED:20220810T014322Z
UID:10004844-1663185600-1663185600@www.bcmagazine.net
SUMMARY:Bedrex Showcase
DESCRIPTION:Bedrex Showcase 2022\nDate: 8pm\, 13-14 September\, 2022\nVenue: Kitec\, Star Hall\nTickets: $240\, $200\, $180\, $160
URL:https://www.bcmagazine.net/event/bedrex-showcase/2022-09-14/
LOCATION:KITEC\, Star Hall\, KITEC\, 1 Trademart Drive\, Kowloon Bay\, Hong Kong
CATEGORIES:2022,Concert,Dance,Music,Performing Arts
ATTACH;FMTTYPE=image/jpeg:https://www.bcmagazine.net/wp-content/uploads/1919/07/Bedrex-2022.jpeg
GEO:22.3239575;114.2037608
X-APPLE-STRUCTURED-LOCATION;VALUE=URI;X-ADDRESS=KITEC Star Hall KITEC 1 Trademart Drive Kowloon Bay Hong Kong;X-APPLE-RADIUS=500;X-TITLE=KITEC\, 1 Trademart Drive:geo:114.2037608,22.3239575
END:VEVENT
BEGIN:VEVENT
DTSTART;TZID=Asia/Hong_Kong:20220917T200000
DTEND;TZID=Asia/Hong_Kong:20220917T200000
DTSTAMP:20260421T104808
CREATED:19190728T124055Z
LAST-MODIFIED:20220810T015044Z
UID:10004871-1663444800-1663444800@www.bcmagazine.net
SUMMARY:Josie & The Uni Boys
DESCRIPTION:Josie & The Uni Boys – The Flash Back Now Party​\nDate: 8pm\, 17-18 September\, 2022\nVenue: Kitec\, Star Hall\nTickets: $880\, $580\, $380 from HKTicketing
URL:https://www.bcmagazine.net/event/josie-the-uni-boys/2022-09-17/
LOCATION:KITEC\, Star Hall\, KITEC\, 1 Trademart Drive\, Kowloon Bay\, Hong Kong
CATEGORIES:2022,Concert,Music,Performing Arts
ATTACH;FMTTYPE=image/jpeg:https://www.bcmagazine.net/wp-content/uploads/1919/07/Josie-The-Uni-Boys-The-Flash-Back-Now-Party​-2022.jpeg
GEO:22.3239575;114.2037608
X-APPLE-STRUCTURED-LOCATION;VALUE=URI;X-ADDRESS=KITEC Star Hall KITEC 1 Trademart Drive Kowloon Bay Hong Kong;X-APPLE-RADIUS=500;X-TITLE=KITEC\, 1 Trademart Drive:geo:114.2037608,22.3239575
END:VEVENT
BEGIN:VEVENT
DTSTART;TZID=Asia/Hong_Kong:20220918T200000
DTEND;TZID=Asia/Hong_Kong:20220918T200000
DTSTAMP:20260421T104808
CREATED:19190728T124055Z
LAST-MODIFIED:20220810T015044Z
UID:10004872-1663531200-1663531200@www.bcmagazine.net
SUMMARY:Josie & The Uni Boys
DESCRIPTION:Josie & The Uni Boys – The Flash Back Now Party​\nDate: 8pm\, 17-18 September\, 2022\nVenue: Kitec\, Star Hall\nTickets: $880\, $580\, $380 from HKTicketing
URL:https://www.bcmagazine.net/event/josie-the-uni-boys/2022-09-18/
LOCATION:KITEC\, Star Hall\, KITEC\, 1 Trademart Drive\, Kowloon Bay\, Hong Kong
CATEGORIES:2022,Concert,Music,Performing Arts
ATTACH;FMTTYPE=image/jpeg:https://www.bcmagazine.net/wp-content/uploads/1919/07/Josie-The-Uni-Boys-The-Flash-Back-Now-Party​-2022.jpeg
GEO:22.3239575;114.2037608
X-APPLE-STRUCTURED-LOCATION;VALUE=URI;X-ADDRESS=KITEC Star Hall KITEC 1 Trademart Drive Kowloon Bay Hong Kong;X-APPLE-RADIUS=500;X-TITLE=KITEC\, 1 Trademart Drive:geo:114.2037608,22.3239575
END:VEVENT
BEGIN:VEVENT
DTSTART;VALUE=DATE:20220930
DTEND;VALUE=DATE:20221003
DTSTAMP:20260421T104808
CREATED:19210628T094055Z
LAST-MODIFIED:20220520T110520Z
UID:10005209-1664496000-1664755199@www.bcmagazine.net
SUMMARY:HNTEC C.N.D. Festival 2022
DESCRIPTION:HNTEC C.N.D. Festival 2022\nCharlotte de Witte\, ARTBAT\, Amelie Lens\, Enrico Sangiuliano\, Ida Engberg\, Boris Brejcha\, ANNA\, Monolink\, Francesco Sambero B2B Michele Ponzoni\, Pavel Khvaleev\, Miss Monique\, DJ Steve\, Kiyo Nakamura\, ATB x Tiff Lacey\, Solarstone\, DJ Heha\, Giuseppe Ottaviani\, Hiace van Aiport\, Paul Kalkbrenner\, Lexy & K-Paul\, Gabriel & Dresden\, AVIRA\, Roger Shah\, Rinaly\nDate: 8:30pm\, 30 September – 2 October 2022\nVenue: Muk Wu\nTickets: $798 from Solarhouse Records
URL:https://www.bcmagazine.net/event/hntec-cnd-festival-2022/
LOCATION:Muk Wu\, Lin Ma Hang Road\, New Territories\, Hong Kong
CATEGORIES:2022,Concert,DJ,Music,Performing Arts
ATTACH;FMTTYPE=image/webp:https://www.bcmagazine.net/wp-content/uploads/1921/06/HNTEC-CND-2022.webp
END:VEVENT
END:VCALENDAR