BEGIN:VCALENDAR
VERSION:2.0
PRODID:-//bc magazine - ECPv6.15.20//NONSGML v1.0//EN
CALSCALE:GREGORIAN
METHOD:PUBLISH
X-WR-CALNAME:bc magazine
X-ORIGINAL-URL:https://www.bcmagazine.net
X-WR-CALDESC:Events for bc magazine
REFRESH-INTERVAL;VALUE=DURATION:PT1H
X-Robots-Tag:noindex
X-PUBLISHED-TTL:PT1H
BEGIN:VTIMEZONE
TZID:Asia/Hong_Kong
BEGIN:STANDARD
TZOFFSETFROM:+0800
TZOFFSETTO:+0800
TZNAME:HKT
DTSTART:20220101T000000
END:STANDARD
END:VTIMEZONE
BEGIN:VEVENT
DTSTART;VALUE=DATE:20230401
DTEND;VALUE=DATE:20230701
DTSTAMP:20260421T161649
CREATED:19160430T000803Z
LAST-MODIFIED:20230326T174015Z
UID:10006793-1680307200-1688169599@www.bcmagazine.net
SUMMARY:Le French May 2023
DESCRIPTION:Le French May\nDate: April-June\, 2023\nVenue: Various\nTickets: Various\nMore info:\nwww.FrenchMay.com
URL:https://www.bcmagazine.net/event/le-french-may-2023/
CATEGORIES:2023,Art Gallery,Concert,Cultural Festival,Exhibition,Fashion,Film,Food,Lifestyle,Multimedia,Music,Performing Arts
ATTACH;FMTTYPE=image/jpeg:https://www.bcmagazine.net/wp-content/uploads/2016/04/french-may-2023-cover-art.jpg
END:VEVENT
BEGIN:VEVENT
DTSTART;TZID=Asia/Hong_Kong:20230505T200000
DTEND;TZID=Asia/Hong_Kong:20230505T200000
DTSTAMP:20260421T161649
CREATED:19150503T053525Z
LAST-MODIFIED:20230223T213441Z
UID:10006758-1683316800-1683316800@www.bcmagazine.net
SUMMARY:Jay Chou
DESCRIPTION:Jay Chou – Carnival\nDate: 8pm\, 5-7\, 10-11\, 13-14 May\, 2023\nVenue: Central Harbourfront Event Space\nTickets: tbc\nMore info: Rescheduled from 2021
URL:https://www.bcmagazine.net/event/jay-chou/2023-05-05/
LOCATION:Central Harbourfront\,  9 Lung Wo Road\, Central\, Hong Kong
CATEGORIES:2023,Concert,concert,Music,Nightlife,Performing Arts
ATTACH;FMTTYPE=image/jpeg:https://www.bcmagazine.net/wp-content/uploads/2015/05/jay-chou-2023.jpeg
GEO:22.2826223;114.164346
X-APPLE-STRUCTURED-LOCATION;VALUE=URI;X-ADDRESS=Central Harbourfront  9 Lung Wo Road Central Hong Kong;X-APPLE-RADIUS=500;X-TITLE=9 Lung Wo Road:geo:114.164346,22.2826223
END:VEVENT
BEGIN:VEVENT
DTSTART;TZID=Asia/Hong_Kong:20230506T200000
DTEND;TZID=Asia/Hong_Kong:20230506T200000
DTSTAMP:20260421T161649
CREATED:19150503T053525Z
LAST-MODIFIED:20230223T213441Z
UID:10006759-1683403200-1683403200@www.bcmagazine.net
SUMMARY:Jay Chou
DESCRIPTION:Jay Chou – Carnival\nDate: 8pm\, 5-7\, 10-11\, 13-14 May\, 2023\nVenue: Central Harbourfront Event Space\nTickets: tbc\nMore info: Rescheduled from 2021
URL:https://www.bcmagazine.net/event/jay-chou/2023-05-06/
LOCATION:Central Harbourfront\,  9 Lung Wo Road\, Central\, Hong Kong
CATEGORIES:2023,Concert,concert,Music,Nightlife,Performing Arts
ATTACH;FMTTYPE=image/jpeg:https://www.bcmagazine.net/wp-content/uploads/2015/05/jay-chou-2023.jpeg
GEO:22.2826223;114.164346
X-APPLE-STRUCTURED-LOCATION;VALUE=URI;X-ADDRESS=Central Harbourfront  9 Lung Wo Road Central Hong Kong;X-APPLE-RADIUS=500;X-TITLE=9 Lung Wo Road:geo:114.164346,22.2826223
END:VEVENT
BEGIN:VEVENT
DTSTART;TZID=Asia/Hong_Kong:20230507T190000
DTEND;TZID=Asia/Hong_Kong:20230507T190000
DTSTAMP:20260421T161649
CREATED:19230221T211102Z
LAST-MODIFIED:20230310T153812Z
UID:10006775-1683486000-1683486000@www.bcmagazine.net
SUMMARY:Treasure
DESCRIPTION:Treasure – Hello\nDate: 7pm\, 20 May\, 2023\nVenue: AsiaWorld Expo\, Arena\nTickets: $1\,699\, $1\,099\, $899\, $699 from Cityline
URL:https://www.bcmagazine.net/event/treasure-hello-2023/
LOCATION:AsiaWorld Expo\, Arena\, Hong Kong
CATEGORIES:2023,Concert,Music,Performing Arts
ATTACH;FMTTYPE=image/jpeg:https://www.bcmagazine.net/wp-content/uploads/1923/02/treasure-hello-2023.jpeg
END:VEVENT
BEGIN:VEVENT
DTSTART;TZID=Asia/Hong_Kong:20230507T200000
DTEND;TZID=Asia/Hong_Kong:20230507T200000
DTSTAMP:20260421T161649
CREATED:19150503T053525Z
LAST-MODIFIED:20230223T213441Z
UID:10006764-1683489600-1683489600@www.bcmagazine.net
SUMMARY:Jay Chou
DESCRIPTION:Jay Chou – Carnival\nDate: 8pm\, 5-7\, 10-11\, 13-14 May\, 2023\nVenue: Central Harbourfront Event Space\nTickets: tbc\nMore info: Rescheduled from 2021
URL:https://www.bcmagazine.net/event/jay-chou/2023-05-07/
LOCATION:Central Harbourfront\,  9 Lung Wo Road\, Central\, Hong Kong
CATEGORIES:2023,Concert,concert,Music,Nightlife,Performing Arts
ATTACH;FMTTYPE=image/jpeg:https://www.bcmagazine.net/wp-content/uploads/2015/05/jay-chou-2023.jpeg
GEO:22.2826223;114.164346
X-APPLE-STRUCTURED-LOCATION;VALUE=URI;X-ADDRESS=Central Harbourfront  9 Lung Wo Road Central Hong Kong;X-APPLE-RADIUS=500;X-TITLE=9 Lung Wo Road:geo:114.164346,22.2826223
END:VEVENT
BEGIN:VEVENT
DTSTART;TZID=Asia/Hong_Kong:20230510T200000
DTEND;TZID=Asia/Hong_Kong:20230510T200000
DTSTAMP:20260421T161649
CREATED:19150503T053525Z
LAST-MODIFIED:20230223T213441Z
UID:10006761-1683748800-1683748800@www.bcmagazine.net
SUMMARY:Jay Chou
DESCRIPTION:Jay Chou – Carnival\nDate: 8pm\, 5-7\, 10-11\, 13-14 May\, 2023\nVenue: Central Harbourfront Event Space\nTickets: tbc\nMore info: Rescheduled from 2021
URL:https://www.bcmagazine.net/event/jay-chou/2023-05-10/
LOCATION:Central Harbourfront\,  9 Lung Wo Road\, Central\, Hong Kong
CATEGORIES:2023,Concert,concert,Music,Nightlife,Performing Arts
ATTACH;FMTTYPE=image/jpeg:https://www.bcmagazine.net/wp-content/uploads/2015/05/jay-chou-2023.jpeg
GEO:22.2826223;114.164346
X-APPLE-STRUCTURED-LOCATION;VALUE=URI;X-ADDRESS=Central Harbourfront  9 Lung Wo Road Central Hong Kong;X-APPLE-RADIUS=500;X-TITLE=9 Lung Wo Road:geo:114.164346,22.2826223
END:VEVENT
BEGIN:VEVENT
DTSTART;TZID=Asia/Hong_Kong:20230511T200000
DTEND;TZID=Asia/Hong_Kong:20230511T200000
DTSTAMP:20260421T161649
CREATED:19150503T053525Z
LAST-MODIFIED:20230223T213441Z
UID:10006766-1683835200-1683835200@www.bcmagazine.net
SUMMARY:Jay Chou
DESCRIPTION:Jay Chou – Carnival\nDate: 8pm\, 5-7\, 10-11\, 13-14 May\, 2023\nVenue: Central Harbourfront Event Space\nTickets: tbc\nMore info: Rescheduled from 2021
URL:https://www.bcmagazine.net/event/jay-chou/2023-05-11/
LOCATION:Central Harbourfront\,  9 Lung Wo Road\, Central\, Hong Kong
CATEGORIES:2023,Concert,concert,Music,Nightlife,Performing Arts
ATTACH;FMTTYPE=image/jpeg:https://www.bcmagazine.net/wp-content/uploads/2015/05/jay-chou-2023.jpeg
GEO:22.2826223;114.164346
X-APPLE-STRUCTURED-LOCATION;VALUE=URI;X-ADDRESS=Central Harbourfront  9 Lung Wo Road Central Hong Kong;X-APPLE-RADIUS=500;X-TITLE=9 Lung Wo Road:geo:114.164346,22.2826223
END:VEVENT
BEGIN:VEVENT
DTSTART;TZID=Asia/Hong_Kong:20230512T160000
DTEND;TZID=Asia/Hong_Kong:20230512T160000
DTSTAMP:20260421T161649
CREATED:20230427T044512Z
LAST-MODIFIED:20230512T110140Z
UID:10006804-1683907200-1683907200@www.bcmagazine.net
SUMMARY:Ginsanity
DESCRIPTION:Ginsanity brings together more than 50 different craft gins and tonics from across the globe for visitors to discover. Entry is free. \nGinsanity\nDate: 12-13 May\, 2023\nVenue: PMQ\nTickets: Free
URL:https://www.bcmagazine.net/event/ginsanity-2023/2023-05-12/
LOCATION:PMQ\, 35 Aberdeen Street\, Central\, Hong Kong
CATEGORIES:2023,Concert,Food,Free,Lifestyle,Music,Nightlife,Performing Arts
ATTACH;FMTTYPE=image/jpeg:https://www.bcmagazine.net/wp-content/uploads/2019/04/ginsanity-2023.jpeg
GEO:22.2836011;114.1524554
X-APPLE-STRUCTURED-LOCATION;VALUE=URI;X-ADDRESS=PMQ 35 Aberdeen Street Central Hong Kong;X-APPLE-RADIUS=500;X-TITLE=35 Aberdeen Street:geo:114.1524554,22.2836011
END:VEVENT
BEGIN:VEVENT
DTSTART;TZID=Asia/Hong_Kong:20230513T130000
DTEND;TZID=Asia/Hong_Kong:20230513T130000
DTSTAMP:20260421T161649
CREATED:20230427T044512Z
LAST-MODIFIED:20230512T110140Z
UID:10006805-1683982800-1683982800@www.bcmagazine.net
SUMMARY:Ginsanity
DESCRIPTION:Ginsanity brings together more than 50 different craft gins and tonics from across the globe for visitors to discover. Entry is free. \nGinsanity\nDate: 12-13 May\, 2023\nVenue: PMQ\nTickets: Free
URL:https://www.bcmagazine.net/event/ginsanity-2023/2023-05-13/
LOCATION:PMQ\, 35 Aberdeen Street\, Central\, Hong Kong
CATEGORIES:2023,Concert,Food,Free,Lifestyle,Music,Nightlife,Performing Arts
ATTACH;FMTTYPE=image/jpeg:https://www.bcmagazine.net/wp-content/uploads/2019/04/ginsanity-2023.jpeg
GEO:22.2836011;114.1524554
X-APPLE-STRUCTURED-LOCATION;VALUE=URI;X-ADDRESS=PMQ 35 Aberdeen Street Central Hong Kong;X-APPLE-RADIUS=500;X-TITLE=35 Aberdeen Street:geo:114.1524554,22.2836011
END:VEVENT
BEGIN:VEVENT
DTSTART;TZID=Asia/Hong_Kong:20230513T200000
DTEND;TZID=Asia/Hong_Kong:20230513T200000
DTSTAMP:20260421T161649
CREATED:19150503T053525Z
LAST-MODIFIED:20230223T213441Z
UID:10006763-1684008000-1684008000@www.bcmagazine.net
SUMMARY:Jay Chou
DESCRIPTION:Jay Chou – Carnival\nDate: 8pm\, 5-7\, 10-11\, 13-14 May\, 2023\nVenue: Central Harbourfront Event Space\nTickets: tbc\nMore info: Rescheduled from 2021
URL:https://www.bcmagazine.net/event/jay-chou/2023-05-13/
LOCATION:Central Harbourfront\,  9 Lung Wo Road\, Central\, Hong Kong
CATEGORIES:2023,Concert,concert,Music,Nightlife,Performing Arts
ATTACH;FMTTYPE=image/jpeg:https://www.bcmagazine.net/wp-content/uploads/2015/05/jay-chou-2023.jpeg
GEO:22.2826223;114.164346
X-APPLE-STRUCTURED-LOCATION;VALUE=URI;X-ADDRESS=Central Harbourfront  9 Lung Wo Road Central Hong Kong;X-APPLE-RADIUS=500;X-TITLE=9 Lung Wo Road:geo:114.164346,22.2826223
END:VEVENT
BEGIN:VEVENT
DTSTART;TZID=Asia/Hong_Kong:20230513T200000
DTEND;TZID=Asia/Hong_Kong:20230513T200000
DTSTAMP:20260421T161649
CREATED:19230221T211102Z
LAST-MODIFIED:20230505T093208Z
UID:10006798-1684008000-1684008000@www.bcmagazine.net
SUMMARY:Heathers the Musical
DESCRIPTION:Heathers the Musical\nDate: 13-14 May 2023\nVenue: The Box\, Freespace\, West Kowloon Cultural District\nTickets: $450\, $280 from Amusix
URL:https://www.bcmagazine.net/event/heathers-the-musical/2023-05-13/
LOCATION:West Kowloon Cultural District\, Freespace\, The Box\, West Kowloon\, Hong Kong
CATEGORIES:2023,Concert,Music,Musical,Performing Arts
ATTACH;FMTTYPE=image/jpeg:https://www.bcmagazine.net/wp-content/uploads/1923/02/heathers-musical-2023.jpeg
END:VEVENT
BEGIN:VEVENT
DTSTART;TZID=Asia/Hong_Kong:20230514T143000
DTEND;TZID=Asia/Hong_Kong:20230514T143000
DTSTAMP:20260421T161649
CREATED:19230221T211102Z
LAST-MODIFIED:20230505T093208Z
UID:10006799-1684074600-1684074600@www.bcmagazine.net
SUMMARY:Heathers the Musical
DESCRIPTION:Heathers the Musical\nDate: 13-14 May 2023\nVenue: The Box\, Freespace\, West Kowloon Cultural District\nTickets: $450\, $280 from Amusix
URL:https://www.bcmagazine.net/event/heathers-the-musical/2023-05-14/
LOCATION:West Kowloon Cultural District\, Freespace\, The Box\, West Kowloon\, Hong Kong
CATEGORIES:2023,Concert,Music,Musical,Performing Arts
ATTACH;FMTTYPE=image/jpeg:https://www.bcmagazine.net/wp-content/uploads/1923/02/heathers-musical-2023.jpeg
END:VEVENT
BEGIN:VEVENT
DTSTART;TZID=Asia/Hong_Kong:20230514T200000
DTEND;TZID=Asia/Hong_Kong:20230514T200000
DTSTAMP:20260421T161649
CREATED:19150503T053525Z
LAST-MODIFIED:20230223T213441Z
UID:10006765-1684094400-1684094400@www.bcmagazine.net
SUMMARY:Jay Chou
DESCRIPTION:Jay Chou – Carnival\nDate: 8pm\, 5-7\, 10-11\, 13-14 May\, 2023\nVenue: Central Harbourfront Event Space\nTickets: tbc\nMore info: Rescheduled from 2021
URL:https://www.bcmagazine.net/event/jay-chou/2023-05-14/
LOCATION:Central Harbourfront\,  9 Lung Wo Road\, Central\, Hong Kong
CATEGORIES:2023,Concert,concert,Music,Nightlife,Performing Arts
ATTACH;FMTTYPE=image/jpeg:https://www.bcmagazine.net/wp-content/uploads/2015/05/jay-chou-2023.jpeg
GEO:22.2826223;114.164346
X-APPLE-STRUCTURED-LOCATION;VALUE=URI;X-ADDRESS=Central Harbourfront  9 Lung Wo Road Central Hong Kong;X-APPLE-RADIUS=500;X-TITLE=9 Lung Wo Road:geo:114.164346,22.2826223
END:VEVENT
BEGIN:VEVENT
DTSTART;TZID=Asia/Hong_Kong:20230516T200000
DTEND;TZID=Asia/Hong_Kong:20230516T200000
DTSTAMP:20260421T161649
CREATED:19230221T211102Z
LAST-MODIFIED:20230221T214232Z
UID:10006738-1684267200-1684267200@www.bcmagazine.net
SUMMARY:Honne May
DESCRIPTION:Honne May Asia Tour\nDate: 8pm\, 16 May 2023\nVenue: Kitec\, Star Hall\nTickets: $1\,800\, $590 from HKTicketing
URL:https://www.bcmagazine.net/event/honne-may-2023/
LOCATION:KITEC\, Star Hall\, KITEC\, 1 Trademart Drive\, Kowloon Bay\, Hong Kong
CATEGORIES:2023,Concert,Music,Performing Arts
ATTACH;FMTTYPE=image/png:https://www.bcmagazine.net/wp-content/uploads/1923/02/Honne-May-2023.png
GEO:22.3239575;114.2037608
X-APPLE-STRUCTURED-LOCATION;VALUE=URI;X-ADDRESS=KITEC Star Hall KITEC 1 Trademart Drive Kowloon Bay Hong Kong;X-APPLE-RADIUS=500;X-TITLE=KITEC\, 1 Trademart Drive:geo:114.2037608,22.3239575
END:VEVENT
BEGIN:VEVENT
DTSTART;TZID=Asia/Hong_Kong:20230519T200000
DTEND;TZID=Asia/Hong_Kong:20230519T201500
DTSTAMP:20260421T161649
CREATED:19180608T094055Z
LAST-MODIFIED:20230310T163253Z
UID:10006785-1684526400-1684527300@www.bcmagazine.net
SUMMARY:Charmaine Fong
DESCRIPTION:Charmaine Fong – Our Life\nDate: 8:15pm\, 19-20 May\, 2023\nVenue: AsiaWorld Expo\, Hall 10\nTickets: $880 $780\, $580\, $380 from HKTicketing
URL:https://www.bcmagazine.net/event/charmaine-fong-2023/2023-05-19/
LOCATION:AsiaWorld-Expo\, Hall 10\, Cheong Wing Road\, Chek Lap Kok\, Lantau\, Hong Kong
CATEGORIES:2023,Cantopop,Concert,Music,Performing Arts
ATTACH;FMTTYPE=image/jpeg:https://www.bcmagazine.net/wp-content/uploads/1918/06/Charmaine-Fong-2023.jpeg
GEO:22.3217383;113.9402012
X-APPLE-STRUCTURED-LOCATION;VALUE=URI;X-ADDRESS=AsiaWorld-Expo Hall 10 Cheong Wing Road Chek Lap Kok Lantau Hong Kong;X-APPLE-RADIUS=500;X-TITLE=Cheong Wing Road\, Chek Lap Kok:geo:113.9402012,22.3217383
END:VEVENT
BEGIN:VEVENT
DTSTART;TZID=Asia/Hong_Kong:20230520T200000
DTEND;TZID=Asia/Hong_Kong:20230520T201500
DTSTAMP:20260421T161649
CREATED:19180608T094055Z
LAST-MODIFIED:20230310T163253Z
UID:10006786-1684612800-1684613700@www.bcmagazine.net
SUMMARY:Charmaine Fong
DESCRIPTION:Charmaine Fong – Our Life\nDate: 8:15pm\, 19-20 May\, 2023\nVenue: AsiaWorld Expo\, Hall 10\nTickets: $880 $780\, $580\, $380 from HKTicketing
URL:https://www.bcmagazine.net/event/charmaine-fong-2023/2023-05-20/
LOCATION:AsiaWorld-Expo\, Hall 10\, Cheong Wing Road\, Chek Lap Kok\, Lantau\, Hong Kong
CATEGORIES:2023,Cantopop,Concert,Music,Performing Arts
ATTACH;FMTTYPE=image/jpeg:https://www.bcmagazine.net/wp-content/uploads/1918/06/Charmaine-Fong-2023.jpeg
GEO:22.3217383;113.9402012
X-APPLE-STRUCTURED-LOCATION;VALUE=URI;X-ADDRESS=AsiaWorld-Expo Hall 10 Cheong Wing Road Chek Lap Kok Lantau Hong Kong;X-APPLE-RADIUS=500;X-TITLE=Cheong Wing Road\, Chek Lap Kok:geo:113.9402012,22.3217383
END:VEVENT
BEGIN:VEVENT
DTSTART;TZID=Asia/Hong_Kong:20230520T203000
DTEND;TZID=Asia/Hong_Kong:20230520T203000
DTSTAMP:20260421T161649
CREATED:20230505T024237Z
LAST-MODIFIED:20230516T123307Z
UID:10006815-1684614600-1684614600@www.bcmagazine.net
SUMMARY:Maenad & the Ravers
DESCRIPTION:Maenad & the Ravers\nDate: 8:30pm\, 20 May 2023\nVenue: Bound\nTickets: tbc
URL:https://www.bcmagazine.net/event/maenad-the-ravers-20-may-2023/
LOCATION:Bound\, 32 Boundary Street\, Sham Shui Po\, Hong Kong
CATEGORIES:2023,Concert,Music,Nightlife,Performing Arts
ATTACH;FMTTYPE=image/jpeg:https://www.bcmagazine.net/wp-content/uploads/2023/04/Maenad-the-Ravers.jpeg
END:VEVENT
BEGIN:VEVENT
DTSTART;TZID=Asia/Hong_Kong:20230527T190000
DTEND;TZID=Asia/Hong_Kong:20230527T190000
DTSTAMP:20260421T161649
CREATED:20230428T024237Z
LAST-MODIFIED:20230507T084228Z
UID:10006800-1685214000-1685214000@www.bcmagazine.net
SUMMARY:King Ly Chee 荔枝王
DESCRIPTION:King Lychee\nDate: 7pm\, 27 May 2023\nVenue: The Park by Years\nTickets: $320 from The Years
URL:https://www.bcmagazine.net/event/king-ly-chee-%e8%8d%94%e6%9e%9d%e7%8e%8b-the-years-2023/
LOCATION:The Park by Years\, 126 Yu Chau Street\, Sham Shui Po\, Hong Kong
CATEGORIES:2023,Concert,Music,Nightlife,Performing Arts
ATTACH;FMTTYPE=image/jpeg:https://www.bcmagazine.net/wp-content/uploads/2021/12/King-lychee-27-may-2023.jpeg
END:VEVENT
END:VCALENDAR