BEGIN:VCALENDAR
VERSION:2.0
PRODID:-//bc magazine - ECPv6.15.20//NONSGML v1.0//EN
CALSCALE:GREGORIAN
METHOD:PUBLISH
X-WR-CALNAME:bc magazine
X-ORIGINAL-URL:https://www.bcmagazine.net
X-WR-CALDESC:Events for bc magazine
REFRESH-INTERVAL;VALUE=DURATION:PT1H
X-Robots-Tag:noindex
X-PUBLISHED-TTL:PT1H
BEGIN:VTIMEZONE
TZID:Asia/Hong_Kong
BEGIN:STANDARD
TZOFFSETFROM:+0800
TZOFFSETTO:+0800
TZNAME:HKT
DTSTART:20230101T000000
END:STANDARD
END:VTIMEZONE
BEGIN:VEVENT
DTSTART;VALUE=DATE:20241113
DTEND;VALUE=DATE:20250113
DTSTAMP:20260426T101749
CREATED:20241011T100841Z
LAST-MODIFIED:20241014T153459Z
UID:10010171-1731456000-1736726399@www.bcmagazine.net
SUMMARY:Sai Kung Hoi Arts Festival
DESCRIPTION:Sai Kung Hoi Arts Festival\nDate: 13 November 2024 – 12 January 2025\nVenue: Various\nTickets: online\nNote: https://skhartsfestival.hk/en/
URL:https://www.bcmagazine.net/event/sai-kung-hoi-arts-festival-2024/
LOCATION:Sai Kung\, Sai Kung\, Hong Kong
CATEGORIES:2024,2025,Cultural Festival,Free,Performing Arts
ATTACH;FMTTYPE=image/jpeg:https://www.bcmagazine.net/wp-content/uploads/1921/02/sai-hung-koi-arts-festival-2024.jpg
GEO:22.396428;114.109497
END:VEVENT
BEGIN:VEVENT
DTSTART;TZID=Asia/Hong_Kong:20250116T200000
DTEND;TZID=Asia/Hong_Kong:20250116T200000
DTSTAMP:20260426T101749
CREATED:20241219T024537Z
LAST-MODIFIED:20241219T144745Z
UID:10010203-1737057600-1737057600@www.bcmagazine.net
SUMMARY:Lepyutin - Live in Hong Kong 2025
DESCRIPTION:Lepyutin – Live in Hong Kong 2025\nDate: 8pm\, 16 Jan 2025\nVenue: MOM Livehouse\nTickets: $550 (door)\, $420 (advance) tickets from here
URL:https://www.bcmagazine.net/event/lepyutin-live-in-hong-kong-2025/
LOCATION:MOM Livehouse\, B39 Seven Seas Shopping Centre\, 117-121 Kings Road\, North Point\, Hong Kong
CATEGORIES:2025,Concert,Music,Nightlife,Performing Arts
ATTACH;FMTTYPE=image/jpeg:https://www.bcmagazine.net/wp-content/uploads/2024/03/Lepyutin-Live-in-Hong-Kong-2025.jpg
GEO:22.2884683;114.192803
X-APPLE-STRUCTURED-LOCATION;VALUE=URI;X-ADDRESS=MOM Livehouse B39 Seven Seas Shopping Centre 117-121 Kings Road North Point Hong Kong;X-APPLE-RADIUS=500;X-TITLE=B39 Seven Seas Shopping Centre\, 117-121 Kings Road:geo:114.192803,22.2884683
END:VEVENT
BEGIN:VEVENT
DTSTART;TZID=Asia/Hong_Kong:20250129T200000
DTEND;TZID=Asia/Hong_Kong:20250129T200000
DTSTAMP:20260426T101749
CREATED:20250110T040919Z
LAST-MODIFIED:20250110T083300Z
UID:10010206-1738180800-1738180800@www.bcmagazine.net
SUMMARY:Chinese New Year Night Parade
DESCRIPTION:  \nThe Chinese New Year Night Parade will be held on the first day of the Year of the Snake (29 January). \nOrganised by the HK Tourism Board the parade route starts at the HK Cultural Centre\, proceeds along Canton Road then Haiphong Road\, turns right on Nathan Road\, and ends just past Chungking Mansions. \nChinese New Year Night Parade\nDate: 8pm\, 29 January\, 2025\nVenue: Tsim Sha Tsui\nTickets: Free
URL:https://www.bcmagazine.net/event/chinese-new-year-night-parade-2025/
LOCATION:Tsim Sha Tsui Promenade\, Clock Tower\, Tsim Sha Tsui\, Hong Kong
CATEGORIES:2025,Cultural Festival,Dance,Free,Lifestyle,Nightlife,Performing Arts
ATTACH;FMTTYPE=image/jpeg:https://www.bcmagazine.net/wp-content/uploads/2017/01/lunar-new-year-parade-2025.jpg
END:VEVENT
END:VCALENDAR