BEGIN:VCALENDAR
VERSION:2.0
PRODID:-//bc magazine - ECPv6.15.20//NONSGML v1.0//EN
CALSCALE:GREGORIAN
METHOD:PUBLISH
X-ORIGINAL-URL:https://www.bcmagazine.net
X-WR-CALDESC:Events for bc magazine
REFRESH-INTERVAL;VALUE=DURATION:PT1H
X-Robots-Tag:noindex
X-PUBLISHED-TTL:PT1H
BEGIN:VTIMEZONE
TZID:Asia/Hong_Kong
BEGIN:STANDARD
TZOFFSETFROM:+0800
TZOFFSETTO:+0800
TZNAME:HKT
DTSTART:20240101T000000
END:STANDARD
END:VTIMEZONE
BEGIN:VEVENT
DTSTART;VALUE=DATE:20250315
DTEND;VALUE=DATE:20250714
DTSTAMP:20260426T024829
CREATED:20250306T000803Z
LAST-MODIFIED:20250430T144051Z
UID:10011337-1741996800-1752451199@www.bcmagazine.net
SUMMARY:Le French May
DESCRIPTION:Le French May\nDate: 15 March – 13 July 2025\nVenue: Various\nTickets: Various\nMore info:\nwww.FrenchMay.com
URL:https://www.bcmagazine.net/event/le-french-may-2025/
CATEGORIES:2025,Art Gallery,Concert,Cultural Festival,Exhibition,Fashion,Film,Food,Lifestyle,Multimedia,Music,Performing Arts
ATTACH;FMTTYPE=image/png:https://www.bcmagazine.net/wp-content/uploads/1916/04/le-french-may-2025.png
END:VEVENT
BEGIN:VEVENT
DTSTART;TZID=Asia/Hong_Kong:20250509T190000
DTEND;TZID=Asia/Hong_Kong:20250509T190000
DTSTAMP:20260426T024829
CREATED:20250312T053805Z
LAST-MODIFIED:20250408T104509Z
UID:10010607-1746817200-1746817200@www.bcmagazine.net
SUMMARY:MayDay
DESCRIPTION:MayDay #5525\nDate: 9-11\, 13 May 2025\nVenue: Kai Tak Stadium\, Kai Tak Sports Park\nTickets: $1\,855\, $1\,555\, $1\,355\, $1\,155\, $955\, $755 from Cityline
URL:https://www.bcmagazine.net/event/mayday-hong-kong-2025/2025-05-09/
LOCATION:Kai Tak Stadium\, 38-39 Shing Kai Road\, Kowloon City\, Hong Kong
CATEGORIES:2025,Cantopop,Concert,Music,Performing Arts
ATTACH;FMTTYPE=image/jpeg:https://www.bcmagazine.net/wp-content/uploads/2025/03/Mayday-hong-kong-2025.jpg
END:VEVENT
BEGIN:VEVENT
DTSTART;TZID=Asia/Hong_Kong:20250510T190000
DTEND;TZID=Asia/Hong_Kong:20250510T190000
DTSTAMP:20260426T024829
CREATED:20250312T053805Z
LAST-MODIFIED:20250408T104509Z
UID:10010608-1746903600-1746903600@www.bcmagazine.net
SUMMARY:MayDay
DESCRIPTION:MayDay #5525\nDate: 9-11\, 13 May 2025\nVenue: Kai Tak Stadium\, Kai Tak Sports Park\nTickets: $1\,855\, $1\,555\, $1\,355\, $1\,155\, $955\, $755 from Cityline
URL:https://www.bcmagazine.net/event/mayday-hong-kong-2025/2025-05-10/
LOCATION:Kai Tak Stadium\, 38-39 Shing Kai Road\, Kowloon City\, Hong Kong
CATEGORIES:2025,Cantopop,Concert,Music,Performing Arts
ATTACH;FMTTYPE=image/jpeg:https://www.bcmagazine.net/wp-content/uploads/2025/03/Mayday-hong-kong-2025.jpg
END:VEVENT
BEGIN:VEVENT
DTSTART;TZID=Asia/Hong_Kong:20250511T190000
DTEND;TZID=Asia/Hong_Kong:20250511T190000
DTSTAMP:20260426T024829
CREATED:20250312T053805Z
LAST-MODIFIED:20250408T104509Z
UID:10010609-1746990000-1746990000@www.bcmagazine.net
SUMMARY:MayDay
DESCRIPTION:MayDay #5525\nDate: 9-11\, 13 May 2025\nVenue: Kai Tak Stadium\, Kai Tak Sports Park\nTickets: $1\,855\, $1\,555\, $1\,355\, $1\,155\, $955\, $755 from Cityline
URL:https://www.bcmagazine.net/event/mayday-hong-kong-2025/2025-05-11/
LOCATION:Kai Tak Stadium\, 38-39 Shing Kai Road\, Kowloon City\, Hong Kong
CATEGORIES:2025,Cantopop,Concert,Music,Performing Arts
ATTACH;FMTTYPE=image/jpeg:https://www.bcmagazine.net/wp-content/uploads/2025/03/Mayday-hong-kong-2025.jpg
END:VEVENT
BEGIN:VEVENT
DTSTART;TZID=Asia/Hong_Kong:20250513T190000
DTEND;TZID=Asia/Hong_Kong:20250513T190000
DTSTAMP:20260426T024829
CREATED:20250312T053805Z
LAST-MODIFIED:20250408T104509Z
UID:10010610-1747162800-1747162800@www.bcmagazine.net
SUMMARY:MayDay
DESCRIPTION:MayDay #5525\nDate: 9-11\, 13 May 2025\nVenue: Kai Tak Stadium\, Kai Tak Sports Park\nTickets: $1\,855\, $1\,555\, $1\,355\, $1\,155\, $955\, $755 from Cityline
URL:https://www.bcmagazine.net/event/mayday-hong-kong-2025/2025-05-13/
LOCATION:Kai Tak Stadium\, 38-39 Shing Kai Road\, Kowloon City\, Hong Kong
CATEGORIES:2025,Cantopop,Concert,Music,Performing Arts
ATTACH;FMTTYPE=image/jpeg:https://www.bcmagazine.net/wp-content/uploads/2025/03/Mayday-hong-kong-2025.jpg
END:VEVENT
BEGIN:VEVENT
DTSTART;TZID=Asia/Hong_Kong:20250517T181500
DTEND;TZID=Asia/Hong_Kong:20250517T181500
DTSTAMP:20260426T024829
CREATED:20250219T053805Z
LAST-MODIFIED:20250219T123504Z
UID:10010213-1747505700-1747505700@www.bcmagazine.net
SUMMARY:Hong Kong International Reggae Ska Festival
DESCRIPTION:Hong Kong International Reggae Ska Festival\nDate: 17 May 2025\nVenue: PMQ\nTickets: $598 from Ticketflap
URL:https://www.bcmagazine.net/event/hong-kong-international-reggae-ska-festival-2025/
LOCATION:PMQ\, 35 Aberdeen Street\, Central\, Hong Kong
CATEGORIES:2025,Concert,Music,Performing Arts
ATTACH;FMTTYPE=image/jpeg:https://www.bcmagazine.net/wp-content/uploads/2019/01/Hong-Kong-International-Reggae-Ska-Festival-2025.jpg
GEO:22.2836011;114.1524554
X-APPLE-STRUCTURED-LOCATION;VALUE=URI;X-ADDRESS=PMQ 35 Aberdeen Street Central Hong Kong;X-APPLE-RADIUS=500;X-TITLE=35 Aberdeen Street:geo:114.1524554,22.2836011
END:VEVENT
BEGIN:VEVENT
DTSTART;TZID=Asia/Hong_Kong:20250521T193000
DTEND;TZID=Asia/Hong_Kong:20250521T193000
DTSTAMP:20260426T024829
CREATED:20250208T084237Z
LAST-MODIFIED:20250526T142521Z
UID:10011305-1747855800-1747855800@www.bcmagazine.net
SUMMARY:Cirque du Soleil: Kooza
DESCRIPTION:Cirque du Soleil’s Kooza\n Date: 21 May – 13 July 2025\nVenue: Central Harbourfront\nTickets: $1\,988\, $1\,698\, $1\,298\, $998\, $758\, $600\, $450\nMore info:\nWednesdays: 7:30pm\nThursdays: 7:30pm\nFridays: 7:30pm\nSaturdays: 1pm\, 4:30pm\, 8pm\nSundays: 1pm & 4:30pm \n 
URL:https://www.bcmagazine.net/event/kooza-hk-2025/2025-05-21/
LOCATION:Central Harbourfront\,  9 Lung Wo Road\, Central\, Hong Kong
CATEGORIES:2025,Performing Arts
ATTACH;FMTTYPE=image/webp:https://www.bcmagazine.net/wp-content/uploads/2018/02/Kooza-2025.webp
GEO:22.2826223;114.164346
X-APPLE-STRUCTURED-LOCATION;VALUE=URI;X-ADDRESS=Central Harbourfront  9 Lung Wo Road Central Hong Kong;X-APPLE-RADIUS=500;X-TITLE=9 Lung Wo Road:geo:114.164346,22.2826223
END:VEVENT
BEGIN:VEVENT
DTSTART;TZID=Asia/Hong_Kong:20250522T193000
DTEND;TZID=Asia/Hong_Kong:20250522T193000
DTSTAMP:20260426T024829
CREATED:20250208T084237Z
LAST-MODIFIED:20250526T142521Z
UID:10011306-1747942200-1747942200@www.bcmagazine.net
SUMMARY:Cirque du Soleil: Kooza
DESCRIPTION:Cirque du Soleil’s Kooza\n Date: 21 May – 13 July 2025\nVenue: Central Harbourfront\nTickets: $1\,988\, $1\,698\, $1\,298\, $998\, $758\, $600\, $450\nMore info:\nWednesdays: 7:30pm\nThursdays: 7:30pm\nFridays: 7:30pm\nSaturdays: 1pm\, 4:30pm\, 8pm\nSundays: 1pm & 4:30pm \n 
URL:https://www.bcmagazine.net/event/kooza-hk-2025/2025-05-22/
LOCATION:Central Harbourfront\,  9 Lung Wo Road\, Central\, Hong Kong
CATEGORIES:2025,Performing Arts
ATTACH;FMTTYPE=image/webp:https://www.bcmagazine.net/wp-content/uploads/2018/02/Kooza-2025.webp
GEO:22.2826223;114.164346
X-APPLE-STRUCTURED-LOCATION;VALUE=URI;X-ADDRESS=Central Harbourfront  9 Lung Wo Road Central Hong Kong;X-APPLE-RADIUS=500;X-TITLE=9 Lung Wo Road:geo:114.164346,22.2826223
END:VEVENT
BEGIN:VEVENT
DTSTART;TZID=Asia/Hong_Kong:20250523T193000
DTEND;TZID=Asia/Hong_Kong:20250523T193000
DTSTAMP:20260426T024829
CREATED:20250208T084237Z
LAST-MODIFIED:20250526T142521Z
UID:10011307-1748028600-1748028600@www.bcmagazine.net
SUMMARY:Cirque du Soleil: Kooza
DESCRIPTION:Cirque du Soleil’s Kooza\n Date: 21 May – 13 July 2025\nVenue: Central Harbourfront\nTickets: $1\,988\, $1\,698\, $1\,298\, $998\, $758\, $600\, $450\nMore info:\nWednesdays: 7:30pm\nThursdays: 7:30pm\nFridays: 7:30pm\nSaturdays: 1pm\, 4:30pm\, 8pm\nSundays: 1pm & 4:30pm \n 
URL:https://www.bcmagazine.net/event/kooza-hk-2025/2025-05-23/
LOCATION:Central Harbourfront\,  9 Lung Wo Road\, Central\, Hong Kong
CATEGORIES:2025,Performing Arts
ATTACH;FMTTYPE=image/webp:https://www.bcmagazine.net/wp-content/uploads/2018/02/Kooza-2025.webp
GEO:22.2826223;114.164346
X-APPLE-STRUCTURED-LOCATION;VALUE=URI;X-ADDRESS=Central Harbourfront  9 Lung Wo Road Central Hong Kong;X-APPLE-RADIUS=500;X-TITLE=9 Lung Wo Road:geo:114.164346,22.2826223
END:VEVENT
BEGIN:VEVENT
DTSTART;TZID=Asia/Hong_Kong:20250524T190000
DTEND;TZID=Asia/Hong_Kong:20250524T190000
DTSTAMP:20260426T024829
CREATED:20250326T053805Z
LAST-MODIFIED:20250408T105202Z
UID:10010981-1748113200-1748113200@www.bcmagazine.net
SUMMARY:JJ Lin
DESCRIPTION:JJ Lin – JJ20 Final Lap World Tour\nDate: 24 & 25 May 2025\nVenue: Kai Tak Stadium\, Kai Tak Sports Park\nTickets: $1\,680\, $1\,380\, $980\, $680\, $380 from Cityline
URL:https://www.bcmagazine.net/event/jj-lin-hk-2025/2025-05-24/
LOCATION:Kai Tak Stadium\, 38-39 Shing Kai Road\, Kowloon City\, Hong Kong
CATEGORIES:2025,Cantopop,Concert,Music,Performing Arts
ATTACH;FMTTYPE=image/jpeg:https://www.bcmagazine.net/wp-content/uploads/2025/03/JJ-Lin-Hong-Kong-2025.jpg
END:VEVENT
BEGIN:VEVENT
DTSTART;TZID=Asia/Hong_Kong:20250524T193000
DTEND;TZID=Asia/Hong_Kong:20250524T193000
DTSTAMP:20260426T024829
CREATED:20250208T084237Z
LAST-MODIFIED:20250526T142521Z
UID:10011308-1748115000-1748115000@www.bcmagazine.net
SUMMARY:Cirque du Soleil: Kooza
DESCRIPTION:Cirque du Soleil’s Kooza\n Date: 21 May – 13 July 2025\nVenue: Central Harbourfront\nTickets: $1\,988\, $1\,698\, $1\,298\, $998\, $758\, $600\, $450\nMore info:\nWednesdays: 7:30pm\nThursdays: 7:30pm\nFridays: 7:30pm\nSaturdays: 1pm\, 4:30pm\, 8pm\nSundays: 1pm & 4:30pm \n 
URL:https://www.bcmagazine.net/event/kooza-hk-2025/2025-05-24/
LOCATION:Central Harbourfront\,  9 Lung Wo Road\, Central\, Hong Kong
CATEGORIES:2025,Performing Arts
ATTACH;FMTTYPE=image/webp:https://www.bcmagazine.net/wp-content/uploads/2018/02/Kooza-2025.webp
GEO:22.2826223;114.164346
X-APPLE-STRUCTURED-LOCATION;VALUE=URI;X-ADDRESS=Central Harbourfront  9 Lung Wo Road Central Hong Kong;X-APPLE-RADIUS=500;X-TITLE=9 Lung Wo Road:geo:114.164346,22.2826223
END:VEVENT
BEGIN:VEVENT
DTSTART;TZID=Asia/Hong_Kong:20250525T190000
DTEND;TZID=Asia/Hong_Kong:20250525T190000
DTSTAMP:20260426T024829
CREATED:20250326T053805Z
LAST-MODIFIED:20250408T105202Z
UID:10010982-1748199600-1748199600@www.bcmagazine.net
SUMMARY:JJ Lin
DESCRIPTION:JJ Lin – JJ20 Final Lap World Tour\nDate: 24 & 25 May 2025\nVenue: Kai Tak Stadium\, Kai Tak Sports Park\nTickets: $1\,680\, $1\,380\, $980\, $680\, $380 from Cityline
URL:https://www.bcmagazine.net/event/jj-lin-hk-2025/2025-05-25/
LOCATION:Kai Tak Stadium\, 38-39 Shing Kai Road\, Kowloon City\, Hong Kong
CATEGORIES:2025,Cantopop,Concert,Music,Performing Arts
ATTACH;FMTTYPE=image/jpeg:https://www.bcmagazine.net/wp-content/uploads/2025/03/JJ-Lin-Hong-Kong-2025.jpg
END:VEVENT
BEGIN:VEVENT
DTSTART;TZID=Asia/Hong_Kong:20250525T193000
DTEND;TZID=Asia/Hong_Kong:20250525T193000
DTSTAMP:20260426T024829
CREATED:20250208T084237Z
LAST-MODIFIED:20250526T142521Z
UID:10011309-1748201400-1748201400@www.bcmagazine.net
SUMMARY:Cirque du Soleil: Kooza
DESCRIPTION:Cirque du Soleil’s Kooza\n Date: 21 May – 13 July 2025\nVenue: Central Harbourfront\nTickets: $1\,988\, $1\,698\, $1\,298\, $998\, $758\, $600\, $450\nMore info:\nWednesdays: 7:30pm\nThursdays: 7:30pm\nFridays: 7:30pm\nSaturdays: 1pm\, 4:30pm\, 8pm\nSundays: 1pm & 4:30pm \n 
URL:https://www.bcmagazine.net/event/kooza-hk-2025/2025-05-25/
LOCATION:Central Harbourfront\,  9 Lung Wo Road\, Central\, Hong Kong
CATEGORIES:2025,Performing Arts
ATTACH;FMTTYPE=image/webp:https://www.bcmagazine.net/wp-content/uploads/2018/02/Kooza-2025.webp
GEO:22.2826223;114.164346
X-APPLE-STRUCTURED-LOCATION;VALUE=URI;X-ADDRESS=Central Harbourfront  9 Lung Wo Road Central Hong Kong;X-APPLE-RADIUS=500;X-TITLE=9 Lung Wo Road:geo:114.164346,22.2826223
END:VEVENT
BEGIN:VEVENT
DTSTART;TZID=Asia/Hong_Kong:20250528T193000
DTEND;TZID=Asia/Hong_Kong:20250528T193000
DTSTAMP:20260426T024829
CREATED:20250208T084237Z
LAST-MODIFIED:20250526T142521Z
UID:10011310-1748460600-1748460600@www.bcmagazine.net
SUMMARY:Cirque du Soleil: Kooza
DESCRIPTION:Cirque du Soleil’s Kooza\n Date: 21 May – 13 July 2025\nVenue: Central Harbourfront\nTickets: $1\,988\, $1\,698\, $1\,298\, $998\, $758\, $600\, $450\nMore info:\nWednesdays: 7:30pm\nThursdays: 7:30pm\nFridays: 7:30pm\nSaturdays: 1pm\, 4:30pm\, 8pm\nSundays: 1pm & 4:30pm \n 
URL:https://www.bcmagazine.net/event/kooza-hk-2025/2025-05-28/
LOCATION:Central Harbourfront\,  9 Lung Wo Road\, Central\, Hong Kong
CATEGORIES:2025,Performing Arts
ATTACH;FMTTYPE=image/webp:https://www.bcmagazine.net/wp-content/uploads/2018/02/Kooza-2025.webp
GEO:22.2826223;114.164346
X-APPLE-STRUCTURED-LOCATION;VALUE=URI;X-ADDRESS=Central Harbourfront  9 Lung Wo Road Central Hong Kong;X-APPLE-RADIUS=500;X-TITLE=9 Lung Wo Road:geo:114.164346,22.2826223
END:VEVENT
BEGIN:VEVENT
DTSTART;TZID=Asia/Hong_Kong:20250529T193000
DTEND;TZID=Asia/Hong_Kong:20250529T193000
DTSTAMP:20260426T024829
CREATED:20250208T084237Z
LAST-MODIFIED:20250526T142521Z
UID:10011311-1748547000-1748547000@www.bcmagazine.net
SUMMARY:Cirque du Soleil: Kooza
DESCRIPTION:Cirque du Soleil’s Kooza\n Date: 21 May – 13 July 2025\nVenue: Central Harbourfront\nTickets: $1\,988\, $1\,698\, $1\,298\, $998\, $758\, $600\, $450\nMore info:\nWednesdays: 7:30pm\nThursdays: 7:30pm\nFridays: 7:30pm\nSaturdays: 1pm\, 4:30pm\, 8pm\nSundays: 1pm & 4:30pm \n 
URL:https://www.bcmagazine.net/event/kooza-hk-2025/2025-05-29/
LOCATION:Central Harbourfront\,  9 Lung Wo Road\, Central\, Hong Kong
CATEGORIES:2025,Performing Arts
ATTACH;FMTTYPE=image/webp:https://www.bcmagazine.net/wp-content/uploads/2018/02/Kooza-2025.webp
GEO:22.2826223;114.164346
X-APPLE-STRUCTURED-LOCATION;VALUE=URI;X-ADDRESS=Central Harbourfront  9 Lung Wo Road Central Hong Kong;X-APPLE-RADIUS=500;X-TITLE=9 Lung Wo Road:geo:114.164346,22.2826223
END:VEVENT
BEGIN:VEVENT
DTSTART;TZID=Asia/Hong_Kong:20250530T193000
DTEND;TZID=Asia/Hong_Kong:20250530T193000
DTSTAMP:20260426T024829
CREATED:20250208T084237Z
LAST-MODIFIED:20250526T142521Z
UID:10011312-1748633400-1748633400@www.bcmagazine.net
SUMMARY:Cirque du Soleil: Kooza
DESCRIPTION:Cirque du Soleil’s Kooza\n Date: 21 May – 13 July 2025\nVenue: Central Harbourfront\nTickets: $1\,988\, $1\,698\, $1\,298\, $998\, $758\, $600\, $450\nMore info:\nWednesdays: 7:30pm\nThursdays: 7:30pm\nFridays: 7:30pm\nSaturdays: 1pm\, 4:30pm\, 8pm\nSundays: 1pm & 4:30pm \n 
URL:https://www.bcmagazine.net/event/kooza-hk-2025/2025-05-30/
LOCATION:Central Harbourfront\,  9 Lung Wo Road\, Central\, Hong Kong
CATEGORIES:2025,Performing Arts
ATTACH;FMTTYPE=image/webp:https://www.bcmagazine.net/wp-content/uploads/2018/02/Kooza-2025.webp
GEO:22.2826223;114.164346
X-APPLE-STRUCTURED-LOCATION;VALUE=URI;X-ADDRESS=Central Harbourfront  9 Lung Wo Road Central Hong Kong;X-APPLE-RADIUS=500;X-TITLE=9 Lung Wo Road:geo:114.164346,22.2826223
END:VEVENT
BEGIN:VEVENT
DTSTART;TZID=Asia/Hong_Kong:20250531T193000
DTEND;TZID=Asia/Hong_Kong:20250531T193000
DTSTAMP:20260426T024829
CREATED:20250208T084237Z
LAST-MODIFIED:20250526T142521Z
UID:10011313-1748719800-1748719800@www.bcmagazine.net
SUMMARY:Cirque du Soleil: Kooza
DESCRIPTION:Cirque du Soleil’s Kooza\n Date: 21 May – 13 July 2025\nVenue: Central Harbourfront\nTickets: $1\,988\, $1\,698\, $1\,298\, $998\, $758\, $600\, $450\nMore info:\nWednesdays: 7:30pm\nThursdays: 7:30pm\nFridays: 7:30pm\nSaturdays: 1pm\, 4:30pm\, 8pm\nSundays: 1pm & 4:30pm \n 
URL:https://www.bcmagazine.net/event/kooza-hk-2025/2025-05-31/
LOCATION:Central Harbourfront\,  9 Lung Wo Road\, Central\, Hong Kong
CATEGORIES:2025,Performing Arts
ATTACH;FMTTYPE=image/webp:https://www.bcmagazine.net/wp-content/uploads/2018/02/Kooza-2025.webp
GEO:22.2826223;114.164346
X-APPLE-STRUCTURED-LOCATION;VALUE=URI;X-ADDRESS=Central Harbourfront  9 Lung Wo Road Central Hong Kong;X-APPLE-RADIUS=500;X-TITLE=9 Lung Wo Road:geo:114.164346,22.2826223
END:VEVENT
END:VCALENDAR