BEGIN:VCALENDAR
VERSION:2.0
PRODID:-//bc magazine - ECPv6.15.20//NONSGML v1.0//EN
CALSCALE:GREGORIAN
METHOD:PUBLISH
X-WR-CALNAME:bc magazine
X-ORIGINAL-URL:https://www.bcmagazine.net
X-WR-CALDESC:Events for bc magazine
REFRESH-INTERVAL;VALUE=DURATION:PT1H
X-Robots-Tag:noindex
X-PUBLISHED-TTL:PT1H
BEGIN:VTIMEZONE
TZID:Asia/Hong_Kong
BEGIN:STANDARD
TZOFFSETFROM:+0800
TZOFFSETTO:+0800
TZNAME:HKT
DTSTART:20170101T000000
END:STANDARD
END:VTIMEZONE
BEGIN:VEVENT
DTSTART;TZID=Asia/Hong_Kong:20220428T200000
DTEND;TZID=Asia/Hong_Kong:20220428T200000
DTSTAMP:20260426T052032
CREATED:19220408T020022Z
LAST-MODIFIED:20220422T010754Z
UID:10005348-1651176000-1651176000@www.bcmagazine.net
SUMMARY:Bitches in Stitches
DESCRIPTION:Bitches in Stitches\nBianca Lau\, Kate Hu\, Dannie Higginbotham\, Fran Ayala\, Rose Rage\, Jenna Hudson and Apureva Sawhney\nDate: 8pm\, 28 April\, 2022\nVenue: Sip Sip\nTickets: $250
URL:https://www.bcmagazine.net/event/bitches-in-stitches-2022-04/
LOCATION:Sip Sip\, 25/F\, 108 Electric Road\, Causeway Bay\, Hong Kong
CATEGORIES:2022,Comedy,Nightlife,Performing Arts
ATTACH;FMTTYPE=image/jpeg:https://www.bcmagazine.net/wp-content/uploads/2022/04/bitches-in-stitches-2022.04.28.jpeg
END:VEVENT
BEGIN:VEVENT
DTSTART;TZID=Asia/Hong_Kong:20200222T200000
DTEND;TZID=Asia/Hong_Kong:20200222T200000
DTSTAMP:20260426T052032
CREATED:19181127T072433Z
LAST-MODIFIED:20191219T025708Z
UID:10004589-1582401600-1582401600@www.bcmagazine.net
SUMMARY:RuPaul’s Drag Race
DESCRIPTION:RuPaul’s Drag Race “Werq The World” 2020 Tour\nDate: 8pm\, 21-22 February\, 2020\nVenue: AC Hall\nTickets: $1\,600\, $895\, $695 from Ticketflap
URL:https://www.bcmagazine.net/event/rupauls-drag-race-22-02-2020/
LOCATION:HKBU Academic Community Hall\, 224 Waterloo Road\, Kowloon Tong\, Hong Kong
CATEGORIES:2020,Comedy,LGBT,Lifestyle,Performing Arts,Theatre
ATTACH;FMTTYPE=image/jpeg:https://www.bcmagazine.net/wp-content/uploads/2018/11/RuPaul’s-Drag-Race-2020.jpg
GEO:22.340854;114.1799456
X-APPLE-STRUCTURED-LOCATION;VALUE=URI;X-ADDRESS=HKBU Academic Community Hall 224 Waterloo Road Kowloon Tong Hong Kong;X-APPLE-RADIUS=500;X-TITLE=224 Waterloo Road:geo:114.1799456,22.340854
END:VEVENT
BEGIN:VEVENT
DTSTART;TZID=Asia/Hong_Kong:20200221T200000
DTEND;TZID=Asia/Hong_Kong:20200221T200000
DTSTAMP:20260426T052032
CREATED:19181127T072433Z
LAST-MODIFIED:20191219T025618Z
UID:10004588-1582315200-1582315200@www.bcmagazine.net
SUMMARY:RuPaul’s Drag Race
DESCRIPTION:RuPaul’s Drag Race “Werq The World” 2020 Tour\nDate: 8pm\, 21-22 February\, 2020\nVenue: AC Hall\nTickets: $1\,600\, $895\, $695 from Ticketflap
URL:https://www.bcmagazine.net/event/rupauls-drag-race-21-02-2020/
LOCATION:HKBU Academic Community Hall\, 224 Waterloo Road\, Kowloon Tong\, Hong Kong
CATEGORIES:2020,Comedy,LGBT,Lifestyle,Performing Arts,Theatre
ATTACH;FMTTYPE=image/jpeg:https://www.bcmagazine.net/wp-content/uploads/2018/11/RuPaul’s-Drag-Race-2020.jpg
GEO:22.340854;114.1799456
X-APPLE-STRUCTURED-LOCATION;VALUE=URI;X-ADDRESS=HKBU Academic Community Hall 224 Waterloo Road Kowloon Tong Hong Kong;X-APPLE-RADIUS=500;X-TITLE=224 Waterloo Road:geo:114.1799456,22.340854
END:VEVENT
BEGIN:VEVENT
DTSTART;TZID=Asia/Hong_Kong:20191209T200000
DTEND;TZID=Asia/Hong_Kong:20191209T200000
DTSTAMP:20260426T052032
CREATED:19190409T044512Z
LAST-MODIFIED:20190924T042529Z
UID:10004004-1575921600-1575921600@www.bcmagazine.net
SUMMARY:Dylan Moran
DESCRIPTION:Dylan Moran\nDate: 8pm\, 9 December\, 2019\nVenue: Kitec\, Rotunda 3\nTickets: $888\, $688\, $588\, $488 from HKTicketing
URL:https://www.bcmagazine.net/event/dylan-moran-2019/
LOCATION:KITEC\, Rotunda 3\, 1 Trademart Drive\, Kowloon Bay\, Hong Kong
CATEGORIES:2019,Comedy,Performing Arts
GEO:22.3239575;114.2037608
X-APPLE-STRUCTURED-LOCATION;VALUE=URI;X-ADDRESS=KITEC Rotunda 3 1 Trademart Drive Kowloon Bay Hong Kong;X-APPLE-RADIUS=500;X-TITLE=1 Trademart Drive:geo:114.2037608,22.3239575
END:VEVENT
BEGIN:VEVENT
DTSTART;TZID=Asia/Hong_Kong:20191102T200000
DTEND;TZID=Asia/Hong_Kong:20191102T200000
DTSTAMP:20260426T052032
CREATED:19190724T042957Z
LAST-MODIFIED:20190724T043026Z
UID:10004867-1572724800-1572724800@www.bcmagazine.net
SUMMARY:Paul Ogata
DESCRIPTION:Paul Ogata\nDate: 8pm\, 2 November\, 2019\nVenue: Cyberport 3\nTickets: $388 from Ticketflap
URL:https://www.bcmagazine.net/event/paul-ogata-02-11-2019/
LOCATION:Cyberport 3\, 3 Cyberport Road\, Telegraph Bay\, Hong Kong
CATEGORIES:2019,Comedy,Performing Arts
ATTACH;FMTTYPE=image/jpeg:https://www.bcmagazine.net/wp-content/uploads/2019/07/paul-ogata-hk-2019.jpg
END:VEVENT
BEGIN:VEVENT
DTSTART;VALUE=DATE:20191026
DTEND;VALUE=DATE:20191028
DTSTAMP:20260426T052032
CREATED:19180716T124702Z
LAST-MODIFIED:20190904T162643Z
UID:10004331-1572048000-1572220799@www.bcmagazine.net
SUMMARY:Shi Fu Miz Festival 2019
DESCRIPTION:Shi Fu Miz Festival 2019\nAndre Poon & Hugo Lau\, Camion Bazar\, Carista\, Club Kowloon\, HK Solar Soundsystem\, Josey Rebelle\, Lena Willikens\, Max Davis\, Mengzy\, Peach\, Shanti Celeste\, Or:La\, Stephen Andarakis\, Utopia Hong Kong\, Yukari BB\, Elise\, Jazzanova \, Johnny Hiller\, Kink\, K-Melo \, La Mamie’s\, Lb Aka Labat\, Marcellus Pittman Unirhythm\, Midori / Menace\, Ocean Lam\, Roam Selectors\, Vrap\, Zepa Records\, 7elevn\nDate: 26-27 October\, 2019\nVenue: Sai Yuen Camping & Adventure Park\nTickets: $880\, $680\, $580\, $480
URL:https://www.bcmagazine.net/event/shi-fu-miz-festival-2019/
LOCATION:Saiyuen Camping & Adventure Park\, Sai Yuen\, Sai Wan\, Hong Kong
CATEGORIES:2019,Comedy,Concert,Music,Performing Arts
ATTACH;FMTTYPE=image/jpeg:https://www.bcmagazine.net/wp-content/uploads/1918/07/shi-fu-2019.jpg
END:VEVENT
BEGIN:VEVENT
DTSTART;TZID=Asia/Hong_Kong:20190824T190000
DTEND;TZID=Asia/Hong_Kong:20190824T190000
DTSTAMP:20260426T052032
CREATED:19190427T044512Z
LAST-MODIFIED:20190817T084049Z
UID:10004840-1566673200-1566673200@www.bcmagazine.net
SUMMARY:Canton Mic Rap Battle 2019
DESCRIPTION:Canton Mic Rap Battle 2019\nSteve So\, Jimmy\, Canten\, Dylan Hing\, Luk\, 陳\, Parat\, Ho Him\, Poon Hiu Ping\, JB\, Novel Flash\nDate: 7pm\, 24 August\, 2019\nVenue: The Garage\nTickets: $280\, $200 (advance)
URL:https://www.bcmagazine.net/event/canton-mic-rap-battle-2019/
LOCATION:The Garage\, G/F\, D2 Place Two\, 15 Cheung Shun Street\, Cheung Sha Wan\, Hong Kong
CATEGORIES:2019,Comedy,Nightlife,Performing Arts
ATTACH;FMTTYPE=image/jpeg:https://www.bcmagazine.net/wp-content/uploads/2019/04/Canton-Mic-2019.jpg
END:VEVENT
BEGIN:VEVENT
DTSTART;TZID=Asia/Hong_Kong:20190821T190000
DTEND;TZID=Asia/Hong_Kong:20190821T190000
DTSTAMP:20260426T052032
CREATED:20190427T044512Z
LAST-MODIFIED:20190816T145448Z
UID:10006584-1566414000-1566414000@www.bcmagazine.net
SUMMARY:Trevor Noah - Cancelled
DESCRIPTION:Trevor Noah LIVE! Loud & Clear Tour\nDate: 7pm\, 21 August\, 2019\nVenue: HKCEC\nTickets: $1\,088\, $988\, $788\, $588 from HKTicketing
URL:https://www.bcmagazine.net/event/trevor-noah-hk-2019/
LOCATION:HK Convention and Exhibition Centre\, 1 Expo Drive\, Wanchai\, Hong Kong
CATEGORIES:2019,Comedy,Nightlife,Performing Arts
ATTACH;FMTTYPE=image/jpeg:https://www.bcmagazine.net/wp-content/uploads/2019/04/Trevor-Noah-2019-hk.jpg
END:VEVENT
BEGIN:VEVENT
DTSTART;TZID=Asia/Hong_Kong:20190613T200000
DTEND;TZID=Asia/Hong_Kong:20190613T200000
DTSTAMP:20260426T052032
CREATED:19181213T044512Z
LAST-MODIFIED:20190314T145807Z
UID:10004699-1560456000-1560456000@www.bcmagazine.net
SUMMARY:Iliza Shlesinger
DESCRIPTION:Iliza Shlesinger\nDate: 8pm\, 13 June\, 2019\nVenue: Kitec\, Music Zone@E-Max\nTickets: $688\, $488
URL:https://www.bcmagazine.net/event/iliza-shlesinger-hk-2019/
LOCATION:KITEC\, Music Zone@E-Max\, KITEC\,‎ 1 Trademart Drive\, Kowloon Bay\, Hong Kong
CATEGORIES:2019,Comedy,Performing Arts
GEO:22.3239575;114.2037608
X-APPLE-STRUCTURED-LOCATION;VALUE=URI;X-ADDRESS=KITEC Music Zone@E-Max KITEC‎ 1 Trademart Drive Kowloon Bay Hong Kong;X-APPLE-RADIUS=500;X-TITLE=KITEC\,‎ 1 Trademart Drive:geo:114.2037608,22.3239575
END:VEVENT
BEGIN:VEVENT
DTSTART;VALUE=DATE:20190504
DTEND;VALUE=DATE:20190506
DTSTAMP:20260426T052032
CREATED:19180716T124702Z
LAST-MODIFIED:20190219T004534Z
UID:10004330-1556928000-1557100799@www.bcmagazine.net
SUMMARY:Shi Fu Miz Festival - Spring 2019
DESCRIPTION:Shi Fu Miz Festival – Spring 2019\nPalms Trax\, Orpheu The Wizard\, La Mamie’s\, Kuniyuki Takahash\, Levon Vincent\, Awesome Tapes From Africa\, Shuya Okino\, Kamma & Masalo\nDate: 4-5 May\, 2019\nVenue: Sai Yuen Camping & Adventure Park\nTickets: $880\, $680\, $580\, $480
URL:https://www.bcmagazine.net/event/shi-fu-miz-festival-spring-2019/
LOCATION:Saiyuen Camping & Adventure Park\, Sai Yuen\, Sai Wan\, Hong Kong
CATEGORIES:2019,Comedy,Concert,Music,Performing Arts
END:VEVENT
BEGIN:VEVENT
DTSTART;TZID=Asia/Hong_Kong:20190424T203000
DTEND;TZID=Asia/Hong_Kong:20190424T203000
DTSTAMP:20260426T052032
CREATED:19180802T094055Z
LAST-MODIFIED:20181218T100203Z
UID:10004377-1556137800-1556137800@www.bcmagazine.net
SUMMARY:Tom Green
DESCRIPTION:Tom Green\nDate: 8:30pm\, 24 April\, 2019\nVenue: Grappa’s Cellar\nTickets: $4\,000\, $800\, $488 from Ticketflap
URL:https://www.bcmagazine.net/event/tom-green-hk-2019/
LOCATION:Grappa’s Cellar\, 1 Connaught Place\, Central\, Hong Kong
CATEGORIES:2019,Comedy,Performing Arts
ATTACH;FMTTYPE=image/jpeg:https://www.bcmagazine.net/wp-content/uploads/1918/08/tom-green-hk-2019.jpg
GEO:22.2830124;114.1591644
X-APPLE-STRUCTURED-LOCATION;VALUE=URI;X-ADDRESS=Grappa’s Cellar 1 Connaught Place Central Hong Kong;X-APPLE-RADIUS=500;X-TITLE=1 Connaught Place:geo:114.1591644,22.2830124
END:VEVENT
BEGIN:VEVENT
DTSTART;TZID=Asia/Hong_Kong:20190327T200000
DTEND;TZID=Asia/Hong_Kong:20190327T200000
DTSTAMP:20260426T052032
CREATED:19190111T045612Z
LAST-MODIFIED:20190112T162123Z
UID:10003967-1553716800-1553716800@www.bcmagazine.net
SUMMARY:Jimmy Carr
DESCRIPTION:Jimmy Carr\nDate: 8pm\, 27 March\, 2019\nVenue: Kitec\, Rotunda 3\nTickets: $888\, $788\, $688\, $588\, $488 from HKTicketing
URL:https://www.bcmagazine.net/event/jimmy-carr-03-2019/
LOCATION:KITEC\, Rotunda 3\, 1 Trademart Drive\, Kowloon Bay\, Hong Kong
CATEGORIES:2019,Comedy,Performing Arts
GEO:22.3239575;114.2037608
X-APPLE-STRUCTURED-LOCATION;VALUE=URI;X-ADDRESS=KITEC Rotunda 3 1 Trademart Drive Kowloon Bay Hong Kong;X-APPLE-RADIUS=500;X-TITLE=1 Trademart Drive:geo:114.2037608,22.3239575
END:VEVENT
BEGIN:VEVENT
DTSTART;TZID=Asia/Hong_Kong:20190201T200000
DTEND;TZID=Asia/Hong_Kong:20190201T200000
DTSTAMP:20260426T052032
CREATED:20181127T072433Z
LAST-MODIFIED:20181128T075145Z
UID:10006551-1549051200-1549051200@www.bcmagazine.net
SUMMARY:RuPaul’s Drag Race
DESCRIPTION:RuPaul’s Drag Race “Werq The World” Tour\nDate: 8pm\, 1 February\, 2019\nVenue: HKAPA\, Lyric Theatre\nTickets: $1\,195\, $795\, $595 from HKTicketing
URL:https://www.bcmagazine.net/event/rupauls-drag-race-2019/
LOCATION:HKAPA: Lyric Theatre\, 1 Gloucester Road\, Wanchai\, Hong Kong
CATEGORIES:2019,Comedy,LGBT,Lifestyle,Performing Arts,Theatre
ATTACH;FMTTYPE=image/jpeg:https://www.bcmagazine.net/wp-content/uploads/2018/11/RuPaul’s-Drag-Race-Werq-The-World-2019.jpg
GEO:22.2801854;114.1695054
X-APPLE-STRUCTURED-LOCATION;VALUE=URI;X-ADDRESS=HKAPA: Lyric Theatre 1 Gloucester Road Wanchai Hong Kong;X-APPLE-RADIUS=500;X-TITLE=1 Gloucester Road:geo:114.1695054,22.2801854
END:VEVENT
BEGIN:VEVENT
DTSTART;TZID=Asia/Hong_Kong:20190119T210000
DTEND;TZID=Asia/Hong_Kong:20190119T210000
DTSTAMP:20260426T052032
CREATED:19180802T094055Z
LAST-MODIFIED:20181218T100706Z
UID:10004380-1547931600-1547931600@www.bcmagazine.net
SUMMARY:Marcus Brigstocke
DESCRIPTION:Marcus Brigstocke\nDate: 17-19 January\, 2019\nVenue: Tamarind Restaurant\nTickets: $488 from Ticketflap
URL:https://www.bcmagazine.net/event/marcus-brigstocke-19-01-2019/
LOCATION:Tamarind Restaurant\, Hong Kong
CATEGORIES:2019,Comedy,Performing Arts
ATTACH;FMTTYPE=image/jpeg:https://www.bcmagazine.net/wp-content/uploads/1918/08/Marcus-Brigstocke.jpg
GEO:22.396428;114.109497
END:VEVENT
BEGIN:VEVENT
DTSTART;TZID=Asia/Hong_Kong:20190118T210000
DTEND;TZID=Asia/Hong_Kong:20190118T210000
DTSTAMP:20260426T052032
CREATED:19180802T094055Z
LAST-MODIFIED:20181218T100712Z
UID:10004379-1547845200-1547845200@www.bcmagazine.net
SUMMARY:Marcus Brigstocke
DESCRIPTION:Marcus Brigstocke\nDate: 17-19 January\, 2019\nVenue: Tamarind Restaurant\nTickets: $488 from Ticketflap
URL:https://www.bcmagazine.net/event/marcus-brigstocke-18-01-2019/
LOCATION:Tamarind Restaurant\, Hong Kong
CATEGORIES:2019,Comedy,Performing Arts
ATTACH;FMTTYPE=image/jpeg:https://www.bcmagazine.net/wp-content/uploads/1918/08/Marcus-Brigstocke.jpg
GEO:22.396428;114.109497
END:VEVENT
BEGIN:VEVENT
DTSTART;TZID=Asia/Hong_Kong:20190117T200000
DTEND;TZID=Asia/Hong_Kong:20190117T200000
DTSTAMP:20260426T052032
CREATED:19180802T094055Z
LAST-MODIFIED:20181218T100600Z
UID:10004378-1547755200-1547755200@www.bcmagazine.net
SUMMARY:Marcus Brigstocke
DESCRIPTION:Marcus Brigstocke\nDate: 17-19 January\, 2019\nVenue: Tamarind Restaurant\nTickets: $488 from Ticketflap
URL:https://www.bcmagazine.net/event/marcus-brigstocke-17-01-2019/
LOCATION:Tamarind Restaurant\, Hong Kong
CATEGORIES:2019,Comedy,Performing Arts
ATTACH;FMTTYPE=image/jpeg:https://www.bcmagazine.net/wp-content/uploads/1918/08/Marcus-Brigstocke.jpg
GEO:22.396428;114.109497
END:VEVENT
BEGIN:VEVENT
DTSTART;TZID=Asia/Hong_Kong:20190115T200000
DTEND;TZID=Asia/Hong_Kong:20190115T200000
DTSTAMP:20260426T052032
CREATED:19181104T041350Z
LAST-MODIFIED:20181113T061241Z
UID:10004567-1547582400-1547582400@www.bcmagazine.net
SUMMARY:Jim Jefferies
DESCRIPTION:Jim Jefferies\nDate: 15 January\, 2019\nVenue: Ocean Park\, Applause Pavilion\nTickets: $788\, $588\, $488
URL:https://www.bcmagazine.net/event/jim-jefferies-2019/
LOCATION:Ocean Park\, Applause Pavilion\, Hong Kong
CATEGORIES:2019,Comedy,Performing Arts
ATTACH;FMTTYPE=image/jpeg:https://www.bcmagazine.net/wp-content/uploads/1918/11/Jim-Jefferies-2019.jpg
END:VEVENT
BEGIN:VEVENT
DTSTART;TZID=Asia/Hong_Kong:20181223T193000
DTEND;TZID=Asia/Hong_Kong:20181223T193000
DTSTAMP:20260426T052032
CREATED:20181209T044512Z
LAST-MODIFIED:20181217T161919Z
UID:10006555-1545593400-1545593400@www.bcmagazine.net
SUMMARY:Neal Brennan
DESCRIPTION:Neal Brennan\nDate: 7:30pm\, 23 December\, 2018\nVenue: Terrible Baby\nTickets: $350
URL:https://www.bcmagazine.net/event/neal-brennan-2018/
LOCATION:Terrible Baby\, 4/F\, Eaton HK\, 380 Nathan Road\, Jordan\, Hong Kong
CATEGORIES:2018,Comedy,Performing Arts
ATTACH;FMTTYPE=image/jpeg:https://www.bcmagazine.net/wp-content/uploads/2018/12/Neal-Brennan-2018.jpg
END:VEVENT
BEGIN:VEVENT
DTSTART;TZID=Asia/Hong_Kong:20181215T200000
DTEND;TZID=Asia/Hong_Kong:20181215T200000
DTSTAMP:20260426T052032
CREATED:19181020T145036Z
LAST-MODIFIED:20181029T074518Z
UID:10004495-1544904000-1544904000@www.bcmagazine.net
SUMMARY:Shangela Is Shook
DESCRIPTION:Shangela Is Shook\nDate: 8pm\, 15 December\, 2018\nVenue: Kitec\, Music Zone@E-Max\nTickets: $1\,188\, $788\, $688\, $488 from Ticketflap
URL:https://www.bcmagazine.net/event/shangela-is-shook-2018/
LOCATION:KITEC\, Music Zone@E-Max\, KITEC\,‎ 1 Trademart Drive\, Kowloon Bay\, Hong Kong
CATEGORIES:2018,Comedy,Performing Arts
ATTACH;FMTTYPE=image/jpeg:https://www.bcmagazine.net/wp-content/uploads/1918/10/Shangela-Is-Shook.jpg
GEO:22.3239575;114.2037608
X-APPLE-STRUCTURED-LOCATION;VALUE=URI;X-ADDRESS=KITEC Music Zone@E-Max KITEC‎ 1 Trademart Drive Kowloon Bay Hong Kong;X-APPLE-RADIUS=500;X-TITLE=KITEC\,‎ 1 Trademart Drive:geo:114.2037608,22.3239575
END:VEVENT
BEGIN:VEVENT
DTSTART;VALUE=DATE:20181214
DTEND;VALUE=DATE:20181217
DTSTAMP:20260426T052032
CREATED:19181020T145036Z
LAST-MODIFIED:20181103T074947Z
UID:10004501-1544745600-1545004799@www.bcmagazine.net
SUMMARY:Toy Soul
DESCRIPTION:Toy Soul\nDate: 14-16 December\, 2018\nVenue: Kitec\, Star Hall\nTickets: $30
URL:https://www.bcmagazine.net/event/toy-soul-2018/
LOCATION:KITEC\, Star Hall\, KITEC\, 1 Trademart Drive\, Kowloon Bay\, Hong Kong
CATEGORIES:2018,Comedy,Exhibition,Lifestyle,Performing Arts
GEO:22.3239575;114.2037608
X-APPLE-STRUCTURED-LOCATION;VALUE=URI;X-ADDRESS=KITEC Star Hall KITEC 1 Trademart Drive Kowloon Bay Hong Kong;X-APPLE-RADIUS=500;X-TITLE=KITEC\, 1 Trademart Drive:geo:114.2037608,22.3239575
END:VEVENT
BEGIN:VEVENT
DTSTART;TZID=Asia/Hong_Kong:20181209T200000
DTEND;TZID=Asia/Hong_Kong:20181209T200000
DTSTAMP:20260426T052032
CREATED:19180528T020834Z
LAST-MODIFIED:20180728T044338Z
UID:10004113-1544385600-1544385600@www.bcmagazine.net
SUMMARY:Gad Elmaleh
DESCRIPTION:Gad Elmaleh – The Dream Tour\nDate: 8pm\, 9 December\, 2018\nVenue: HK Baptist University\, AC Hall\nTickets: $850\, $700\, $550\, $400 from Cityline
URL:https://www.bcmagazine.net/event/gad-elmaleh-the-dream-tour-2018/
LOCATION:HKBU Academic Community Hall\, 224 Waterloo Road\, Kowloon Tong\, Hong Kong
CATEGORIES:2018,Comedy,Performing Arts
ATTACH;FMTTYPE=image/jpeg:https://www.bcmagazine.net/wp-content/uploads/1918/05/Gad-Elmaleh-The-Dream-Tour.jpg
GEO:22.340854;114.1799456
X-APPLE-STRUCTURED-LOCATION;VALUE=URI;X-ADDRESS=HKBU Academic Community Hall 224 Waterloo Road Kowloon Tong Hong Kong;X-APPLE-RADIUS=500;X-TITLE=224 Waterloo Road:geo:114.1799456,22.340854
END:VEVENT
BEGIN:VEVENT
DTSTART;VALUE=DATE:20181027
DTEND;VALUE=DATE:20181029
DTSTAMP:20260426T052032
CREATED:19180716T124702Z
LAST-MODIFIED:20181022T153000Z
UID:10004306-1540598400-1540771199@www.bcmagazine.net
SUMMARY:Shi Fu Miz Festival 2018
DESCRIPTION:Shi Fu Miz Festival 2018\nDate: 27-28 October\, 2018\nVenue: Saiyuen Camping & Adventure Park\nTickets: $880\, $680\, $480\, $380\, $280
URL:https://www.bcmagazine.net/event/shi-fu-miz-festival-2018/
LOCATION:Saiyuen Camping & Adventure Park\, Sai Yuen\, Sai Wan\, Hong Kong
CATEGORIES:2018,Comedy,Concert,Music,Performing Arts
ATTACH;FMTTYPE=image/jpeg:https://www.bcmagazine.net/wp-content/uploads/1918/07/shi-fu-miz-2018.jpg
END:VEVENT
BEGIN:VEVENT
DTSTART;TZID=Asia/Hong_Kong:20180916T180000
DTEND;TZID=Asia/Hong_Kong:20180916T180000
DTSTAMP:20260426T052032
CREATED:19180608T094055Z
LAST-MODIFIED:20180724T013526Z
UID:10004196-1537120800-1537120800@www.bcmagazine.net
SUMMARY:Jimmy Carr
DESCRIPTION:Jimmy Carr\nDate: 6pm\, 16 September\, 2018\nVenue: Kitec\, Rotunda 3\nTickets: $888\, $788\, $688\, $588\, $488 from HKTicketing
URL:https://www.bcmagazine.net/event/jimmy-carr-2018/
LOCATION:KITEC\, Rotunda 3\, 1 Trademart Drive\, Kowloon Bay\, Hong Kong
CATEGORIES:2018,Comedy,Concert,Music,Performing Arts
GEO:22.3239575;114.2037608
X-APPLE-STRUCTURED-LOCATION;VALUE=URI;X-ADDRESS=KITEC Rotunda 3 1 Trademart Drive Kowloon Bay Hong Kong;X-APPLE-RADIUS=500;X-TITLE=1 Trademart Drive:geo:114.2037608,22.3239575
END:VEVENT
BEGIN:VEVENT
DTSTART;TZID=Asia/Hong_Kong:20180731T200000
DTEND;TZID=Asia/Hong_Kong:20180731T200000
DTSTAMP:20260426T052032
CREATED:19180716T124702Z
LAST-MODIFIED:20180724T164235Z
UID:10004305-1533067200-1533067200@www.bcmagazine.net
SUMMARY:Wong Tze Wah
DESCRIPTION:Wong Tze Wah Standup Comedy 2018\nDate: 8pm\, 6-31 July\, 2018\nVenue: HK Coliseum\nTickets: $880\, $680\, $480\, $380\, $280 from Urbtix
URL:https://www.bcmagazine.net/event/wong-tze-wah-31-07-2018/
LOCATION:HK Coliseum\, 9 Cheong Wan Road\, Hung Hom\, Hong Kong
CATEGORIES:2018,Comedy,Concert,Music,Performing Arts
ATTACH;FMTTYPE=image/jpeg:https://www.bcmagazine.net/wp-content/uploads/1918/07/dayo-wong-2018.jpg
GEO:22.3014169;114.1820305
X-APPLE-STRUCTURED-LOCATION;VALUE=URI;X-ADDRESS=HK Coliseum 9 Cheong Wan Road Hung Hom Hong Kong;X-APPLE-RADIUS=500;X-TITLE=9 Cheong Wan Road:geo:114.1820305,22.3014169
END:VEVENT
BEGIN:VEVENT
DTSTART;TZID=Asia/Hong_Kong:20180730T200000
DTEND;TZID=Asia/Hong_Kong:20180730T200000
DTSTAMP:20260426T052032
CREATED:19180716T124702Z
LAST-MODIFIED:20180724T164229Z
UID:10004304-1532980800-1532980800@www.bcmagazine.net
SUMMARY:Wong Tze Wah
DESCRIPTION:Wong Tze Wah Standup Comedy 2018\nDate: 8pm\, 6-31 July\, 2018\nVenue: HK Coliseum\nTickets: $880\, $680\, $480\, $380\, $280 from Urbtix
URL:https://www.bcmagazine.net/event/wong-tze-wah-30-07-2018/
LOCATION:HK Coliseum\, 9 Cheong Wan Road\, Hung Hom\, Hong Kong
CATEGORIES:2018,Comedy,Concert,Music,Performing Arts
ATTACH;FMTTYPE=image/jpeg:https://www.bcmagazine.net/wp-content/uploads/1918/07/dayo-wong-2018.jpg
GEO:22.3014169;114.1820305
X-APPLE-STRUCTURED-LOCATION;VALUE=URI;X-ADDRESS=HK Coliseum 9 Cheong Wan Road Hung Hom Hong Kong;X-APPLE-RADIUS=500;X-TITLE=9 Cheong Wan Road:geo:114.1820305,22.3014169
END:VEVENT
BEGIN:VEVENT
DTSTART;TZID=Asia/Hong_Kong:20180729T200000
DTEND;TZID=Asia/Hong_Kong:20180729T200000
DTSTAMP:20260426T052032
CREATED:19180716T124702Z
LAST-MODIFIED:20180724T164225Z
UID:10004303-1532894400-1532894400@www.bcmagazine.net
SUMMARY:Wong Tze Wah
DESCRIPTION:Wong Tze Wah Standup Comedy 2018\nDate: 8pm\, 6-31 July\, 2018\nVenue: HK Coliseum\nTickets: $880\, $680\, $480\, $380\, $280 from Urbtix
URL:https://www.bcmagazine.net/event/wong-tze-wah-29-07-2018/
LOCATION:HK Coliseum\, 9 Cheong Wan Road\, Hung Hom\, Hong Kong
CATEGORIES:2018,Comedy,Concert,Music,Performing Arts
ATTACH;FMTTYPE=image/jpeg:https://www.bcmagazine.net/wp-content/uploads/1918/07/dayo-wong-2018.jpg
GEO:22.3014169;114.1820305
X-APPLE-STRUCTURED-LOCATION;VALUE=URI;X-ADDRESS=HK Coliseum 9 Cheong Wan Road Hung Hom Hong Kong;X-APPLE-RADIUS=500;X-TITLE=9 Cheong Wan Road:geo:114.1820305,22.3014169
END:VEVENT
BEGIN:VEVENT
DTSTART;TZID=Asia/Hong_Kong:20180728T200000
DTEND;TZID=Asia/Hong_Kong:20180728T200000
DTSTAMP:20260426T052032
CREATED:19180716T124702Z
LAST-MODIFIED:20180724T164218Z
UID:10004302-1532808000-1532808000@www.bcmagazine.net
SUMMARY:Wong Tze Wah
DESCRIPTION:Wong Tze Wah Standup Comedy 2018\nDate: 8pm\, 6-31 July\, 2018\nVenue: HK Coliseum\nTickets: $880\, $680\, $480\, $380\, $280 from Urbtix
URL:https://www.bcmagazine.net/event/wong-tze-wah-28-07-2018/
LOCATION:HK Coliseum\, 9 Cheong Wan Road\, Hung Hom\, Hong Kong
CATEGORIES:2018,Comedy,Concert,Music,Performing Arts
ATTACH;FMTTYPE=image/jpeg:https://www.bcmagazine.net/wp-content/uploads/1918/07/dayo-wong-2018.jpg
GEO:22.3014169;114.1820305
X-APPLE-STRUCTURED-LOCATION;VALUE=URI;X-ADDRESS=HK Coliseum 9 Cheong Wan Road Hung Hom Hong Kong;X-APPLE-RADIUS=500;X-TITLE=9 Cheong Wan Road:geo:114.1820305,22.3014169
END:VEVENT
BEGIN:VEVENT
DTSTART;TZID=Asia/Hong_Kong:20180727T200000
DTEND;TZID=Asia/Hong_Kong:20180727T200000
DTSTAMP:20260426T052032
CREATED:19180716T124702Z
LAST-MODIFIED:20180724T164212Z
UID:10004301-1532721600-1532721600@www.bcmagazine.net
SUMMARY:Wong Tze Wah
DESCRIPTION:Wong Tze Wah Standup Comedy 2018\nDate: 8pm\, 6-31 July\, 2018\nVenue: HK Coliseum\nTickets: $880\, $680\, $480\, $380\, $280 from Urbtix
URL:https://www.bcmagazine.net/event/wong-tze-wah-27-07-2018/
LOCATION:HK Coliseum\, 9 Cheong Wan Road\, Hung Hom\, Hong Kong
CATEGORIES:2018,Comedy,Concert,Music,Performing Arts
ATTACH;FMTTYPE=image/jpeg:https://www.bcmagazine.net/wp-content/uploads/1918/07/dayo-wong-2018.jpg
GEO:22.3014169;114.1820305
X-APPLE-STRUCTURED-LOCATION;VALUE=URI;X-ADDRESS=HK Coliseum 9 Cheong Wan Road Hung Hom Hong Kong;X-APPLE-RADIUS=500;X-TITLE=9 Cheong Wan Road:geo:114.1820305,22.3014169
END:VEVENT
BEGIN:VEVENT
DTSTART;TZID=Asia/Hong_Kong:20180726T200000
DTEND;TZID=Asia/Hong_Kong:20180726T200000
DTSTAMP:20260426T052032
CREATED:19180716T124702Z
LAST-MODIFIED:20180724T164207Z
UID:10004300-1532635200-1532635200@www.bcmagazine.net
SUMMARY:Wong Tze Wah
DESCRIPTION:Wong Tze Wah Standup Comedy 2018\nDate: 8pm\, 6-31 July\, 2018\nVenue: HK Coliseum\nTickets: $880\, $680\, $480\, $380\, $280 from Urbtix
URL:https://www.bcmagazine.net/event/wong-tze-wah-26-07-2018/
LOCATION:HK Coliseum\, 9 Cheong Wan Road\, Hung Hom\, Hong Kong
CATEGORIES:2018,Comedy,Concert,Music,Performing Arts
ATTACH;FMTTYPE=image/jpeg:https://www.bcmagazine.net/wp-content/uploads/1918/07/dayo-wong-2018.jpg
GEO:22.3014169;114.1820305
X-APPLE-STRUCTURED-LOCATION;VALUE=URI;X-ADDRESS=HK Coliseum 9 Cheong Wan Road Hung Hom Hong Kong;X-APPLE-RADIUS=500;X-TITLE=9 Cheong Wan Road:geo:114.1820305,22.3014169
END:VEVENT
BEGIN:VEVENT
DTSTART;TZID=Asia/Hong_Kong:20180725T200000
DTEND;TZID=Asia/Hong_Kong:20180725T200000
DTSTAMP:20260426T052032
CREATED:19180716T124702Z
LAST-MODIFIED:20180724T164200Z
UID:10004299-1532548800-1532548800@www.bcmagazine.net
SUMMARY:Wong Tze Wah
DESCRIPTION:Wong Tze Wah Standup Comedy 2018\nDate: 8pm\, 6-31 July\, 2018\nVenue: HK Coliseum\nTickets: $880\, $680\, $480\, $380\, $280 from Urbtix
URL:https://www.bcmagazine.net/event/wong-tze-wah-25-07-2018/
LOCATION:HK Coliseum\, 9 Cheong Wan Road\, Hung Hom\, Hong Kong
CATEGORIES:2018,Comedy,Concert,Music,Performing Arts
ATTACH;FMTTYPE=image/jpeg:https://www.bcmagazine.net/wp-content/uploads/1918/07/dayo-wong-2018.jpg
GEO:22.3014169;114.1820305
X-APPLE-STRUCTURED-LOCATION;VALUE=URI;X-ADDRESS=HK Coliseum 9 Cheong Wan Road Hung Hom Hong Kong;X-APPLE-RADIUS=500;X-TITLE=9 Cheong Wan Road:geo:114.1820305,22.3014169
END:VEVENT
END:VCALENDAR