BEGIN:VCALENDAR
VERSION:2.0
PRODID:-//bc magazine - ECPv6.15.20//NONSGML v1.0//EN
CALSCALE:GREGORIAN
METHOD:PUBLISH
X-WR-CALNAME:bc magazine
X-ORIGINAL-URL:https://www.bcmagazine.net
X-WR-CALDESC:Events for bc magazine
REFRESH-INTERVAL;VALUE=DURATION:PT1H
X-Robots-Tag:noindex
X-PUBLISHED-TTL:PT1H
BEGIN:VTIMEZONE
TZID:Asia/Hong_Kong
BEGIN:STANDARD
TZOFFSETFROM:+0800
TZOFFSETTO:+0800
TZNAME:HKT
DTSTART:20170101T000000
END:STANDARD
END:VTIMEZONE
BEGIN:VEVENT
DTSTART;VALUE=DATE:20181214
DTEND;VALUE=DATE:20190218
DTSTAMP:20260422T195622
CREATED:19181120T072433Z
LAST-MODIFIED:20190129T164755Z
UID:10004583-1544745600-1550447999@www.bcmagazine.net
SUMMARY:AIA Carnival
DESCRIPTION:AIA Carnival + The Great Circus of Europe\nDate: 14 December\, 2018 – 17 February\, 2019\nVenue: Central Harbourfront\nTickets: $400\, $300\, $130\, $50
URL:https://www.bcmagazine.net/event/carnival-2018/
LOCATION:Central Harbourfront\,  9 Lung Wo Road\, Central\, Hong Kong
CATEGORIES:2018,2019,Music,Nightlife,Other,Performing Arts
GEO:22.2826223;114.164346
X-APPLE-STRUCTURED-LOCATION;VALUE=URI;X-ADDRESS=Central Harbourfront  9 Lung Wo Road Central Hong Kong;X-APPLE-RADIUS=500;X-TITLE=9 Lung Wo Road:geo:114.164346,22.2826223
END:VEVENT
BEGIN:VEVENT
DTSTART;TZID=Asia/Hong_Kong:20190217T120000
DTEND;TZID=Asia/Hong_Kong:20190217T120000
DTSTAMP:20260422T195622
CREATED:19181213T044512Z
LAST-MODIFIED:20190118T075044Z
UID:10004604-1550404800-1550404800@www.bcmagazine.net
SUMMARY:Comic World 47
DESCRIPTION:Comic World 47\nDate: 12nn\, 17 February\, 2019\nVenue: Kitec\, Rotunda 2\nTickets: $35
URL:https://www.bcmagazine.net/event/comic-world-47/
LOCATION:KITEC\, Rotunda 2\, Hong Kong
CATEGORIES:2019,Concert,Exhibition,Lifestyle,Music,Other,Performing Arts
ATTACH;FMTTYPE=image/jpeg:https://www.bcmagazine.net/wp-content/uploads/1918/12/CWHK47.jpg
GEO:22.396428;114.109497
END:VEVENT
BEGIN:VEVENT
DTSTART;TZID=Asia/Hong_Kong:20190217T193000
DTEND;TZID=Asia/Hong_Kong:20190217T193000
DTSTAMP:20260422T195622
CREATED:19181115T145036Z
LAST-MODIFIED:20181119T072537Z
UID:10004577-1550431800-1550431800@www.bcmagazine.net
SUMMARY:A9
DESCRIPTION:A9 Asia Tour 2019\nDate: 7:30pm\, 17 February\, 2019\nVenue: Kitec\, Music Zone@E-Max\nTickets: $680\, $580 (Advance)
URL:https://www.bcmagazine.net/event/a9-asia-tour-2019/
LOCATION:KITEC\, Music Zone@E-Max\, KITEC\,‎ 1 Trademart Drive\, Kowloon Bay\, Hong Kong
CATEGORIES:2019,Concert,Music,Performing Arts
ATTACH;FMTTYPE=image/jpeg:https://www.bcmagazine.net/wp-content/uploads/1918/11/A9-Asia-Tour-2019.jpg
GEO:22.3239575;114.2037608
X-APPLE-STRUCTURED-LOCATION;VALUE=URI;X-ADDRESS=KITEC Music Zone@E-Max KITEC‎ 1 Trademart Drive Kowloon Bay Hong Kong;X-APPLE-RADIUS=500;X-TITLE=KITEC\,‎ 1 Trademart Drive:geo:114.2037608,22.3239575
END:VEVENT
END:VCALENDAR