BEGIN:VCALENDAR
VERSION:2.0
PRODID:-//bc magazine - ECPv6.15.20//NONSGML v1.0//EN
CALSCALE:GREGORIAN
METHOD:PUBLISH
X-WR-CALNAME:bc magazine
X-ORIGINAL-URL:https://www.bcmagazine.net
X-WR-CALDESC:Events for bc magazine
REFRESH-INTERVAL;VALUE=DURATION:PT1H
X-Robots-Tag:noindex
X-PUBLISHED-TTL:PT1H
BEGIN:VTIMEZONE
TZID:Asia/Hong_Kong
BEGIN:STANDARD
TZOFFSETFROM:+0800
TZOFFSETTO:+0800
TZNAME:HKT
DTSTART:20180101T000000
END:STANDARD
END:VTIMEZONE
BEGIN:VEVENT
DTSTART;TZID=Asia/Hong_Kong:20190223T160000
DTEND;TZID=Asia/Hong_Kong:20190223T160000
DTSTAMP:20260424T001108
CREATED:19181213T044512Z
LAST-MODIFIED:20190125T181843Z
UID:10004688-1550937600-1550937600@www.bcmagazine.net
SUMMARY:Marco Mezquida
DESCRIPTION:Marco Mezquida – Piano Solo\nHong Kong Arts Festival\nDate: 4pm\, 23 February\, 2019\nVenue: HKAPA\, Drama Theatre\nTickets: $300
URL:https://www.bcmagazine.net/event/marco-mezquida-23-02-2019/
LOCATION:HKAPA: Drama Theatre\, 1 Gloucester Road\, Wanchai\, Hong Kong
CATEGORIES:2019,Concert,Cultural Festival,Jazz,Music,Performing Arts
GEO:22.2801854;114.1695054
X-APPLE-STRUCTURED-LOCATION;VALUE=URI;X-ADDRESS=HKAPA: Drama Theatre 1 Gloucester Road Wanchai Hong Kong;X-APPLE-RADIUS=500;X-TITLE=1 Gloucester Road:geo:114.1695054,22.2801854
END:VEVENT
BEGIN:VEVENT
DTSTART;TZID=Asia/Hong_Kong:20190223T183000
DTEND;TZID=Asia/Hong_Kong:20190223T183000
DTSTAMP:20260424T001108
CREATED:19180113T044512Z
LAST-MODIFIED:20190130T074336Z
UID:10003729-1550946600-1550946600@www.bcmagazine.net
SUMMARY:CityU Band Society
DESCRIPTION:CityU Band Society\nThe 尺口 MP\, Topsy-Wave\, Teenage Riot\, 鬥牛梗\nDate: 6:30pm\, 23 February\, 2019\nVenue: MOM Livehouse\nTickets: $180\, $150
URL:https://www.bcmagazine.net/event/cityu-band-society-2019/
LOCATION:MOM Livehouse\, B39 Seven Seas Shopping Centre\, 117-121 Kings Road\, North Point\, Hong Kong
CATEGORIES:2019,Concert,Music,Performing Arts
ATTACH;FMTTYPE=image/jpeg:https://www.bcmagazine.net/wp-content/uploads/1918/12/city-u-band-soc-2019.jpg
GEO:22.2884683;114.192803
X-APPLE-STRUCTURED-LOCATION;VALUE=URI;X-ADDRESS=MOM Livehouse B39 Seven Seas Shopping Centre 117-121 Kings Road North Point Hong Kong;X-APPLE-RADIUS=500;X-TITLE=B39 Seven Seas Shopping Centre\, 117-121 Kings Road:geo:114.192803,22.2884683
END:VEVENT
BEGIN:VEVENT
DTSTART;TZID=Asia/Hong_Kong:20190223T190000
DTEND;TZID=Asia/Hong_Kong:20190223T190000
DTSTAMP:20260424T001108
CREATED:19181002T010042Z
LAST-MODIFIED:20190125T183237Z
UID:10004475-1550948400-1550948400@www.bcmagazine.net
SUMMARY:Supper Moment
DESCRIPTION:Supper Moment\nDate: 23-24 February\, 2019\nVenues: Cotai Arena\nTickets: $980\, $780\, $580\, $380 from CotaiTicketing
URL:https://www.bcmagazine.net/event/supper-moment-24-02-2019/
LOCATION:Cotai Arena\, Venetian Macao\, Macau
CATEGORIES:2019,Concert,Macau,Music,Performing Arts
ATTACH;FMTTYPE=image/jpeg:https://www.bcmagazine.net/wp-content/uploads/1918/10/supper-moment-macau-2019.jpg
END:VEVENT
BEGIN:VEVENT
DTSTART;TZID=Asia/Hong_Kong:20190223T193000
DTEND;TZID=Asia/Hong_Kong:20190223T193000
DTSTAMP:20260424T001108
CREATED:19181213T044512Z
LAST-MODIFIED:20190125T181605Z
UID:10004686-1550950200-1550950200@www.bcmagazine.net
SUMMARY:Marco Mezquida Trio
DESCRIPTION:Marco Mezquida Trio – Ravel’s Dreams\nHong Kong Arts Festival\nDate: 7:30pm\, 23 February\, 2019\nVenue: HKAPA\, Drama Theatre\nTickets: $300
URL:https://www.bcmagazine.net/event/marco-mezquida-trio-hk-23-02-2019/
LOCATION:HKAPA: Drama Theatre\, 1 Gloucester Road\, Wanchai\, Hong Kong
CATEGORIES:2019,Concert,Cultural Festival,Jazz,Music,Performing Arts
GEO:22.2801854;114.1695054
X-APPLE-STRUCTURED-LOCATION;VALUE=URI;X-ADDRESS=HKAPA: Drama Theatre 1 Gloucester Road Wanchai Hong Kong;X-APPLE-RADIUS=500;X-TITLE=1 Gloucester Road:geo:114.1695054,22.2801854
END:VEVENT
BEGIN:VEVENT
DTSTART;TZID=Asia/Hong_Kong:20190223T193000
DTEND;TZID=Asia/Hong_Kong:20190223T193000
DTSTAMP:20260424T001108
CREATED:19181213T044512Z
LAST-MODIFIED:20190122T120454Z
UID:10004676-1550950200-1550950200@www.bcmagazine.net
SUMMARY:Dark Room
DESCRIPTION:Dark Room\nKristina Pakhomova\nDate: 7:30pm\, 22-23 February\, 2019\nVenue: The Hive\, Kennedy Town\nTickets: $600\, $300\, $250 from Ticketflap
URL:https://www.bcmagazine.net/event/dark-room-23-02-2019/
LOCATION:The Hive\, Kennedy Town\, Hong Kong
CATEGORIES:2019,Performing Arts,Theatre
ATTACH;FMTTYPE=image/jpeg:https://www.bcmagazine.net/wp-content/uploads/1918/12/dark-room-hk-2019.jpg
END:VEVENT
BEGIN:VEVENT
DTSTART;TZID=Asia/Hong_Kong:20190223T200000
DTEND;TZID=Asia/Hong_Kong:20190223T200000
DTSTAMP:20260424T001108
CREATED:19181002T010042Z
LAST-MODIFIED:20190125T183154Z
UID:10004474-1550952000-1550952000@www.bcmagazine.net
SUMMARY:Supper Moment
DESCRIPTION:Supper Moment\nDate: 23-24 February\, 2019\nVenues: Cotai Arena\nTickets: $980\, $780\, $580\, $380 from CotaiTicketing
URL:https://www.bcmagazine.net/event/supper-moment-23-02-2019/
LOCATION:Cotai Arena\, Venetian Macao\, Macau
CATEGORIES:2019,Concert,Macau,Music,Performing Arts
ATTACH;FMTTYPE=image/jpeg:https://www.bcmagazine.net/wp-content/uploads/1918/10/supper-moment-macau-2019.jpg
END:VEVENT
BEGIN:VEVENT
DTSTART;TZID=Asia/Hong_Kong:20190223T201500
DTEND;TZID=Asia/Hong_Kong:20190223T201500
DTSTAMP:20260424T001108
CREATED:19181213T044512Z
LAST-MODIFIED:20190118T093851Z
UID:10004648-1550952900-1550952900@www.bcmagazine.net
SUMMARY:Cloud Gate Dance Theatre
DESCRIPTION:Retrospectives of Lin Hwai-Min\nHK Arts Festival\, Cloud Gate Dance Theatre\nDate: 21-24 February\, 2019\nVenue: HK Cultural Centre\, Grand Theatre\nTickets: $800\, $700\, $600\, $500\, $400\, $300 from Urbtix
URL:https://www.bcmagazine.net/event/cloud-gate-dance-theatre-23-02-2019/
LOCATION:HK Cultural Centre\, Grand Theatre\,\, 10 Salisbury Road\, Tsim Sha Tsui\, Hong Kong
CATEGORIES:2019,Cultural Festival,Dance,Performing Arts
GEO:22.294318;114.171708
X-APPLE-STRUCTURED-LOCATION;VALUE=URI;X-ADDRESS=HK Cultural Centre Grand Theatre 10 Salisbury Road Tsim Sha Tsui Hong Kong;X-APPLE-RADIUS=500;X-TITLE=10 Salisbury Road:geo:114.171708,22.294318
END:VEVENT
BEGIN:VEVENT
DTSTART;TZID=Asia/Hong_Kong:20190223T203000
DTEND;TZID=Asia/Hong_Kong:20190223T203000
DTSTAMP:20260424T001108
CREATED:19190111T045612Z
LAST-MODIFIED:20190112T081422Z
UID:10003965-1550953800-1550953800@www.bcmagazine.net
SUMMARY:Lucky Tapes
DESCRIPTION:Lucky Tapes Asia Tour 2019\nDate: 8:30pm\, 23 February\, 2019\nVenue: This Town Needs (TTN)\nTickets: $480 (door)\, $380 (advance)
URL:https://www.bcmagazine.net/event/lucky-tapes/
LOCATION:This Town Needs (TTN)\, 1/F Ocean One\, 6 Shung Shun Street\, Yau Tong\, Hong Kong
CATEGORIES:2019,Concert,Music,Performing Arts
ATTACH;FMTTYPE=image/jpeg:https://www.bcmagazine.net/wp-content/uploads/2019/01/Lucky-Tapes-HK-2019.jpg
GEO:22.292861;114.23782
X-APPLE-STRUCTURED-LOCATION;VALUE=URI;X-ADDRESS=This Town Needs (TTN) 1/F Ocean One 6 Shung Shun Street Yau Tong Hong Kong;X-APPLE-RADIUS=500;X-TITLE=1/F Ocean One\, 6 Shung Shun Street:geo:114.23782,22.292861
END:VEVENT
BEGIN:VEVENT
DTSTART;TZID=Asia/Hong_Kong:20190223T213000
DTEND;TZID=Asia/Hong_Kong:20190223T213000
DTSTAMP:20260424T001108
CREATED:19181213T044512Z
LAST-MODIFIED:20190125T181321Z
UID:10004685-1550957400-1550957400@www.bcmagazine.net
SUMMARY:Jorge da Rocha
DESCRIPTION:Jorge da Rocha\nHong Kong Arts Festival\nDate: 9:30pm\, 23 February\, 2019\nVenue: HKAPA\, Drama Theatre\nTickets: $300
URL:https://www.bcmagazine.net/event/jorge-da-rocha-hk-2019jorge-da-rocha/
LOCATION:HKAPA: Drama Theatre\, 1 Gloucester Road\, Wanchai\, Hong Kong
CATEGORIES:2019,Concert,Cultural Festival,Jazz,Music,Performing Arts
GEO:22.2801854;114.1695054
X-APPLE-STRUCTURED-LOCATION;VALUE=URI;X-ADDRESS=HKAPA: Drama Theatre 1 Gloucester Road Wanchai Hong Kong;X-APPLE-RADIUS=500;X-TITLE=1 Gloucester Road:geo:114.1695054,22.2801854
END:VEVENT
END:VCALENDAR