BEGIN:VCALENDAR
VERSION:2.0
PRODID:-//bc magazine - ECPv6.15.20//NONSGML v1.0//EN
CALSCALE:GREGORIAN
METHOD:PUBLISH
X-WR-CALNAME:bc magazine
X-ORIGINAL-URL:https://www.bcmagazine.net
X-WR-CALDESC:Events for bc magazine
REFRESH-INTERVAL;VALUE=DURATION:PT1H
X-Robots-Tag:noindex
X-PUBLISHED-TTL:PT1H
BEGIN:VTIMEZONE
TZID:Asia/Hong_Kong
BEGIN:STANDARD
TZOFFSETFROM:+0800
TZOFFSETTO:+0800
TZNAME:HKT
DTSTART:20180101T000000
END:STANDARD
END:VTIMEZONE
BEGIN:VEVENT
DTSTART;TZID=Asia/Hong_Kong:20190313T193000
DTEND;TZID=Asia/Hong_Kong:20190313T193000
DTSTAMP:20260424T134459
CREATED:19180802T094055Z
LAST-MODIFIED:20181218T101711Z
UID:10004364-1552505400-1552505400@www.bcmagazine.net
SUMMARY:Clairo
DESCRIPTION:Clairo\nDate: 7:30pm\, 13 March\, 2019\nVenue: This Town Needs (TTN)\nTickets: $380 from Ticketflap
URL:https://www.bcmagazine.net/event/clairo-hk-2019/
LOCATION:This Town Needs (TTN)\, 1/F Ocean One\, 6 Shung Shun Street\, Yau Tong\, Hong Kong
CATEGORIES:2019,Concert,concert,Music,Performing Arts
ATTACH;FMTTYPE=image/jpeg:https://www.bcmagazine.net/wp-content/uploads/1918/08/clairo-hk-2019.jpg
GEO:22.292861;114.23782
X-APPLE-STRUCTURED-LOCATION;VALUE=URI;X-ADDRESS=This Town Needs (TTN) 1/F Ocean One 6 Shung Shun Street Yau Tong Hong Kong;X-APPLE-RADIUS=500;X-TITLE=1/F Ocean One\, 6 Shung Shun Street:geo:114.23782,22.292861
END:VEVENT
BEGIN:VEVENT
DTSTART;TZID=Asia/Hong_Kong:20190313T193000
DTEND;TZID=Asia/Hong_Kong:20190313T193000
DTSTAMP:20260424T134459
CREATED:19181213T044512Z
LAST-MODIFIED:20190118T100315Z
UID:10004656-1552505400-1552505400@www.bcmagazine.net
SUMMARY:The Hamburg Ballet
DESCRIPTION:The Hamburg Ballet – John Neumeier The Nutcracker\nHK Arts Festival\,  \nDate: 7:30pm\, 13-15 March\, 2019\nVenue: HK Cultural Centre\, Grand Theatre\nTickets: $760\, $660\, $560\, $460\, $360\, $260 from Urbtix
URL:https://www.bcmagazine.net/event/the-hamburg-ballet-13-03-2019/
LOCATION:HK Cultural Centre\, Grand Theatre\,\, 10 Salisbury Road\, Tsim Sha Tsui\, Hong Kong
CATEGORIES:2019,Ballet,Cultural Festival,Dance,Performing Arts
ATTACH;FMTTYPE=image/jpeg:https://www.bcmagazine.net/wp-content/uploads/1918/12/John-Neumeier-The-Nutcracker-hkaf2019.jpg
GEO:22.294318;114.171708
X-APPLE-STRUCTURED-LOCATION;VALUE=URI;X-ADDRESS=HK Cultural Centre Grand Theatre 10 Salisbury Road Tsim Sha Tsui Hong Kong;X-APPLE-RADIUS=500;X-TITLE=10 Salisbury Road:geo:114.171708,22.294318
END:VEVENT
BEGIN:VEVENT
DTSTART;TZID=Asia/Hong_Kong:20190313T200000
DTEND;TZID=Asia/Hong_Kong:20190313T200000
DTSTAMP:20260424T134459
CREATED:19170909T021037Z
LAST-MODIFIED:20181127T002904Z
UID:10003415-1552507200-1552507200@www.bcmagazine.net
SUMMARY:Peel Street Poetry
DESCRIPTION:Peel Street Poetry is an open mic poetry night at Social Room. It runs every Wednesdays of the month except the first and last. The environment is friendly and they love new performers\, so come share your poetry or just listen along to some of Hong Kong’s sharpest poetic talents. \nPeel Street Poetry Open Mic\nDate: 2nd\, 3rd (and 4th) Wednesdays of the month\nVenue: Social Room\nTickets: Free\nMore info:\nwww.peelstreetpoetry.com
URL:https://www.bcmagazine.net/event/peel-street-poetry/2019-03-13/
LOCATION:Social Room\, 74-78 Stanley Street \, Central\, Hong Kong
CATEGORIES:2018,2019,Free,Performing Arts,Poetry
GEO:22.2834184;114.1544925
X-APPLE-STRUCTURED-LOCATION;VALUE=URI;X-ADDRESS=Social Room 74-78 Stanley Street  Central Hong Kong;X-APPLE-RADIUS=500;X-TITLE=74-78 Stanley Street:geo:114.1544925,22.2834184
END:VEVENT
BEGIN:VEVENT
DTSTART;TZID=Asia/Hong_Kong:20190313T200000
DTEND;TZID=Asia/Hong_Kong:20190313T200000
DTSTAMP:20260424T134459
CREATED:19181213T044512Z
LAST-MODIFIED:20190228T014206Z
UID:10004670-1552507200-1552507200@www.bcmagazine.net
SUMMARY:Allman Brown
DESCRIPTION:Allman Brown\nSupport: Kaona\nDate: 8pm\, 13 March\, 2019\nVenue: MOM Livehouse\nTickets: $220 from Ticketflap
URL:https://www.bcmagazine.net/event/allman-brown-hk-2019/
LOCATION:MOM Livehouse\, B39 Seven Seas Shopping Centre\, 117-121 Kings Road\, North Point\, Hong Kong
CATEGORIES:2019,Concert,Music,Performing Arts
ATTACH;FMTTYPE=image/jpeg:https://www.bcmagazine.net/wp-content/uploads/1918/12/Allman-Brown-hk-2019.jpg
GEO:22.2884683;114.192803
X-APPLE-STRUCTURED-LOCATION;VALUE=URI;X-ADDRESS=MOM Livehouse B39 Seven Seas Shopping Centre 117-121 Kings Road North Point Hong Kong;X-APPLE-RADIUS=500;X-TITLE=B39 Seven Seas Shopping Centre\, 117-121 Kings Road:geo:114.192803,22.2884683
END:VEVENT
END:VCALENDAR