BEGIN:VCALENDAR
VERSION:2.0
PRODID:-//bc magazine - ECPv6.15.20//NONSGML v1.0//EN
CALSCALE:GREGORIAN
METHOD:PUBLISH
X-WR-CALNAME:bc magazine
X-ORIGINAL-URL:https://www.bcmagazine.net
X-WR-CALDESC:Events for bc magazine
REFRESH-INTERVAL;VALUE=DURATION:PT1H
X-Robots-Tag:noindex
X-PUBLISHED-TTL:PT1H
BEGIN:VTIMEZONE
TZID:Asia/Hong_Kong
BEGIN:STANDARD
TZOFFSETFROM:+0800
TZOFFSETTO:+0800
TZNAME:HKT
DTSTART:20180101T000000
END:STANDARD
END:VTIMEZONE
BEGIN:VEVENT
DTSTART;VALUE=DATE:20190315
DTEND;VALUE=DATE:20190325
DTSTAMP:20260426T015629
CREATED:19190320T165250Z
LAST-MODIFIED:20190320T165808Z
UID:10004745-1552608000-1553471999@www.bcmagazine.net
SUMMARY:8th Macau Literary Festival: The Script Road
DESCRIPTION:8th Macau Literary Festival: The Script Road\nDate: 15-24 March\, 2019\nVenue: Macau\nTickets: www.thescriptroad.org
URL:https://www.bcmagazine.net/event/8th-macau-literary-festival-the-script-road/
CATEGORIES:2019,Concert,Cultural Festival,Exhibition,Lifestyle,Macau,Music,Other,Performing Arts
END:VEVENT
BEGIN:VEVENT
DTSTART;TZID=Asia/Hong_Kong:20190316T200000
DTEND;TZID=Asia/Hong_Kong:20190316T200000
DTSTAMP:20260426T015629
CREATED:19181213T044512Z
LAST-MODIFIED:20190115T053039Z
UID:10004595-1552766400-1552766400@www.bcmagazine.net
SUMMARY:Park Bo Gum
DESCRIPTION:Park Bo Gum – Good Day: May your everyday be a good day\nDate: 8pm\, 16 March\, 2019\nVenue: AsiaWorld Expo\, Hall 10\nTickets: $1\,380\, $980\, $680 from HKTicketing
URL:https://www.bcmagazine.net/event/park-bo-gum-hk-2019/
LOCATION:AsiaWorld-Expo\, Hall 10\, Cheong Wing Road\, Chek Lap Kok\, Lantau\, Hong Kong
CATEGORIES:2019,Concert,Music,Performing Arts
ATTACH;FMTTYPE=image/jpeg:https://www.bcmagazine.net/wp-content/uploads/1918/12/ParkBo-Gum-HK-2019.jpg
GEO:22.3217383;113.9402012
X-APPLE-STRUCTURED-LOCATION;VALUE=URI;X-ADDRESS=AsiaWorld-Expo Hall 10 Cheong Wing Road Chek Lap Kok Lantau Hong Kong;X-APPLE-RADIUS=500;X-TITLE=Cheong Wing Road\, Chek Lap Kok:geo:113.9402012,22.3217383
END:VEVENT
BEGIN:VEVENT
DTSTART;TZID=Asia/Hong_Kong:20190316T200000
DTEND;TZID=Asia/Hong_Kong:20190316T200000
DTSTAMP:20260426T015629
CREATED:19190226T065612Z
LAST-MODIFIED:20190227T015401Z
UID:10004734-1552766400-1552766400@www.bcmagazine.net
SUMMARY:Mars en Folie
DESCRIPTION:Mars en Folie\nCherry Chérie\, Témé Tan\, Stevans\, Suzane\nDate: 8pm\, 16 March\, 2019\nVenue: MoM Livehouse\nTickets: Free
URL:https://www.bcmagazine.net/event/mars-en-folie-2019/
LOCATION:MOM Livehouse\, B39 Seven Seas Shopping Centre\, 117-121 Kings Road\, North Point\, Hong Kong
CATEGORIES:2019,Concert,Free,Music,Performing Arts
ATTACH;FMTTYPE=image/jpeg:https://www.bcmagazine.net/wp-content/uploads/1919/02/mars_en_folie_image_2019.jpg
GEO:22.2884683;114.192803
X-APPLE-STRUCTURED-LOCATION;VALUE=URI;X-ADDRESS=MOM Livehouse B39 Seven Seas Shopping Centre 117-121 Kings Road North Point Hong Kong;X-APPLE-RADIUS=500;X-TITLE=B39 Seven Seas Shopping Centre\, 117-121 Kings Road:geo:114.192803,22.2884683
END:VEVENT
BEGIN:VEVENT
DTSTART;TZID=Asia/Hong_Kong:20190316T201500
DTEND;TZID=Asia/Hong_Kong:20190316T201500
DTSTAMP:20260426T015629
CREATED:19181213T044512Z
LAST-MODIFIED:20190118T084847Z
UID:10004614-1552767300-1552767300@www.bcmagazine.net
SUMMARY:Dear Jane
DESCRIPTION:Dear Jane – Yours Sincerely Live 2019\nDate: 8:15pm\, 16-17 March 2019\nVenue: HK Coliseum\nTickets: $780\, $480\, $300 from Urbtix
URL:https://www.bcmagazine.net/event/dear-jane-16-03-2019/
LOCATION:HK Coliseum\, 9 Cheong Wan Road\, Hung Hom\, Hong Kong
CATEGORIES:2019,Cantopop,Concert,Music,Performing Arts
ATTACH;FMTTYPE=image/jpeg:https://www.bcmagazine.net/wp-content/uploads/1918/12/dear-jane-2019.jpg
GEO:22.3014169;114.1820305
X-APPLE-STRUCTURED-LOCATION;VALUE=URI;X-ADDRESS=HK Coliseum 9 Cheong Wan Road Hung Hom Hong Kong;X-APPLE-RADIUS=500;X-TITLE=9 Cheong Wan Road:geo:114.1820305,22.3014169
END:VEVENT
END:VCALENDAR