BEGIN:VCALENDAR
VERSION:2.0
PRODID:-//bc magazine - ECPv6.15.20//NONSGML v1.0//EN
CALSCALE:GREGORIAN
METHOD:PUBLISH
X-WR-CALNAME:bc magazine
X-ORIGINAL-URL:https://www.bcmagazine.net
X-WR-CALDESC:Events for bc magazine
REFRESH-INTERVAL;VALUE=DURATION:PT1H
X-Robots-Tag:noindex
X-PUBLISHED-TTL:PT1H
BEGIN:VTIMEZONE
TZID:Asia/Hong_Kong
BEGIN:STANDARD
TZOFFSETFROM:+0800
TZOFFSETTO:+0800
TZNAME:HKT
DTSTART:20180101T000000
END:STANDARD
END:VTIMEZONE
BEGIN:VEVENT
DTSTART;VALUE=DATE:20190315
DTEND;VALUE=DATE:20190325
DTSTAMP:20260424T173057
CREATED:19190320T165250Z
LAST-MODIFIED:20190320T165808Z
UID:10004745-1552608000-1553471999@www.bcmagazine.net
SUMMARY:8th Macau Literary Festival: The Script Road
DESCRIPTION:8th Macau Literary Festival: The Script Road\nDate: 15-24 March\, 2019\nVenue: Macau\nTickets: www.thescriptroad.org
URL:https://www.bcmagazine.net/event/8th-macau-literary-festival-the-script-road/
CATEGORIES:2019,Concert,Cultural Festival,Exhibition,Lifestyle,Macau,Music,Other,Performing Arts
END:VEVENT
BEGIN:VEVENT
DTSTART;TZID=Asia/Hong_Kong:20190324T143000
DTEND;TZID=Asia/Hong_Kong:20190324T143000
DTSTAMP:20260424T173057
CREATED:19181213T044512Z
LAST-MODIFIED:20190118T101410Z
UID:10004662-1553437800-1553437800@www.bcmagazine.net
SUMMARY:The Hamburg Ballet
DESCRIPTION:The Hamburg Ballet – John Neumeier\, The World of John Neumeier\nHK Arts Festival\, The Hamburg Ballet\nDate: 23-24 March\, 2019\nVenue: HK Cultural Centre\, Grand Theatre\nTickets: $720\, $630\, $540\, $450\, $360\, $260 from Urbtix
URL:https://www.bcmagazine.net/event/the-hamburg-ballet-24-03-2019/
LOCATION:HK Cultural Centre\, Grand Theatre\,\, 10 Salisbury Road\, Tsim Sha Tsui\, Hong Kong
CATEGORIES:2019,Ballet,Cultural Festival,Dance,Performing Arts
ATTACH;FMTTYPE=image/jpeg:https://www.bcmagazine.net/wp-content/uploads/1918/12/The-World-of-John-Neumeier.jpg
GEO:22.294318;114.171708
X-APPLE-STRUCTURED-LOCATION;VALUE=URI;X-ADDRESS=HK Cultural Centre Grand Theatre 10 Salisbury Road Tsim Sha Tsui Hong Kong;X-APPLE-RADIUS=500;X-TITLE=10 Salisbury Road:geo:114.171708,22.294318
END:VEVENT
BEGIN:VEVENT
DTSTART;TZID=Asia/Hong_Kong:20190324T143000
DTEND;TZID=Asia/Hong_Kong:20190324T143000
DTSTAMP:20260424T173057
CREATED:19181213T044512Z
LAST-MODIFIED:20210301T075946Z
UID:10004663-1553437800-1553437800@www.bcmagazine.net
SUMMARY:The Hamburg Ballet
DESCRIPTION:The Hamburg Ballet – John Neumeier\, The World of John Neumeier\nHK Arts Festival\, The Hamburg Ballet\nDate: 23-24 March\, 2019\nVenue: HK Cultural Centre\, Grand Theatre\nTickets: $720\, $630\, $540\, $450\, $360\, $260 from Urbtix
URL:https://www.bcmagazine.net/event/the-hamburg-ballet-2019/
LOCATION:HK Cultural Centre\, Grand Theatre\,\, 10 Salisbury Road\, Tsim Sha Tsui\, Hong Kong
CATEGORIES:2019,Ballet,Cultural Festival,Dance,Performing Arts
ATTACH;FMTTYPE=image/jpeg:https://www.bcmagazine.net/wp-content/uploads/1918/12/The-World-of-John-Neumeier.jpg
GEO:22.294318;114.171708
X-APPLE-STRUCTURED-LOCATION;VALUE=URI;X-ADDRESS=HK Cultural Centre Grand Theatre 10 Salisbury Road Tsim Sha Tsui Hong Kong;X-APPLE-RADIUS=500;X-TITLE=10 Salisbury Road:geo:114.171708,22.294318
END:VEVENT
BEGIN:VEVENT
DTSTART;TZID=Asia/Hong_Kong:20190324T180000
DTEND;TZID=Asia/Hong_Kong:20190324T180000
DTSTAMP:20260424T173057
CREATED:19181217T034537Z
LAST-MODIFIED:20190924T041151Z
UID:10004720-1553450400-1553450400@www.bcmagazine.net
SUMMARY:BTS
DESCRIPTION:BTS – Love Yourself World Tour\nDate: 20\, 21\, 23\, 24 March\, 2019\nVenue: AsiaWorld-Expo Arena\nTickets: $2\,488\, $1\,888\, $1\,788\, $1\,388\, $1\,288\, $888\, $588 from HKTicketing
URL:https://www.bcmagazine.net/event/bts-hk-24-03-2019/
LOCATION:AsiaWorld Expo\, Arena\, Hong Kong
CATEGORIES:2019,concert,Concert,Music,Performing Arts
ATTACH;FMTTYPE=image/jpeg:https://www.bcmagazine.net/wp-content/uploads/2018/10/bts-hk-2019.jpg
END:VEVENT
BEGIN:VEVENT
DTSTART;TZID=Asia/Hong_Kong:20190324T193000
DTEND;TZID=Asia/Hong_Kong:20190324T193000
DTSTAMP:20260424T173057
CREATED:19181213T044512Z
LAST-MODIFIED:20190122T120628Z
UID:10004680-1553455800-1553455800@www.bcmagazine.net
SUMMARY:Discord of Discourse
DESCRIPTION:Discord of Discourse\nKhairul Kamsani\nDate: 7:30pm\, 21-24 March\, 2019\nVenue: The Hive\, Kennedy Town\nTickets: $200 from Ticketflap
URL:https://www.bcmagazine.net/event/discord-of-discourse-24-03-2019/
LOCATION:The Hive\, Kennedy Town\, Hong Kong
CATEGORIES:2019,Performing Arts,Theatre
ATTACH;FMTTYPE=image/jpeg:https://www.bcmagazine.net/wp-content/uploads/1918/12/Discord-Of-Discourse-hk-2019.jpg
END:VEVENT
END:VCALENDAR