BEGIN:VCALENDAR
VERSION:2.0
PRODID:-//bc magazine - ECPv6.15.20//NONSGML v1.0//EN
CALSCALE:GREGORIAN
METHOD:PUBLISH
X-WR-CALNAME:bc magazine
X-ORIGINAL-URL:https://www.bcmagazine.net
X-WR-CALDESC:Events for bc magazine
REFRESH-INTERVAL;VALUE=DURATION:PT1H
X-Robots-Tag:noindex
X-PUBLISHED-TTL:PT1H
BEGIN:VTIMEZONE
TZID:Asia/Hong_Kong
BEGIN:STANDARD
TZOFFSETFROM:+0800
TZOFFSETTO:+0800
TZNAME:HKT
DTSTART:20180101T000000
END:STANDARD
END:VTIMEZONE
BEGIN:VEVENT
DTSTART;TZID=Asia/Hong_Kong:20190412T200000
DTEND;TZID=Asia/Hong_Kong:20190412T200000
DTSTAMP:20260425T084842
CREATED:19180805T120338Z
LAST-MODIFIED:20180805T123853Z
UID:10004402-1555099200-1555099200@www.bcmagazine.net
SUMMARY:A Historic Dialogue
DESCRIPTION:A Historic Dialogue – The Symphonic Chinese Music of Zhao Jiping\nHK Chinese Orchestra\nDate: 8pm\, 12-13 April\, 2019\nVenue: HK Cultural Centre\, Concert Hall\nTickets: $350\, $280\, $220\, $170 from Urbtix
URL:https://www.bcmagazine.net/event/a-historic-dialogue-hkco-12-04-2019/
LOCATION:HK Cultural Centre\, Concert Hall\, 10 Salisbury Road\, Tsim Sha Tsui\, Hong Kong
CATEGORIES:2019,Concert,Music,Performing Arts
GEO:22.294318;114.171708
X-APPLE-STRUCTURED-LOCATION;VALUE=URI;X-ADDRESS=HK Cultural Centre Concert Hall 10 Salisbury Road Tsim Sha Tsui Hong Kong;X-APPLE-RADIUS=500;X-TITLE=10 Salisbury Road:geo:114.171708,22.294318
END:VEVENT
BEGIN:VEVENT
DTSTART;TZID=Asia/Hong_Kong:20190412T201500
DTEND;TZID=Asia/Hong_Kong:20190412T201500
DTSTAMP:20260425T084842
CREATED:19181213T044512Z
LAST-MODIFIED:20190118T084959Z
UID:10004611-1555100100-1555100100@www.bcmagazine.net
SUMMARY:Leo Ku
DESCRIPTION:Leo Ku\nDate: 8:15pm\, 11-12 April 2019\nVenue: HK Coliseum\nTickets: $780\, $480\, $280 from Urbtix
URL:https://www.bcmagazine.net/event/leo-ku-12-04-2019/
LOCATION:HK Coliseum\, 9 Cheong Wan Road\, Hung Hom\, Hong Kong
CATEGORIES:2019,Cantopop,Concert,Music,Performing Arts
GEO:22.3014169;114.1820305
X-APPLE-STRUCTURED-LOCATION;VALUE=URI;X-ADDRESS=HK Coliseum 9 Cheong Wan Road Hung Hom Hong Kong;X-APPLE-RADIUS=500;X-TITLE=9 Cheong Wan Road:geo:114.1820305,22.3014169
END:VEVENT
END:VCALENDAR