BEGIN:VCALENDAR
VERSION:2.0
PRODID:-//bc magazine - ECPv6.15.20//NONSGML v1.0//EN
CALSCALE:GREGORIAN
METHOD:PUBLISH
X-WR-CALNAME:bc magazine
X-ORIGINAL-URL:https://www.bcmagazine.net
X-WR-CALDESC:Events for bc magazine
REFRESH-INTERVAL;VALUE=DURATION:PT1H
X-Robots-Tag:noindex
X-PUBLISHED-TTL:PT1H
BEGIN:VTIMEZONE
TZID:Asia/Hong_Kong
BEGIN:STANDARD
TZOFFSETFROM:+0800
TZOFFSETTO:+0800
TZNAME:HKT
DTSTART:20180101T000000
END:STANDARD
END:VTIMEZONE
BEGIN:VEVENT
DTSTART;TZID=Asia/Hong_Kong:20190418T200000
DTEND;TZID=Asia/Hong_Kong:20190418T200000
DTSTAMP:20260423T122550
CREATED:19181213T044512Z
LAST-MODIFIED:20190115T052423Z
UID:10004600-1555617600-1555617600@www.bcmagazine.net
SUMMARY:Ed Sheeran
DESCRIPTION:Ed Sheeran\nDate: 4pm\, 17-18 April\, 2019\nVenue: Hong Kong Disneyland\, Fantasy Road Outdoor Venue\nTickets: $1\,288\, $888 from HKTicketing
URL:https://www.bcmagazine.net/event/ed-sheeran-hk-18-04-2019/
LOCATION:Disneyland Hong Kong\, Lantau\, Hong Kong
CATEGORIES:2019,Concert,Music,Performing Arts
ATTACH;FMTTYPE=image/jpeg:https://www.bcmagazine.net/wp-content/uploads/1918/12/Ed-Sheeran-hk-2019.jpg
GEO:22.2664984;113.941751
END:VEVENT
END:VCALENDAR