BEGIN:VCALENDAR
VERSION:2.0
PRODID:-//bc magazine - ECPv6.15.20//NONSGML v1.0//EN
CALSCALE:GREGORIAN
METHOD:PUBLISH
X-WR-CALNAME:bc magazine
X-ORIGINAL-URL:https://www.bcmagazine.net
X-WR-CALDESC:Events for bc magazine
REFRESH-INTERVAL;VALUE=DURATION:PT1H
X-Robots-Tag:noindex
X-PUBLISHED-TTL:PT1H
BEGIN:VTIMEZONE
TZID:Asia/Hong_Kong
BEGIN:STANDARD
TZOFFSETFROM:+0800
TZOFFSETTO:+0800
TZNAME:HKT
DTSTART:20180101T000000
END:STANDARD
END:VTIMEZONE
BEGIN:VEVENT
DTSTART;TZID=Asia/Hong_Kong:20190419T193000
DTEND;TZID=Asia/Hong_Kong:20190419T193000
DTSTAMP:20260425T061129
CREATED:19180805T120338Z
LAST-MODIFIED:20180805T132621Z
UID:10004421-1555702200-1555702200@www.bcmagazine.net
SUMMARY:Fun! Fun! Fun! Chinese Music
DESCRIPTION:Fun! Fun! Fun! Chinese Music\nHK Chinese Orchestra\nDate: 7:30pm\, 19-20 April\, 2019\nVenue: Kwai Tsing Theatre\, Auditorium\nTickets: $120 from Urbtix
URL:https://www.bcmagazine.net/event/hkco-fun-fun-fun-chinese-music-19-04-2019/
LOCATION:Kwai Tsing Theatre\, Auditorium\, 12 Hing Ning Road\, Kwai Chung\, Hong Kong
CATEGORIES:2019,Concert,Music,Performing Arts
GEO:22.3568224;114.126199
X-APPLE-STRUCTURED-LOCATION;VALUE=URI;X-ADDRESS=Kwai Tsing Theatre Auditorium 12 Hing Ning Road Kwai Chung Hong Kong;X-APPLE-RADIUS=500;X-TITLE=12 Hing Ning Road:geo:114.126199,22.3568224
END:VEVENT
END:VCALENDAR