BEGIN:VCALENDAR
VERSION:2.0
PRODID:-//bc magazine - ECPv6.15.20//NONSGML v1.0//EN
CALSCALE:GREGORIAN
METHOD:PUBLISH
X-WR-CALNAME:bc magazine
X-ORIGINAL-URL:https://www.bcmagazine.net
X-WR-CALDESC:Events for bc magazine
REFRESH-INTERVAL;VALUE=DURATION:PT1H
X-Robots-Tag:noindex
X-PUBLISHED-TTL:PT1H
BEGIN:VTIMEZONE
TZID:Asia/Hong_Kong
BEGIN:STANDARD
TZOFFSETFROM:+0800
TZOFFSETTO:+0800
TZNAME:HKT
DTSTART:20180101T000000
END:STANDARD
END:VTIMEZONE
BEGIN:VEVENT
DTSTART;TZID=Asia/Hong_Kong:20190523T190000
DTEND;TZID=Asia/Hong_Kong:20190523T190000
DTSTAMP:20260424T200943
CREATED:19180802T094055Z
LAST-MODIFIED:20181218T102350Z
UID:10004381-1558638000-1558638000@www.bcmagazine.net
SUMMARY:Lauv
DESCRIPTION:Lauv\nDate: 7pm\, 23 May\, 2019\nVenue: The Vine\nTickets: $450 from Ticketflap
URL:https://www.bcmagazine.net/event/lauv-hk-2019/
LOCATION:The Vine Centre\, 29 Burrows Street\, Wanchai\, Hong Kong
CATEGORIES:2019,Concert,concert,Music,Performing Arts
ATTACH;FMTTYPE=image/jpeg:https://www.bcmagazine.net/wp-content/uploads/1918/08/lauv-hk-2019.jpg
GEO:22.2762216;114.1763629
X-APPLE-STRUCTURED-LOCATION;VALUE=URI;X-ADDRESS=The Vine Centre 29 Burrows Street Wanchai Hong Kong;X-APPLE-RADIUS=500;X-TITLE=29 Burrows Street:geo:114.1763629,22.2762216
END:VEVENT
END:VCALENDAR