BEGIN:VCALENDAR
VERSION:2.0
PRODID:-//bc magazine - ECPv6.15.20//NONSGML v1.0//EN
CALSCALE:GREGORIAN
METHOD:PUBLISH
X-WR-CALNAME:bc magazine
X-ORIGINAL-URL:https://www.bcmagazine.net
X-WR-CALDESC:Events for bc magazine
REFRESH-INTERVAL;VALUE=DURATION:PT1H
X-Robots-Tag:noindex
X-PUBLISHED-TTL:PT1H
BEGIN:VTIMEZONE
TZID:Asia/Hong_Kong
BEGIN:STANDARD
TZOFFSETFROM:+0800
TZOFFSETTO:+0800
TZNAME:HKT
DTSTART:20180101T000000
END:STANDARD
END:VTIMEZONE
BEGIN:VEVENT
DTSTART;VALUE=DATE:20190606
DTEND;VALUE=DATE:20190623
DTSTAMP:20260424T115014
CREATED:19190608T000835Z
LAST-MODIFIED:20190610T104615Z
UID:10004842-1559779200-1561247999@www.bcmagazine.net
SUMMARY:13th Fresh Wave International Short Film Festival
DESCRIPTION:13th Fresh Wave International Short Film Festival\nDate: 6-22 June\, 2019\nVenue: Broadway Cinematheque\, Movie Movie Cityplaza\, My Cinema Yoho Mall\nTickets: $70\nMore info: www.freshwave.hk
URL:https://www.bcmagazine.net/event/13th-fresh-wave-international-short-film-festival/
CATEGORIES:2019,Film,Performing Arts
ATTACH;FMTTYPE=image/jpeg:https://www.bcmagazine.net/wp-content/uploads/2019/06/13th-Fresh-Wave-International-Short-Film-Festival-2019.jpg
END:VEVENT
BEGIN:VEVENT
DTSTART;TZID=Asia/Hong_Kong:20190619T200000
DTEND;TZID=Asia/Hong_Kong:20190619T200000
DTSTAMP:20260424T115014
CREATED:20230114T165259Z
LAST-MODIFIED:20230114T165259Z
UID:10003442-1560974400-1560974400@www.bcmagazine.net
SUMMARY:Peel Street Poetry
DESCRIPTION:Peel Street Poetry is an open mic poetry night at Social Room. It runs every Wednesdays of the month except the first and last. The environment is friendly and they love new performers\, so come share your poetry or just listen along to some of Hong Kong’s sharpest poetic talents. \nPeel Street Poetry Open Mic\nDate: 2nd\, 3rd (and 4th) Wednesdays of the month\nVenue: Social Room\nTickets: Free\nMore info:\nwww.peelstreetpoetry.com
URL:https://www.bcmagazine.net/event/peel-street-poetry/2019-06-19/
LOCATION:Social Room\, 74-78 Stanley Street \, Central\, Hong Kong
CATEGORIES:2018,2019,Free,Performing Arts,Poetry
GEO:22.2834184;114.1544925
X-APPLE-STRUCTURED-LOCATION;VALUE=URI;X-ADDRESS=Social Room 74-78 Stanley Street  Central Hong Kong;X-APPLE-RADIUS=500;X-TITLE=74-78 Stanley Street:geo:114.1544925,22.2834184
END:VEVENT
END:VCALENDAR