BEGIN:VCALENDAR
VERSION:2.0
PRODID:-//bc magazine - ECPv6.15.20//NONSGML v1.0//EN
CALSCALE:GREGORIAN
METHOD:PUBLISH
X-WR-CALNAME:bc magazine
X-ORIGINAL-URL:https://www.bcmagazine.net
X-WR-CALDESC:Events for bc magazine
REFRESH-INTERVAL;VALUE=DURATION:PT1H
X-Robots-Tag:noindex
X-PUBLISHED-TTL:PT1H
BEGIN:VTIMEZONE
TZID:Asia/Hong_Kong
BEGIN:STANDARD
TZOFFSETFROM:+0800
TZOFFSETTO:+0800
TZNAME:HKT
DTSTART:20190101T000000
END:STANDARD
END:VTIMEZONE
BEGIN:VEVENT
DTSTART;TZID=Asia/Hong_Kong:20201023T201500
DTEND;TZID=Asia/Hong_Kong:20201023T201500
DTSTAMP:20260425T014002
CREATED:19200405T044512Z
LAST-MODIFIED:20200918T094451Z
UID:10004931-1603484100-1603484100@www.bcmagazine.net
SUMMARY:Zuni Icosahedron
DESCRIPTION:Zuni Icosahedron: Piano Solo Storytelling – Spirits\nDate: 8:15pm\, 23-24 October\, 2020\nVenue: HK Cultural Centre\, Grand Theatre\nTickets: $420\, $320\, $220\, $100 from Urbtix\nMore info:\nMendelssohn/Rachmaninoff: Scherzo from A Midsummer Night’s Dream\nRavel: Gaspard de la nuit\nCharles Camille Saint-Saëns: Danse Macabre\nFranz Liszt: From Années de Pèlerinage: 2ème Année: Italie\nFranz Liszt: Lenore
URL:https://www.bcmagazine.net/event/zuni-icosahedron-23-10-2020/
LOCATION:HK Cultural Centre\, Grand Theatre\,\, 10 Salisbury Road\, Tsim Sha Tsui\, Hong Kong
CATEGORIES:2020,Concert,Music,Musical,Performing Arts
GEO:22.294318;114.171708
X-APPLE-STRUCTURED-LOCATION;VALUE=URI;X-ADDRESS=HK Cultural Centre Grand Theatre 10 Salisbury Road Tsim Sha Tsui Hong Kong;X-APPLE-RADIUS=500;X-TITLE=10 Salisbury Road:geo:114.171708,22.294318
END:VEVENT
END:VCALENDAR