BEGIN:VCALENDAR
VERSION:2.0
PRODID:-//bc magazine - ECPv6.15.20//NONSGML v1.0//EN
CALSCALE:GREGORIAN
METHOD:PUBLISH
X-WR-CALNAME:bc magazine
X-ORIGINAL-URL:https://www.bcmagazine.net
X-WR-CALDESC:Events for bc magazine
REFRESH-INTERVAL;VALUE=DURATION:PT1H
X-Robots-Tag:noindex
X-PUBLISHED-TTL:PT1H
BEGIN:VTIMEZONE
TZID:Asia/Hong_Kong
BEGIN:STANDARD
TZOFFSETFROM:+0800
TZOFFSETTO:+0800
TZNAME:HKT
DTSTART:20190101T000000
END:STANDARD
END:VTIMEZONE
BEGIN:VEVENT
DTSTART;TZID=Asia/Hong_Kong:20201219T193000
DTEND;TZID=Asia/Hong_Kong:20201219T193000
DTSTAMP:20260424T141846
CREATED:19171209T102000Z
LAST-MODIFIED:20201209T103213Z
UID:10003645-1608406200-1608406200@www.bcmagazine.net
SUMMARY:The Nutcracker - Cancelled
DESCRIPTION:The Nutcracker\nHK Ballet\, Hong Kong Sinfonietta\nDate: 17-20\, 22-27 December\, 2020\nVenue: HK Cultural Centre\, Grand Theatre\nTickets: $1\,000\, $680\, $480\, $320\, $180 from Urbtix\nMore info:\n17-20\, 22-27 December\, 2020 – 7:30pm\n19-20\, 25-27 December\, 2020 – 2:30pm
URL:https://www.bcmagazine.net/event/the-nutcracker-2020/2020-12-19/
LOCATION:HK Cultural Centre\, Grand Theatre\,\, 10 Salisbury Road\, Tsim Sha Tsui\, Hong Kong
CATEGORIES:2020,Ballet,Cancelled,Dance,Performing Arts
ATTACH;FMTTYPE=image/jpeg:https://www.bcmagazine.net/wp-content/uploads/1917/07/nutcracker-2020.jpg
GEO:22.294318;114.171708
X-APPLE-STRUCTURED-LOCATION;VALUE=URI;X-ADDRESS=HK Cultural Centre Grand Theatre 10 Salisbury Road Tsim Sha Tsui Hong Kong;X-APPLE-RADIUS=500;X-TITLE=10 Salisbury Road:geo:114.171708,22.294318
END:VEVENT
END:VCALENDAR