BEGIN:VCALENDAR
VERSION:2.0
PRODID:-//bc magazine - ECPv6.15.20//NONSGML v1.0//EN
CALSCALE:GREGORIAN
METHOD:PUBLISH
X-WR-CALNAME:bc magazine
X-ORIGINAL-URL:https://www.bcmagazine.net
X-WR-CALDESC:Events for bc magazine
REFRESH-INTERVAL;VALUE=DURATION:PT1H
X-Robots-Tag:noindex
X-PUBLISHED-TTL:PT1H
BEGIN:VTIMEZONE
TZID:Asia/Hong_Kong
BEGIN:STANDARD
TZOFFSETFROM:+0800
TZOFFSETTO:+0800
TZNAME:HKT
DTSTART:20200101T000000
END:STANDARD
END:VTIMEZONE
BEGIN:VEVENT
DTSTART;TZID=Asia/Hong_Kong:20210505T201500
DTEND;TZID=Asia/Hong_Kong:20210505T201500
DTSTAMP:20260425T064032
CREATED:19210403T085402Z
LAST-MODIFIED:20210504T151642Z
UID:10005095-1620245700-1620245700@www.bcmagazine.net
SUMMARY:The Eyes of You
DESCRIPTION:The Eyes of You\n彭家麗 Angela Pang\, 陳明憙 Jocelyn Chan\, 陳凱彤 Lillian Chan\, Kimman\, Wong 黃劍文\, Sam Lau\, 藍杰 Raymond Lam\, Joe Junior\nDate: 8:15pm\, 5-6 May\, 2021\nVenue: MacPherson Stadium\nTickets: $980\, $680\, $480\, $380 from Cityline
URL:https://www.bcmagazine.net/event/the-eyes-of-you-2021/2021-05-05/
LOCATION:MacPherson Stadium\, 38 Nelson Street\, Mongkok\, Hong Kong
CATEGORIES:2021,Cantopop,Concert,Music,Performing Arts
ATTACH;FMTTYPE=image/jpeg:https://www.bcmagazine.net/wp-content/uploads/2021/05/the-eyes-of-you-2021.jpeg
GEO:22.3188457;114.1728403
X-APPLE-STRUCTURED-LOCATION;VALUE=URI;X-ADDRESS=MacPherson Stadium 38 Nelson Street Mongkok Hong Kong;X-APPLE-RADIUS=500;X-TITLE=38 Nelson Street:geo:114.1728403,22.3188457
END:VEVENT
END:VCALENDAR