BEGIN:VCALENDAR
VERSION:2.0
PRODID:-//bc magazine - ECPv6.15.20//NONSGML v1.0//EN
CALSCALE:GREGORIAN
METHOD:PUBLISH
X-WR-CALNAME:bc magazine
X-ORIGINAL-URL:https://www.bcmagazine.net
X-WR-CALDESC:Events for bc magazine
REFRESH-INTERVAL;VALUE=DURATION:PT1H
X-Robots-Tag:noindex
X-PUBLISHED-TTL:PT1H
BEGIN:VTIMEZONE
TZID:Asia/Hong_Kong
BEGIN:STANDARD
TZOFFSETFROM:+0800
TZOFFSETTO:+0800
TZNAME:HKT
DTSTART:20200101T000000
END:STANDARD
END:VTIMEZONE
BEGIN:VEVENT
DTSTART;VALUE=DATE:20210917
DTEND;VALUE=DATE:20211030
DTSTAMP:20260425T064115
CREATED:19190816T142536Z
LAST-MODIFIED:20210903T103839Z
UID:10004890-1631836800-1635551999@www.bcmagazine.net
SUMMARY:Chinese Film Panorama 2021
DESCRIPTION:Chinese Film Panorama 2021\nDate: 17 September – 29 October\, 2021\nVenue: various\nTickets: $60 from Urbtix\nMore info:\nThe Chinese Film Panorama 2021 features 12 films produced in China.\nAll films have Chinese and English subtitles.\nThe opening film is Dapeng’s The Reunions.
URL:https://www.bcmagazine.net/event/chinese-film-panorama-2021/
CATEGORIES:2021,Cultural Festival,Film,Performing Arts
ATTACH;FMTTYPE=image/jpeg:https://www.bcmagazine.net/wp-content/uploads/1919/08/CFP2021.jpeg
END:VEVENT
BEGIN:VEVENT
DTSTART;TZID=Asia/Hong_Kong:20211010T143000
DTEND;TZID=Asia/Hong_Kong:20211010T143000
DTSTAMP:20260425T064115
CREATED:19210308T135013Z
LAST-MODIFIED:20210825T015438Z
UID:10005094-1633876200-1633876200@www.bcmagazine.net
SUMMARY:The Absolutely Fabulous Theatre Connection
DESCRIPTION:Walking the Amazon\nDate: 2:30pm\, 9-10 October\, 2021\nVenue: Sai Wan Ho Civic Centre Theatre\nTickets: $240\, $210\, $160 from Urbtix
URL:https://www.bcmagazine.net/event/the-absolutely-fabulous-theatre-connection-2/2021-10-10/
LOCATION:Sai Wan Ho Civic Centre\, Theatre\, 111 Shau Kei Wan Road\, Sai Wan Ho\, Hong Kong
CATEGORIES:2021,Performing Arts,Theatre
ATTACH;FMTTYPE=image/jpeg:https://www.bcmagazine.net/wp-content/uploads/1921/03/aftec-walking-the-amazon-2021.jpg
GEO:22.282055;114.222378
X-APPLE-STRUCTURED-LOCATION;VALUE=URI;X-ADDRESS=Sai Wan Ho Civic Centre Theatre 111 Shau Kei Wan Road Sai Wan Ho Hong Kong;X-APPLE-RADIUS=500;X-TITLE=111 Shau Kei Wan Road:geo:114.222378,22.282055
END:VEVENT
BEGIN:VEVENT
DTSTART;TZID=Asia/Hong_Kong:20211010T144500
DTEND;TZID=Asia/Hong_Kong:20211010T144500
DTSTAMP:20260425T064115
CREATED:20230114T164708Z
LAST-MODIFIED:20230114T164708Z
UID:10003308-1633877100-1633877100@www.bcmagazine.net
SUMMARY:HK Repertory Theatre - Road to Damascus
DESCRIPTION:HK Repertory Theatre – Road to Damascus\nDate: 7:45pm\, 18 September – 10 October\, 2021\nVenue: HK City Hall\, Theatre\nTickets: $460\, $360\, $260 from Urbtix \nMore info: \n7:45pm – 18–20\, 22\, 23-25\, 28-30.9.2021; 2\, 5-7\, 8-9.10.2021\n2:45pm – 26.9.2021\,;1\, 3\, 10.10.2021\nIn Cantonese with Chinese and English surtitles
URL:https://www.bcmagazine.net/event/hkrep-road-to-damascus/2021-10-10/
LOCATION:HK City Hall\, Theatre\, 5 Edinburgh Place\, Central\, Hong Kong
CATEGORIES:2021,Cantonese drama,Performing Arts,Theatre
ATTACH;FMTTYPE=image/jpeg:https://www.bcmagazine.net/wp-content/uploads/1918/05/road-to-damascus-poster-web.jpeg
GEO:22.2822646;114.1615275
X-APPLE-STRUCTURED-LOCATION;VALUE=URI;X-ADDRESS=HK City Hall Theatre 5 Edinburgh Place Central Hong Kong;X-APPLE-RADIUS=500;X-TITLE=5 Edinburgh Place:geo:114.1615275,22.2822646
END:VEVENT
BEGIN:VEVENT
DTSTART;TZID=Asia/Hong_Kong:20211010T150000
DTEND;TZID=Asia/Hong_Kong:20211010T150000
DTSTAMP:20260425T064115
CREATED:19170810T093057Z
LAST-MODIFIED:20211006T082342Z
UID:10003231-1633878000-1633878000@www.bcmagazine.net
SUMMARY:Opera Hong Kong - Madama Butterfly
DESCRIPTION:Madama Butterfly\nOpera Hong Kong\, Slovene National Theatre Maribor\nDate: 6-10 October\, 2021\nVenue: HK Cultural Centre\, Grand Theatre\nTickets: $1\,080\, $920\, $720\, $620\, $420\, $180 from Urbtix\nMore info:\nIn Italian with Chinese and English surtitles\n6-9 October – 7:45pm\n10 October – 3pm
URL:https://www.bcmagazine.net/event/opera-hong-kong-madama-butterfly/2021-10-10/
LOCATION:HK Cultural Centre\, Grand Theatre\,\, 10 Salisbury Road\, Tsim Sha Tsui\, Hong Kong
CATEGORIES:2021,Concert,Music,Opera,Performing Arts
ATTACH;FMTTYPE=image/png:https://www.bcmagazine.net/wp-content/uploads/1917/08/Madama-Butterfly-2021.png
GEO:22.294318;114.171708
X-APPLE-STRUCTURED-LOCATION;VALUE=URI;X-ADDRESS=HK Cultural Centre Grand Theatre 10 Salisbury Road Tsim Sha Tsui Hong Kong;X-APPLE-RADIUS=500;X-TITLE=10 Salisbury Road:geo:114.171708,22.294318
END:VEVENT
BEGIN:VEVENT
DTSTART;TZID=Asia/Hong_Kong:20211010T194500
DTEND;TZID=Asia/Hong_Kong:20211010T194500
DTSTAMP:20260425T064115
CREATED:19180528T020834Z
LAST-MODIFIED:20211006T074133Z
UID:10003304-1633895100-1633895100@www.bcmagazine.net
SUMMARY:HK Repertory Theatre - Road to Damascus
DESCRIPTION:HK Repertory Theatre – Road to Damascus\nDate: 7:45pm\, 18 September – 10 October\, 2021\nVenue: HK City Hall\, Theatre\nTickets: $460\, $360\, $260 from Urbtix \nMore info: \n7:45pm – 18–20\, 22\, 23-25\, 28-30.9.2021; 2\, 5-7\, 8-9.10.2021\n2:45pm – 26.9.2021\,;1\, 3\, 10.10.2021\nIn Cantonese with Chinese and English surtitles
URL:https://www.bcmagazine.net/event/hkrep-road-to-damascus/2021-10-10/
LOCATION:HK City Hall\, Theatre\, 5 Edinburgh Place\, Central\, Hong Kong
CATEGORIES:2021,Cantonese drama,Performing Arts,Theatre
ATTACH;FMTTYPE=image/jpeg:https://www.bcmagazine.net/wp-content/uploads/1918/05/road-to-damascus-poster-web.jpeg
GEO:22.2822646;114.1615275
X-APPLE-STRUCTURED-LOCATION;VALUE=URI;X-ADDRESS=HK City Hall Theatre 5 Edinburgh Place Central Hong Kong;X-APPLE-RADIUS=500;X-TITLE=5 Edinburgh Place:geo:114.1615275,22.2822646
END:VEVENT
BEGIN:VEVENT
DTSTART;TZID=Asia/Hong_Kong:20211010T220000
DTEND;TZID=Asia/Hong_Kong:20211010T220000
DTSTAMP:20260425T064115
CREATED:20210930T034537Z
LAST-MODIFIED:20211005T035550Z
UID:10006680-1633903200-1633903200@www.bcmagazine.net
SUMMARY:The Red Stripes
DESCRIPTION:The Red Stripes\nDate: 10pm\, 10 October\, 2021\nVenue: Rula Live\nTickets: Free
URL:https://www.bcmagazine.net/event/the-red-stripes-10-oct-2021/
LOCATION:Rula Live\, 58-62 D'Aguilar Street\, Central
CATEGORIES:2021,Concert,Free,Music,Nightlife,Performing Arts
ATTACH;FMTTYPE=image/jpeg:https://www.bcmagazine.net/wp-content/uploads/2018/10/red-stripes-10-october-2021.jpg
END:VEVENT
END:VCALENDAR