BEGIN:VCALENDAR
VERSION:2.0
PRODID:-//bc magazine - ECPv6.15.20//NONSGML v1.0//EN
CALSCALE:GREGORIAN
METHOD:PUBLISH
X-WR-CALNAME:bc magazine
X-ORIGINAL-URL:https://www.bcmagazine.net
X-WR-CALDESC:Events for bc magazine
REFRESH-INTERVAL;VALUE=DURATION:PT1H
X-Robots-Tag:noindex
X-PUBLISHED-TTL:PT1H
BEGIN:VTIMEZONE
TZID:Asia/Hong_Kong
BEGIN:STANDARD
TZOFFSETFROM:+0800
TZOFFSETTO:+0800
TZNAME:HKT
DTSTART:20200101T000000
END:STANDARD
END:VTIMEZONE
BEGIN:VEVENT
DTSTART;VALUE=DATE:20211023
DTEND;VALUE=DATE:20211129
DTSTAMP:20260425T182229
CREATED:19161011T081605Z
LAST-MODIFIED:20211104T092806Z
UID:10000890-1634947200-1638143999@www.bcmagazine.net
SUMMARY:New Vision Arts Festival
DESCRIPTION:New Vision Arts Festival\nDate: 23 October – 28 November\, 2021\nVenue: Various\nTickets: Various from Urbtix\nProgramme: www.nvaf.gov.hk
URL:https://www.bcmagazine.net/event/new-vision-arts-festival-2021/
CATEGORIES:2021,Cantonese drama,Cultural Festival,Dance,Free,Music,Performing Arts,talk,Theatre
ATTACH;FMTTYPE=image/png:https://www.bcmagazine.net/wp-content/uploads/1916/10/NVAF2021.png
END:VEVENT
BEGIN:VEVENT
DTSTART;VALUE=DATE:20211113
DTEND;VALUE=DATE:20211122
DTSTAMP:20260425T182229
CREATED:19201017T034205Z
LAST-MODIFIED:20211103T104132Z
UID:10004962-1636761600-1637539199@www.bcmagazine.net
SUMMARY:Hong Kong Jewish Film Festival
DESCRIPTION:Twenty Second Hong Kong Jewish Film Festival\nDate: 13-21 November\, 2021\nVenue: Asia Society Hong Kong Center\, Golden Scene Cinema\nTickets: $100\nMore info: www.hkjff.org
URL:https://www.bcmagazine.net/event/hong-kong-jewish-film-festival-2021/
LOCATION:Asia Society Hong Kong Center\, 9 Justice Drive\, Admiralty\, Hong Kong
CATEGORIES:2021,Cultural Festival,Film,Performing Arts
ATTACH;FMTTYPE=image/png:https://www.bcmagazine.net/wp-content/uploads/2020/10/HK-Jewish-Film-Festival-2021.png
END:VEVENT
BEGIN:VEVENT
DTSTART;TZID=Asia/Hong_Kong:20211119T193000
DTEND;TZID=Asia/Hong_Kong:20211119T193000
DTSTAMP:20260425T182229
CREATED:19210907T100800Z
LAST-MODIFIED:20210910T043843Z
UID:10005232-1637350200-1637350200@www.bcmagazine.net
SUMMARY:Home Sweat Home
DESCRIPTION:Home Sweat Home\nCity Contemporary Dance Festival\, Yuri Ng\nDate: 13\, 14\, 18-20 November\, 2021\nVenue: West Kowloon Cultural District Art Park\, Freespace\, The Box\nTickets: $320\, $270
URL:https://www.bcmagazine.net/event/home-sweat-home/2021-11-19/
LOCATION:West Kowloon Cultural District\, Freespace\, The Box\, West Kowloon\, Hong Kong
CATEGORIES:2021,Dance,Performing Arts,Theatre
ATTACH;FMTTYPE=image/jpeg:https://www.bcmagazine.net/wp-content/uploads/1921/09/Overview-2021.jpeg
END:VEVENT
BEGIN:VEVENT
DTSTART;TZID=Asia/Hong_Kong:20211119T200000
DTEND;TZID=Asia/Hong_Kong:20211119T200000
DTSTAMP:20260425T182229
CREATED:19201209T102000Z
LAST-MODIFIED:20211110T102137Z
UID:10004978-1637352000-1637352000@www.bcmagazine.net
SUMMARY:Five Tiny Dances
DESCRIPTION:Five Tiny Dances\nHK Ballet\nDate: 19-20 November\, 2021\nVenue: West Kowloon\, M+\nTickets: tbc\nMore info:\nFive World Premieres!\nThe Lost Season – Choreography: Hu Song Wei Ricky\nThe Enduring Cycle – Choreography: Li Lin\nSiren – Choreography: Jessica Burrows\nEcho – Choreography: Feng Jingyi\nCarbon Footprint – Choreography: Lin Chang-yuan\, Kyle
URL:https://www.bcmagazine.net/event/five-tiny-dances/2021-11-19/
LOCATION:West Kowloon Cultural District\, M+ Pavilion\, West Kowloon Cultural District\, West Kowloon\, Hong Kong
CATEGORIES:2021,Ballet,Dance,Performing Arts
ATTACH;FMTTYPE=image/jpeg:https://www.bcmagazine.net/wp-content/uploads/1920/12/hk-ballet-2021.jpeg
GEO:22.2989668;114.1551898
X-APPLE-STRUCTURED-LOCATION;VALUE=URI;X-ADDRESS=West Kowloon Cultural District M+ Pavilion West Kowloon Cultural District West Kowloon Hong Kong;X-APPLE-RADIUS=500;X-TITLE=West Kowloon Cultural District:geo:114.1551898,22.2989668
END:VEVENT
END:VCALENDAR