BEGIN:VCALENDAR
VERSION:2.0
PRODID:-//bc magazine - ECPv6.15.20//NONSGML v1.0//EN
CALSCALE:GREGORIAN
METHOD:PUBLISH
X-WR-CALNAME:bc magazine
X-ORIGINAL-URL:https://www.bcmagazine.net
X-WR-CALDESC:Events for bc magazine
REFRESH-INTERVAL;VALUE=DURATION:PT1H
X-Robots-Tag:noindex
X-PUBLISHED-TTL:PT1H
BEGIN:VTIMEZONE
TZID:Asia/Hong_Kong
BEGIN:STANDARD
TZOFFSETFROM:+0800
TZOFFSETTO:+0800
TZNAME:HKT
DTSTART:20210101T000000
END:STANDARD
END:VTIMEZONE
BEGIN:VEVENT
DTSTART;TZID=Asia/Hong_Kong:20220126T200000
DTEND;TZID=Asia/Hong_Kong:20220126T200000
DTSTAMP:20260426T101902
CREATED:19180528T020834Z
LAST-MODIFIED:20211006T074401Z
UID:10003315-1643227200-1643227200@www.bcmagazine.net
SUMMARY:HK Repertory Theatre - The Spoon
DESCRIPTION:HK Repertory Theatre – The Spoon\nDate: 19-30 January\, 2022\nVenue: HKRep Black Box Theatre\nTickets: $210 from Urbtix \nMore info: \n8pm – 19-22\, 25-29.1.2022\n3pm – 22-23\, 29-30.1.2022\nIn Cantonese
URL:https://www.bcmagazine.net/event/hkrep-the-spoon/2022-01-26/
LOCATION:HKREP Black Box Theatre\, 8/F\, Sheung Wan Civic Centre\, Sheung Wan Municipal Services Building\, 345 Queen's Road\, Sheung Wan\, Hong Kong
CATEGORIES:2022,Cantonese drama,Performing Arts,Theatre
ATTACH;FMTTYPE=image/jpeg:https://www.bcmagazine.net/wp-content/uploads/1918/05/hkrep-the-spoon-2021.jpeg
END:VEVENT
END:VCALENDAR