BEGIN:VCALENDAR
VERSION:2.0
PRODID:-//bc magazine - ECPv6.15.20//NONSGML v1.0//EN
CALSCALE:GREGORIAN
METHOD:PUBLISH
X-WR-CALNAME:bc magazine
X-ORIGINAL-URL:https://www.bcmagazine.net
X-WR-CALDESC:Events for bc magazine
REFRESH-INTERVAL;VALUE=DURATION:PT1H
X-Robots-Tag:noindex
X-PUBLISHED-TTL:PT1H
BEGIN:VTIMEZONE
TZID:Asia/Hong_Kong
BEGIN:STANDARD
TZOFFSETFROM:+0800
TZOFFSETTO:+0800
TZNAME:HKT
DTSTART:20170101T000000
END:STANDARD
END:VTIMEZONE
BEGIN:VEVENT
DTSTART;TZID=Asia/Hong_Kong:20220402T150000
DTEND;TZID=Asia/Hong_Kong:20220402T150000
DTSTAMP:20260425T182053
CREATED:20230115T053825Z
LAST-MODIFIED:20230115T053825Z
UID:10005191-1648911600-1648911600@www.bcmagazine.net
SUMMARY:Chung Ying Theatre-Twelfth Night
DESCRIPTION:Twelfth Night\nChung Ying Theatre\nDate: 1-3\, 6-10 April\, 2022\nVenue: HK Cultural Centre\, Studio Theatre\nTickets: $300\, $200 from Urbtix
URL:https://www.bcmagazine.net/event/chung-ying-theatre-twelfth-night/2022-04-02/
LOCATION:HK Cultural Centre\, Studio Theatre\, 10 Salisbury Road\, Tsim Sha Tsui\, Hong Kong
CATEGORIES:2022,Cantonese drama,Multimedia,Music,Performing Arts,Theatre
ATTACH;FMTTYPE=image/jpeg:https://www.bcmagazine.net/wp-content/uploads/1921/05/twelth-night-chung-ying-2022.jpeg
END:VEVENT
BEGIN:VEVENT
DTSTART;TZID=Asia/Hong_Kong:20220401T200000
DTEND;TZID=Asia/Hong_Kong:20220401T200000
DTSTAMP:20260425T182053
CREATED:19210503T085402Z
LAST-MODIFIED:20211006T075947Z
UID:10005185-1648843200-1648843200@www.bcmagazine.net
SUMMARY:Chung Ying Theatre-Twelfth Night
DESCRIPTION:Twelfth Night\nChung Ying Theatre\nDate: 1-3\, 6-10 April\, 2022\nVenue: HK Cultural Centre\, Studio Theatre\nTickets: $300\, $200 from Urbtix
URL:https://www.bcmagazine.net/event/chung-ying-theatre-twelfth-night/2022-04-01/
LOCATION:HK Cultural Centre\, Studio Theatre\, 10 Salisbury Road\, Tsim Sha Tsui\, Hong Kong
CATEGORIES:2022,Cantonese drama,Multimedia,Music,Performing Arts,Theatre
ATTACH;FMTTYPE=image/jpeg:https://www.bcmagazine.net/wp-content/uploads/1921/05/twelth-night-chung-ying-2022.jpeg
END:VEVENT
BEGIN:VEVENT
DTSTART;TZID=Asia/Hong_Kong:20210710T200000
DTEND;TZID=Asia/Hong_Kong:20210710T200000
DTSTAMP:20260425T182053
CREATED:19210503T085402Z
LAST-MODIFIED:20210603T084249Z
UID:10005184-1625947200-1625947200@www.bcmagazine.net
SUMMARY:2 or 3 Things About Interrupted Dream
DESCRIPTION:2 or 3 Things about Interrupted Dream\nZuni Icosahedron: Danny Yung Experimental Theatre\nDate: 9-10 July\, 2021\nVenue: HK Cultural Centre\, Studio Theatre\nTickets: $200 from Urbtix
URL:https://www.bcmagazine.net/event/2-or-3-things-about-interrupted-dream/2021-07-10/
LOCATION:HK Cultural Centre\, Studio Theatre\, 10 Salisbury Road\, Tsim Sha Tsui\, Hong Kong
CATEGORIES:2021,Cantonese drama,Multimedia,Music,Performing Arts,Theatre
ATTACH;FMTTYPE=image/jpeg:https://www.bcmagazine.net/wp-content/uploads/1921/05/zuni-3-things.jpeg
END:VEVENT
BEGIN:VEVENT
DTSTART;TZID=Asia/Hong_Kong:20210709T200000
DTEND;TZID=Asia/Hong_Kong:20210709T200000
DTSTAMP:20260425T182053
CREATED:19210503T085402Z
LAST-MODIFIED:20210603T084249Z
UID:10005183-1625860800-1625860800@www.bcmagazine.net
SUMMARY:2 or 3 Things About Interrupted Dream
DESCRIPTION:2 or 3 Things about Interrupted Dream\nZuni Icosahedron: Danny Yung Experimental Theatre\nDate: 9-10 July\, 2021\nVenue: HK Cultural Centre\, Studio Theatre\nTickets: $200 from Urbtix
URL:https://www.bcmagazine.net/event/2-or-3-things-about-interrupted-dream/2021-07-09/
LOCATION:HK Cultural Centre\, Studio Theatre\, 10 Salisbury Road\, Tsim Sha Tsui\, Hong Kong
CATEGORIES:2021,Cantonese drama,Multimedia,Music,Performing Arts,Theatre
ATTACH;FMTTYPE=image/jpeg:https://www.bcmagazine.net/wp-content/uploads/1921/05/zuni-3-things.jpeg
END:VEVENT
BEGIN:VEVENT
DTSTART;TZID=Asia/Hong_Kong:20210425T180000
DTEND;TZID=Asia/Hong_Kong:20210425T180000
DTSTAMP:20260425T182053
CREATED:19210413T180707Z
LAST-MODIFIED:20210418T175345Z
UID:10005162-1619373600-1619373600@www.bcmagazine.net
SUMMARY:Art Walk: Before a Passage
DESCRIPTION:Art Walk: Before a Passage\nNew Arts Power\nDate: 6pm\, 14-25 April\, 2021\nVenue: North Point (East) Pier\, Upper Deck\nTickets: Free\, register here\nMore info:\nFour sessions daily: 6pm\, 7pm\, 8pm\, 9pm\nNo walk-ins allowed
URL:https://www.bcmagazine.net/event/art-walk-before-a-passage/2021-04-25/
LOCATION:North Point East Pier\, North Point\, Hong Kong
CATEGORIES:2021,Art Gallery,Free,Multimedia,Performing Arts
ATTACH;FMTTYPE=image/jpeg:https://www.bcmagazine.net/wp-content/uploads/2021/04/artwalk-2021.04.jpg
END:VEVENT
BEGIN:VEVENT
DTSTART;TZID=Asia/Hong_Kong:20210424T194500
DTEND;TZID=Asia/Hong_Kong:20210424T194500
DTSTAMP:20260425T182053
CREATED:19200709T085402Z
LAST-MODIFIED:20210319T091833Z
UID:10004954-1619293500-1619293500@www.bcmagazine.net
SUMMARY:Zuni Icosahedron
DESCRIPTION:Bach is Heart Sutra\nZuni Icosahedron\nDate: 23-24 April\, 2021\nVenue: Hong Kong Cultural Centre\, Grand Theatre\nTickets: $280 from Urbtix
URL:https://www.bcmagazine.net/event/zuni-icosahedron/2021-04-24/2/
LOCATION:HK Cultural Centre\, Grand Theatre\,\, 10 Salisbury Road\, Tsim Sha Tsui\, Hong Kong
CATEGORIES:2021,Dance,Multimedia,Performing Arts,Theatre
ATTACH;FMTTYPE=image/jpeg:https://www.bcmagazine.net/wp-content/uploads/1920/07/Bach-is-Heart-Sutra.jpeg
GEO:22.294318;114.171708
X-APPLE-STRUCTURED-LOCATION;VALUE=URI;X-ADDRESS=HK Cultural Centre Grand Theatre 10 Salisbury Road Tsim Sha Tsui Hong Kong;X-APPLE-RADIUS=500;X-TITLE=10 Salisbury Road:geo:114.171708,22.294318
END:VEVENT
BEGIN:VEVENT
DTSTART;TZID=Asia/Hong_Kong:20210424T180000
DTEND;TZID=Asia/Hong_Kong:20210424T180000
DTSTAMP:20260425T182053
CREATED:19210413T180707Z
LAST-MODIFIED:20210418T175345Z
UID:10005161-1619287200-1619287200@www.bcmagazine.net
SUMMARY:Art Walk: Before a Passage
DESCRIPTION:Art Walk: Before a Passage\nNew Arts Power\nDate: 6pm\, 14-25 April\, 2021\nVenue: North Point (East) Pier\, Upper Deck\nTickets: Free\, register here\nMore info:\nFour sessions daily: 6pm\, 7pm\, 8pm\, 9pm\nNo walk-ins allowed
URL:https://www.bcmagazine.net/event/art-walk-before-a-passage/2021-04-24/
LOCATION:North Point East Pier\, North Point\, Hong Kong
CATEGORIES:2021,Art Gallery,Free,Multimedia,Performing Arts
ATTACH;FMTTYPE=image/jpeg:https://www.bcmagazine.net/wp-content/uploads/2021/04/artwalk-2021.04.jpg
END:VEVENT
BEGIN:VEVENT
DTSTART;TZID=Asia/Hong_Kong:20210424T144500
DTEND;TZID=Asia/Hong_Kong:20210424T144500
DTSTAMP:20260425T182053
CREATED:19200709T085402Z
LAST-MODIFIED:20210319T091833Z
UID:10004953-1619275500-1619275500@www.bcmagazine.net
SUMMARY:Zuni Icosahedron
DESCRIPTION:Bach is Heart Sutra\nZuni Icosahedron\nDate: 23-24 April\, 2021\nVenue: Hong Kong Cultural Centre\, Grand Theatre\nTickets: $280 from Urbtix
URL:https://www.bcmagazine.net/event/zuni-icosahedron/2021-04-24/1/
LOCATION:HK Cultural Centre\, Grand Theatre\,\, 10 Salisbury Road\, Tsim Sha Tsui\, Hong Kong
CATEGORIES:2021,Dance,Multimedia,Performing Arts,Theatre
ATTACH;FMTTYPE=image/jpeg:https://www.bcmagazine.net/wp-content/uploads/1920/07/Bach-is-Heart-Sutra.jpeg
GEO:22.294318;114.171708
X-APPLE-STRUCTURED-LOCATION;VALUE=URI;X-ADDRESS=HK Cultural Centre Grand Theatre 10 Salisbury Road Tsim Sha Tsui Hong Kong;X-APPLE-RADIUS=500;X-TITLE=10 Salisbury Road:geo:114.171708,22.294318
END:VEVENT
BEGIN:VEVENT
DTSTART;TZID=Asia/Hong_Kong:20210423T194500
DTEND;TZID=Asia/Hong_Kong:20210423T194500
DTSTAMP:20260425T182053
CREATED:19200709T085402Z
LAST-MODIFIED:20210319T091833Z
UID:10004952-1619207100-1619207100@www.bcmagazine.net
SUMMARY:Zuni Icosahedron
DESCRIPTION:Bach is Heart Sutra\nZuni Icosahedron\nDate: 23-24 April\, 2021\nVenue: Hong Kong Cultural Centre\, Grand Theatre\nTickets: $280 from Urbtix
URL:https://www.bcmagazine.net/event/zuni-icosahedron/2021-04-23/2/
LOCATION:HK Cultural Centre\, Grand Theatre\,\, 10 Salisbury Road\, Tsim Sha Tsui\, Hong Kong
CATEGORIES:2021,Dance,Multimedia,Performing Arts,Theatre
ATTACH;FMTTYPE=image/jpeg:https://www.bcmagazine.net/wp-content/uploads/1920/07/Bach-is-Heart-Sutra.jpeg
GEO:22.294318;114.171708
X-APPLE-STRUCTURED-LOCATION;VALUE=URI;X-ADDRESS=HK Cultural Centre Grand Theatre 10 Salisbury Road Tsim Sha Tsui Hong Kong;X-APPLE-RADIUS=500;X-TITLE=10 Salisbury Road:geo:114.171708,22.294318
END:VEVENT
BEGIN:VEVENT
DTSTART;TZID=Asia/Hong_Kong:20210423T180000
DTEND;TZID=Asia/Hong_Kong:20210423T180000
DTSTAMP:20260425T182053
CREATED:19210413T180707Z
LAST-MODIFIED:20210418T175345Z
UID:10005160-1619200800-1619200800@www.bcmagazine.net
SUMMARY:Art Walk: Before a Passage
DESCRIPTION:Art Walk: Before a Passage\nNew Arts Power\nDate: 6pm\, 14-25 April\, 2021\nVenue: North Point (East) Pier\, Upper Deck\nTickets: Free\, register here\nMore info:\nFour sessions daily: 6pm\, 7pm\, 8pm\, 9pm\nNo walk-ins allowed
URL:https://www.bcmagazine.net/event/art-walk-before-a-passage/2021-04-23/
LOCATION:North Point East Pier\, North Point\, Hong Kong
CATEGORIES:2021,Art Gallery,Free,Multimedia,Performing Arts
ATTACH;FMTTYPE=image/jpeg:https://www.bcmagazine.net/wp-content/uploads/2021/04/artwalk-2021.04.jpg
END:VEVENT
BEGIN:VEVENT
DTSTART;TZID=Asia/Hong_Kong:20210423T144500
DTEND;TZID=Asia/Hong_Kong:20210423T144500
DTSTAMP:20260425T182053
CREATED:19200709T085402Z
LAST-MODIFIED:20210319T091833Z
UID:10004951-1619189100-1619189100@www.bcmagazine.net
SUMMARY:Zuni Icosahedron
DESCRIPTION:Bach is Heart Sutra\nZuni Icosahedron\nDate: 23-24 April\, 2021\nVenue: Hong Kong Cultural Centre\, Grand Theatre\nTickets: $280 from Urbtix
URL:https://www.bcmagazine.net/event/zuni-icosahedron/2021-04-23/1/
LOCATION:HK Cultural Centre\, Grand Theatre\,\, 10 Salisbury Road\, Tsim Sha Tsui\, Hong Kong
CATEGORIES:2021,Dance,Multimedia,Performing Arts,Theatre
ATTACH;FMTTYPE=image/jpeg:https://www.bcmagazine.net/wp-content/uploads/1920/07/Bach-is-Heart-Sutra.jpeg
GEO:22.294318;114.171708
X-APPLE-STRUCTURED-LOCATION;VALUE=URI;X-ADDRESS=HK Cultural Centre Grand Theatre 10 Salisbury Road Tsim Sha Tsui Hong Kong;X-APPLE-RADIUS=500;X-TITLE=10 Salisbury Road:geo:114.171708,22.294318
END:VEVENT
BEGIN:VEVENT
DTSTART;TZID=Asia/Hong_Kong:20210422T180000
DTEND;TZID=Asia/Hong_Kong:20210422T180000
DTSTAMP:20260425T182053
CREATED:19210413T180707Z
LAST-MODIFIED:20210418T175345Z
UID:10005159-1619114400-1619114400@www.bcmagazine.net
SUMMARY:Art Walk: Before a Passage
DESCRIPTION:Art Walk: Before a Passage\nNew Arts Power\nDate: 6pm\, 14-25 April\, 2021\nVenue: North Point (East) Pier\, Upper Deck\nTickets: Free\, register here\nMore info:\nFour sessions daily: 6pm\, 7pm\, 8pm\, 9pm\nNo walk-ins allowed
URL:https://www.bcmagazine.net/event/art-walk-before-a-passage/2021-04-22/
LOCATION:North Point East Pier\, North Point\, Hong Kong
CATEGORIES:2021,Art Gallery,Free,Multimedia,Performing Arts
ATTACH;FMTTYPE=image/jpeg:https://www.bcmagazine.net/wp-content/uploads/2021/04/artwalk-2021.04.jpg
END:VEVENT
BEGIN:VEVENT
DTSTART;TZID=Asia/Hong_Kong:20210421T180000
DTEND;TZID=Asia/Hong_Kong:20210421T180000
DTSTAMP:20260425T182053
CREATED:19210413T180707Z
LAST-MODIFIED:20210418T175345Z
UID:10005158-1619028000-1619028000@www.bcmagazine.net
SUMMARY:Art Walk: Before a Passage
DESCRIPTION:Art Walk: Before a Passage\nNew Arts Power\nDate: 6pm\, 14-25 April\, 2021\nVenue: North Point (East) Pier\, Upper Deck\nTickets: Free\, register here\nMore info:\nFour sessions daily: 6pm\, 7pm\, 8pm\, 9pm\nNo walk-ins allowed
URL:https://www.bcmagazine.net/event/art-walk-before-a-passage/2021-04-21/
LOCATION:North Point East Pier\, North Point\, Hong Kong
CATEGORIES:2021,Art Gallery,Free,Multimedia,Performing Arts
ATTACH;FMTTYPE=image/jpeg:https://www.bcmagazine.net/wp-content/uploads/2021/04/artwalk-2021.04.jpg
END:VEVENT
BEGIN:VEVENT
DTSTART;TZID=Asia/Hong_Kong:20210420T180000
DTEND;TZID=Asia/Hong_Kong:20210420T180000
DTSTAMP:20260425T182053
CREATED:19210413T180707Z
LAST-MODIFIED:20210418T175345Z
UID:10005157-1618941600-1618941600@www.bcmagazine.net
SUMMARY:Art Walk: Before a Passage
DESCRIPTION:Art Walk: Before a Passage\nNew Arts Power\nDate: 6pm\, 14-25 April\, 2021\nVenue: North Point (East) Pier\, Upper Deck\nTickets: Free\, register here\nMore info:\nFour sessions daily: 6pm\, 7pm\, 8pm\, 9pm\nNo walk-ins allowed
URL:https://www.bcmagazine.net/event/art-walk-before-a-passage/2021-04-20/
LOCATION:North Point East Pier\, North Point\, Hong Kong
CATEGORIES:2021,Art Gallery,Free,Multimedia,Performing Arts
ATTACH;FMTTYPE=image/jpeg:https://www.bcmagazine.net/wp-content/uploads/2021/04/artwalk-2021.04.jpg
END:VEVENT
BEGIN:VEVENT
DTSTART;TZID=Asia/Hong_Kong:20210419T180000
DTEND;TZID=Asia/Hong_Kong:20210419T180000
DTSTAMP:20260425T182053
CREATED:19210413T180707Z
LAST-MODIFIED:20210418T175345Z
UID:10005156-1618855200-1618855200@www.bcmagazine.net
SUMMARY:Art Walk: Before a Passage
DESCRIPTION:Art Walk: Before a Passage\nNew Arts Power\nDate: 6pm\, 14-25 April\, 2021\nVenue: North Point (East) Pier\, Upper Deck\nTickets: Free\, register here\nMore info:\nFour sessions daily: 6pm\, 7pm\, 8pm\, 9pm\nNo walk-ins allowed
URL:https://www.bcmagazine.net/event/art-walk-before-a-passage/2021-04-19/
LOCATION:North Point East Pier\, North Point\, Hong Kong
CATEGORIES:2021,Art Gallery,Free,Multimedia,Performing Arts
ATTACH;FMTTYPE=image/jpeg:https://www.bcmagazine.net/wp-content/uploads/2021/04/artwalk-2021.04.jpg
END:VEVENT
BEGIN:VEVENT
DTSTART;TZID=Asia/Hong_Kong:20210418T180000
DTEND;TZID=Asia/Hong_Kong:20210418T180000
DTSTAMP:20260425T182053
CREATED:19210413T180707Z
LAST-MODIFIED:20210418T175345Z
UID:10005155-1618768800-1618768800@www.bcmagazine.net
SUMMARY:Art Walk: Before a Passage
DESCRIPTION:Art Walk: Before a Passage\nNew Arts Power\nDate: 6pm\, 14-25 April\, 2021\nVenue: North Point (East) Pier\, Upper Deck\nTickets: Free\, register here\nMore info:\nFour sessions daily: 6pm\, 7pm\, 8pm\, 9pm\nNo walk-ins allowed
URL:https://www.bcmagazine.net/event/art-walk-before-a-passage/2021-04-18/
LOCATION:North Point East Pier\, North Point\, Hong Kong
CATEGORIES:2021,Art Gallery,Free,Multimedia,Performing Arts
ATTACH;FMTTYPE=image/jpeg:https://www.bcmagazine.net/wp-content/uploads/2021/04/artwalk-2021.04.jpg
END:VEVENT
BEGIN:VEVENT
DTSTART;TZID=Asia/Hong_Kong:20210417T180000
DTEND;TZID=Asia/Hong_Kong:20210417T180000
DTSTAMP:20260425T182053
CREATED:19210413T180707Z
LAST-MODIFIED:20210418T175345Z
UID:10005154-1618682400-1618682400@www.bcmagazine.net
SUMMARY:Art Walk: Before a Passage
DESCRIPTION:Art Walk: Before a Passage\nNew Arts Power\nDate: 6pm\, 14-25 April\, 2021\nVenue: North Point (East) Pier\, Upper Deck\nTickets: Free\, register here\nMore info:\nFour sessions daily: 6pm\, 7pm\, 8pm\, 9pm\nNo walk-ins allowed
URL:https://www.bcmagazine.net/event/art-walk-before-a-passage/2021-04-17/
LOCATION:North Point East Pier\, North Point\, Hong Kong
CATEGORIES:2021,Art Gallery,Free,Multimedia,Performing Arts
ATTACH;FMTTYPE=image/jpeg:https://www.bcmagazine.net/wp-content/uploads/2021/04/artwalk-2021.04.jpg
END:VEVENT
BEGIN:VEVENT
DTSTART;TZID=Asia/Hong_Kong:20210416T180000
DTEND;TZID=Asia/Hong_Kong:20210416T180000
DTSTAMP:20260425T182053
CREATED:19210413T180707Z
LAST-MODIFIED:20210418T175345Z
UID:10005153-1618596000-1618596000@www.bcmagazine.net
SUMMARY:Art Walk: Before a Passage
DESCRIPTION:Art Walk: Before a Passage\nNew Arts Power\nDate: 6pm\, 14-25 April\, 2021\nVenue: North Point (East) Pier\, Upper Deck\nTickets: Free\, register here\nMore info:\nFour sessions daily: 6pm\, 7pm\, 8pm\, 9pm\nNo walk-ins allowed
URL:https://www.bcmagazine.net/event/art-walk-before-a-passage/2021-04-16/
LOCATION:North Point East Pier\, North Point\, Hong Kong
CATEGORIES:2021,Art Gallery,Free,Multimedia,Performing Arts
ATTACH;FMTTYPE=image/jpeg:https://www.bcmagazine.net/wp-content/uploads/2021/04/artwalk-2021.04.jpg
END:VEVENT
BEGIN:VEVENT
DTSTART;TZID=Asia/Hong_Kong:20210415T180000
DTEND;TZID=Asia/Hong_Kong:20210415T180000
DTSTAMP:20260425T182053
CREATED:19210413T180707Z
LAST-MODIFIED:20210418T175345Z
UID:10005152-1618509600-1618509600@www.bcmagazine.net
SUMMARY:Art Walk: Before a Passage
DESCRIPTION:Art Walk: Before a Passage\nNew Arts Power\nDate: 6pm\, 14-25 April\, 2021\nVenue: North Point (East) Pier\, Upper Deck\nTickets: Free\, register here\nMore info:\nFour sessions daily: 6pm\, 7pm\, 8pm\, 9pm\nNo walk-ins allowed
URL:https://www.bcmagazine.net/event/art-walk-before-a-passage/2021-04-15/
LOCATION:North Point East Pier\, North Point\, Hong Kong
CATEGORIES:2021,Art Gallery,Free,Multimedia,Performing Arts
ATTACH;FMTTYPE=image/jpeg:https://www.bcmagazine.net/wp-content/uploads/2021/04/artwalk-2021.04.jpg
END:VEVENT
BEGIN:VEVENT
DTSTART;TZID=Asia/Hong_Kong:20210414T180000
DTEND;TZID=Asia/Hong_Kong:20210414T180000
DTSTAMP:20260425T182053
CREATED:19210413T180707Z
LAST-MODIFIED:20210418T175345Z
UID:10005151-1618423200-1618423200@www.bcmagazine.net
SUMMARY:Art Walk: Before a Passage
DESCRIPTION:Art Walk: Before a Passage\nNew Arts Power\nDate: 6pm\, 14-25 April\, 2021\nVenue: North Point (East) Pier\, Upper Deck\nTickets: Free\, register here\nMore info:\nFour sessions daily: 6pm\, 7pm\, 8pm\, 9pm\nNo walk-ins allowed
URL:https://www.bcmagazine.net/event/art-walk-before-a-passage/2021-04-14/
LOCATION:North Point East Pier\, North Point\, Hong Kong
CATEGORIES:2021,Art Gallery,Free,Multimedia,Performing Arts
ATTACH;FMTTYPE=image/jpeg:https://www.bcmagazine.net/wp-content/uploads/2021/04/artwalk-2021.04.jpg
END:VEVENT
BEGIN:VEVENT
DTSTART;VALUE=DATE:20200219
DTEND;VALUE=DATE:20200224
DTSTAMP:20260425T182053
CREATED:19180202T042256Z
LAST-MODIFIED:20191208T153113Z
UID:10003747-1582070400-1582502399@www.bcmagazine.net
SUMMARY:Live Your Dreams
DESCRIPTION:Disney on Ice – Live Your Dreams\nDate: 24-27 January\, 2019\nVenue: Hall 5BC\, HK Convention and Exhibition Centre\nTickets: $980\, $880\, $780\, $580\, $480\, $460\, $380\, $360\, $280\, $220 \n 
URL:https://www.bcmagazine.net/event/live-your-dreams-2020/2020-02-19/
LOCATION:HK Convention and Exhibition Centre\, 1 Expo Drive\, Wanchai\, Hong Kong
CATEGORIES:2020,Multimedia,Performing Arts,Theatre
END:VEVENT
BEGIN:VEVENT
DTSTART;VALUE=DATE:20190124
DTEND;VALUE=DATE:20190128
DTSTAMP:20260425T182053
CREATED:19180202T042256Z
LAST-MODIFIED:20190119T160906Z
UID:10003745-1548288000-1548633599@www.bcmagazine.net
SUMMARY:Disney On Ice
DESCRIPTION:Disney On Ice presents Mickey’s Super Celebration\nDate: 24-27 January\, 2019\nVenue: HK Convention and Exhibition Centre\nTickets: $880\, $780\, $580\, $480\, $420\, $300\, $280 \n 
URL:https://www.bcmagazine.net/event/disney-on-ice-2019/2019-01-24/
LOCATION:HK Convention and Exhibition Centre\, 1 Expo Drive\, Wanchai\, Hong Kong
CATEGORIES:2019,Multimedia,Performing Arts,Theatre
END:VEVENT
BEGIN:VEVENT
DTSTART;TZID=Asia/Hong_Kong:20181020T200000
DTEND;TZID=Asia/Hong_Kong:20181020T200000
DTSTAMP:20260425T182053
CREATED:19180528T020834Z
LAST-MODIFIED:20180727T071431Z
UID:10004091-1540065600-1540065600@www.bcmagazine.net
SUMMARY:The Interrupted Dream · Monkey Business
DESCRIPTION:The Interrupted Dream · Monkey Business\nZuni Icosahedron: One Belt One Road Experimental Theatre\nDate: 8pm\, 18-20 October\, 2018\nVenue: HK Cultural Centre\, Studio Theatre\nTickets: $200\, $100 from Urbtix
URL:https://www.bcmagazine.net/event/the-interrupted-dream-%c2%b7-monkey-business-20-10-2018/
LOCATION:HK Cultural Centre\, Studio Theatre\, 10 Salisbury Road\, Tsim Sha Tsui\, Hong Kong
CATEGORIES:2018,Cantonese Opera,Multimedia,Music,Performing Arts,Theatre
END:VEVENT
BEGIN:VEVENT
DTSTART;TZID=Asia/Hong_Kong:20181019T200000
DTEND;TZID=Asia/Hong_Kong:20181019T200000
DTSTAMP:20260425T182053
CREATED:19180528T020834Z
LAST-MODIFIED:20180727T071455Z
UID:10004093-1539979200-1539979200@www.bcmagazine.net
SUMMARY:The Interrupted Dream · Monkey Business
DESCRIPTION:The Interrupted Dream · Monkey Business\nZuni Icosahedron: One Belt One Road Experimental Theatre\nDate: 8pm\, 18-20 October\, 2018\nVenue: HK Cultural Centre\, Studio Theatre\nTickets: $200\, $100 from Urbtix
URL:https://www.bcmagazine.net/event/the-interrupted-dream-%c2%b7-monkey-business-19-10-2018/
LOCATION:HK Cultural Centre\, Studio Theatre\, 10 Salisbury Road\, Tsim Sha Tsui\, Hong Kong
CATEGORIES:2018,Cantonese Opera,Multimedia,Music,Performing Arts,Theatre
END:VEVENT
BEGIN:VEVENT
DTSTART;TZID=Asia/Hong_Kong:20181018T200000
DTEND;TZID=Asia/Hong_Kong:20181018T200000
DTSTAMP:20260425T182053
CREATED:19180528T020834Z
LAST-MODIFIED:20180727T071503Z
UID:10004092-1539892800-1539892800@www.bcmagazine.net
SUMMARY:The Interrupted Dream · Monkey Business
DESCRIPTION:The Interrupted Dream · Monkey Business\nZuni Icosahedron: One Belt One Road Experimental Theatre\nDate: 8pm\, 18-20 October\, 2018\nVenue: HK Cultural Centre\, Studio Theatre\nTickets: $200\, $100 from Urbtix
URL:https://www.bcmagazine.net/event/the-interrupted-dream-%c2%b7-monkey-business-18-10-2018/
LOCATION:HK Cultural Centre\, Studio Theatre\, 10 Salisbury Road\, Tsim Sha Tsui\, Hong Kong
CATEGORIES:2018,Cantonese Opera,Multimedia,Music,Performing Arts,Theatre
END:VEVENT
BEGIN:VEVENT
DTSTART;TZID=Asia/Hong_Kong:20181014T150000
DTEND;TZID=Asia/Hong_Kong:20181014T150000
DTSTAMP:20260425T182053
CREATED:19180528T020834Z
LAST-MODIFIED:20180728T170153Z
UID:10004149-1539529200-1539529200@www.bcmagazine.net
SUMMARY:Teatro Corsario
DESCRIPTION:Poe’s Curse\nTeatro Corsario\, From Puppets to Humans’ Series\nDate: 12-14 October\, 2018\nVenue: Sheung Wan Civic Centre\, Theatre\nTickets: $260\, $200 from Urbtix
URL:https://www.bcmagazine.net/event/teatro-corsario-14-10-2018/
LOCATION:Sheung Wan Civic Centre\, Theatre\, 345 Queen's Road Central\, Sheung Wan\, Hong Kong
CATEGORIES:2018,Multimedia,Performing Arts,Theatre
GEO:22.2861929;114.1497606
X-APPLE-STRUCTURED-LOCATION;VALUE=URI;X-ADDRESS=Sheung Wan Civic Centre Theatre 345 Queen's Road Central Sheung Wan Hong Kong;X-APPLE-RADIUS=500;X-TITLE=345 Queen's Road Central:geo:114.1497606,22.2861929
END:VEVENT
BEGIN:VEVENT
DTSTART;TZID=Asia/Hong_Kong:20181013T200000
DTEND;TZID=Asia/Hong_Kong:20181013T200000
DTSTAMP:20260425T182053
CREATED:19180528T020834Z
LAST-MODIFIED:20180728T170200Z
UID:10004148-1539460800-1539460800@www.bcmagazine.net
SUMMARY:Teatro Corsario
DESCRIPTION:Poe’s Curse\nTeatro Corsario\, From Puppets to Humans’ Series\nDate: 12-14 October\, 2018\nVenue: Sheung Wan Civic Centre\, Theatre\nTickets: $260\, $200 from Urbtix
URL:https://www.bcmagazine.net/event/teatro-corsario-13-10-2018/
LOCATION:Sheung Wan Civic Centre\, Theatre\, 345 Queen's Road Central\, Sheung Wan\, Hong Kong
CATEGORIES:2018,Multimedia,Performing Arts,Theatre
GEO:22.2861929;114.1497606
X-APPLE-STRUCTURED-LOCATION;VALUE=URI;X-ADDRESS=Sheung Wan Civic Centre Theatre 345 Queen's Road Central Sheung Wan Hong Kong;X-APPLE-RADIUS=500;X-TITLE=345 Queen's Road Central:geo:114.1497606,22.2861929
END:VEVENT
BEGIN:VEVENT
DTSTART;TZID=Asia/Hong_Kong:20181012T200000
DTEND;TZID=Asia/Hong_Kong:20181012T200000
DTSTAMP:20260425T182053
CREATED:19180528T020834Z
LAST-MODIFIED:20180728T170047Z
UID:10004147-1539374400-1539374400@www.bcmagazine.net
SUMMARY:Teatro Corsario
DESCRIPTION:Poe’s Curse\nTeatro Corsario\, From Puppets to Humans’ Series\nDate: 12-14 October\, 2018\nVenue: Sheung Wan Civic Centre\, Theatre\nTickets: $260\, $200 from Urbtix
URL:https://www.bcmagazine.net/event/teatro-corsario-12-10-2018/
LOCATION:Sheung Wan Civic Centre\, Theatre\, 345 Queen's Road Central\, Sheung Wan\, Hong Kong
CATEGORIES:2018,Multimedia,Performing Arts,Theatre
GEO:22.2861929;114.1497606
X-APPLE-STRUCTURED-LOCATION;VALUE=URI;X-ADDRESS=Sheung Wan Civic Centre Theatre 345 Queen's Road Central Sheung Wan Hong Kong;X-APPLE-RADIUS=500;X-TITLE=345 Queen's Road Central:geo:114.1497606,22.2861929
END:VEVENT
BEGIN:VEVENT
DTSTART;TZID=Asia/Hong_Kong:20180923T150000
DTEND;TZID=Asia/Hong_Kong:20180923T150000
DTSTAMP:20260425T182053
CREATED:19180528T020834Z
LAST-MODIFIED:20180728T165531Z
UID:10004144-1537714800-1537714800@www.bcmagazine.net
SUMMARY:Sofie Krog Teater
DESCRIPTION:Circus Funestus\nSofie Krog Teater\, From Puppets to Humans’ Series\nDate: 21-23 September\, 2018\nVenue: HK Cultural Centre\, Studio Theatre\nTickets: $260\, $200 from Urbtix
URL:https://www.bcmagazine.net/event/sofie-krog-teater-23-09-2018/
LOCATION:HK Cultural Centre\, Studio Theatre\, 10 Salisbury Road\, Tsim Sha Tsui\, Hong Kong
CATEGORIES:2018,Multimedia,Performing Arts,Theatre
END:VEVENT
BEGIN:VEVENT
DTSTART;TZID=Asia/Hong_Kong:20180922T200000
DTEND;TZID=Asia/Hong_Kong:20180922T200000
DTSTAMP:20260425T182053
CREATED:19180528T020834Z
LAST-MODIFIED:20180728T165654Z
UID:10004146-1537646400-1537646400@www.bcmagazine.net
SUMMARY:Sofie Krog Teater
DESCRIPTION:Circus Funestus\nSofie Krog Teater\, From Puppets to Humans’ Series\nDate: 21-23 September\, 2018\nVenue: HK Cultural Centre\, Studio Theatre\nTickets: $260\, $200 from Urbtix
URL:https://www.bcmagazine.net/event/sofie-krog-teater-22-09-2018/
LOCATION:HK Cultural Centre\, Studio Theatre\, 10 Salisbury Road\, Tsim Sha Tsui\, Hong Kong
CATEGORIES:2018,Multimedia,Performing Arts,Theatre
END:VEVENT
END:VCALENDAR