BEGIN:VCALENDAR
VERSION:2.0
PRODID:-//bc magazine - ECPv6.15.20//NONSGML v1.0//EN
CALSCALE:GREGORIAN
METHOD:PUBLISH
X-WR-CALNAME:bc magazine
X-ORIGINAL-URL:https://www.bcmagazine.net
X-WR-CALDESC:Events for bc magazine
REFRESH-INTERVAL;VALUE=DURATION:PT1H
X-Robots-Tag:noindex
X-PUBLISHED-TTL:PT1H
BEGIN:VTIMEZONE
TZID:Asia/Hong_Kong
BEGIN:STANDARD
TZOFFSETFROM:+0800
TZOFFSETTO:+0800
TZNAME:HKT
DTSTART:20150101T000000
END:STANDARD
END:VTIMEZONE
BEGIN:VEVENT
DTSTART;TZID=Asia/Hong_Kong:20161216T194500
DTEND;TZID=Asia/Hong_Kong:20161216T194500
DTSTAMP:20260423T031040
CREATED:19161101T135300Z
LAST-MODIFIED:20161101T143820Z
UID:10000936-1481917500-1481917500@www.bcmagazine.net
SUMMARY:Carmen
DESCRIPTION:Carmen\nMusica Viva\nDate: 16-18 December\, 2016\nVenue: HK City Hall\, Concert Hall\nTickets: $630\, $460\, $300\, $150 from Urbtix
URL:https://www.bcmagazine.net/event/musica-viva-carmen-2016/2016-12-16/
LOCATION:HK City Hall\, Concert Hall\,  5 Edinburgh Place\, Central\, Hong Kong
CATEGORIES:2016,Opera,Performing Arts
END:VEVENT
BEGIN:VEVENT
DTSTART;TZID=Asia/Hong_Kong:20161217T194500
DTEND;TZID=Asia/Hong_Kong:20161217T194500
DTSTAMP:20260423T031040
CREATED:19161101T135300Z
LAST-MODIFIED:20161101T143820Z
UID:10000937-1482003900-1482003900@www.bcmagazine.net
SUMMARY:Carmen
DESCRIPTION:Carmen\nMusica Viva\nDate: 16-18 December\, 2016\nVenue: HK City Hall\, Concert Hall\nTickets: $630\, $460\, $300\, $150 from Urbtix
URL:https://www.bcmagazine.net/event/musica-viva-carmen-2016/2016-12-17/
LOCATION:HK City Hall\, Concert Hall\,  5 Edinburgh Place\, Central\, Hong Kong
CATEGORIES:2016,Opera,Performing Arts
END:VEVENT
BEGIN:VEVENT
DTSTART;TZID=Asia/Hong_Kong:20161218T194500
DTEND;TZID=Asia/Hong_Kong:20161218T194500
DTSTAMP:20260423T031040
CREATED:19161101T135300Z
LAST-MODIFIED:20161101T143820Z
UID:10000938-1482090300-1482090300@www.bcmagazine.net
SUMMARY:Carmen
DESCRIPTION:Carmen\nMusica Viva\nDate: 16-18 December\, 2016\nVenue: HK City Hall\, Concert Hall\nTickets: $630\, $460\, $300\, $150 from Urbtix
URL:https://www.bcmagazine.net/event/musica-viva-carmen-2016/2016-12-18/
LOCATION:HK City Hall\, Concert Hall\,  5 Edinburgh Place\, Central\, Hong Kong
CATEGORIES:2016,Opera,Performing Arts
END:VEVENT
END:VCALENDAR