BEGIN:VCALENDAR
VERSION:2.0
PRODID:-//bc magazine - ECPv6.15.20//NONSGML v1.0//EN
CALSCALE:GREGORIAN
METHOD:PUBLISH
X-WR-CALNAME:bc magazine
X-ORIGINAL-URL:https://www.bcmagazine.net
X-WR-CALDESC:Events for bc magazine
REFRESH-INTERVAL;VALUE=DURATION:PT1H
X-Robots-Tag:noindex
X-PUBLISHED-TTL:PT1H
BEGIN:VTIMEZONE
TZID:Asia/Hong_Kong
BEGIN:STANDARD
TZOFFSETFROM:+0800
TZOFFSETTO:+0800
TZNAME:HKT
DTSTART:20160101T000000
END:STANDARD
END:VTIMEZONE
BEGIN:VEVENT
DTSTART;TZID=Asia/Hong_Kong:20170505T193000
DTEND;TZID=Asia/Hong_Kong:20170505T193000
DTSTAMP:20260421T100127
CREATED:19170421T041202Z
LAST-MODIFIED:20221004T001146Z
UID:10002572-1494012600-1494012600@www.bcmagazine.net
SUMMARY:The Barber of Seville
DESCRIPTION:The Barber of Seville\nOpera Hong Kong\nDate: 5-7 May\, 2017\nVenue: HK Cultural Centre\, Grand Theatre\nTickets: $800\, $600\, $400\, $300\, $150 from Urbtix
URL:https://www.bcmagazine.net/event/the-barber-of-seville-opera-hong-kong-2017/
LOCATION:HK Cultural Centre\, Grand Theatre\,\, 10 Salisbury Road\, Tsim Sha Tsui\, Hong Kong
CATEGORIES:2017,Music,Opera,Performing Arts
GEO:22.294318;114.171708
X-APPLE-STRUCTURED-LOCATION;VALUE=URI;X-ADDRESS=HK Cultural Centre Grand Theatre 10 Salisbury Road Tsim Sha Tsui Hong Kong;X-APPLE-RADIUS=500;X-TITLE=10 Salisbury Road:geo:114.171708,22.294318
END:VEVENT
END:VCALENDAR