BEGIN:VCALENDAR
VERSION:2.0
PRODID:-//bc magazine - ECPv6.15.20//NONSGML v1.0//EN
CALSCALE:GREGORIAN
METHOD:PUBLISH
X-WR-CALNAME:bc magazine
X-ORIGINAL-URL:https://www.bcmagazine.net
X-WR-CALDESC:Events for bc magazine
REFRESH-INTERVAL;VALUE=DURATION:PT1H
X-Robots-Tag:noindex
X-PUBLISHED-TTL:PT1H
BEGIN:VTIMEZONE
TZID:Asia/Hong_Kong
BEGIN:STANDARD
TZOFFSETFROM:+0800
TZOFFSETTO:+0800
TZNAME:HKT
DTSTART:20170101T000000
END:STANDARD
END:VTIMEZONE
BEGIN:VEVENT
DTSTART;TZID=Asia/Hong_Kong:20180118T190000
DTEND;TZID=Asia/Hong_Kong:20180118T190000
DTSTAMP:20260424T100149
CREATED:20170724T031400Z
LAST-MODIFIED:20180111T091517Z
UID:10006429-1516302000-1516302000@www.bcmagazine.net
SUMMARY:Mila
DESCRIPTION:Mila\nDate: 18-21 January\, 2018\nVenue: Asia Society Hong Kong Center\nTickets: $380\nMore info:\n18-20 Jan – 7pm\n21 Jan – 3pm
URL:https://www.bcmagazine.net/event/mila-18-01-2018/
LOCATION:Asia Society Hong Kong Center\, 9 Justice Drive\, Admiralty\, Hong Kong
CATEGORIES:2018,Opera,Performing Arts,Theatre
END:VEVENT
BEGIN:VEVENT
DTSTART;TZID=Asia/Hong_Kong:20180119T190000
DTEND;TZID=Asia/Hong_Kong:20180119T190000
DTSTAMP:20260424T100149
CREATED:20170724T031400Z
LAST-MODIFIED:20180111T091755Z
UID:10006430-1516388400-1516388400@www.bcmagazine.net
SUMMARY:Mila
DESCRIPTION:Mila\nDate: 18-21 January\, 2018\nVenue: Asia Society Hong Kong Center\nTickets: $380\nMore info:\n18-20 Jan – 7pm\n21 Jan – 3pm
URL:https://www.bcmagazine.net/event/mila-19-01-2018/
LOCATION:Asia Society Hong Kong Center\, 9 Justice Drive\, Admiralty\, Hong Kong
CATEGORIES:2018,Opera,Performing Arts,Theatre
END:VEVENT
BEGIN:VEVENT
DTSTART;TZID=Asia/Hong_Kong:20180120T190000
DTEND;TZID=Asia/Hong_Kong:20180120T190000
DTSTAMP:20260424T100149
CREATED:20170724T031400Z
LAST-MODIFIED:20180111T091752Z
UID:10006431-1516474800-1516474800@www.bcmagazine.net
SUMMARY:Mila
DESCRIPTION:Mila\nDate: 18-21 January\, 2018\nVenue: Asia Society Hong Kong Center\nTickets: $380\nMore info:\n18-20 Jan – 7pm\n21 Jan – 3pm
URL:https://www.bcmagazine.net/event/mila-20-01-2018/
LOCATION:Asia Society Hong Kong Center\, 9 Justice Drive\, Admiralty\, Hong Kong
CATEGORIES:2018,Opera,Performing Arts,Theatre
END:VEVENT
BEGIN:VEVENT
DTSTART;TZID=Asia/Hong_Kong:20180121T150000
DTEND;TZID=Asia/Hong_Kong:20180121T150000
DTSTAMP:20260424T100149
CREATED:20170724T031400Z
LAST-MODIFIED:20180111T091744Z
UID:10006432-1516546800-1516546800@www.bcmagazine.net
SUMMARY:Mila
DESCRIPTION:Mila\nDate: 18-21 January\, 2018\nVenue: Asia Society Hong Kong Center\nTickets: $380\nMore info:\n18-20 Jan – 7pm\n21 Jan – 3pm
URL:https://www.bcmagazine.net/event/mila-21-01-2018/
LOCATION:Asia Society Hong Kong Center\, 9 Justice Drive\, Admiralty\, Hong Kong
CATEGORIES:2018,Opera,Performing Arts,Theatre
END:VEVENT
END:VCALENDAR