BEGIN:VCALENDAR
VERSION:2.0
PRODID:-//bc magazine - ECPv6.15.20//NONSGML v1.0//EN
CALSCALE:GREGORIAN
METHOD:PUBLISH
X-WR-CALNAME:bc magazine
X-ORIGINAL-URL:https://www.bcmagazine.net
X-WR-CALDESC:Events for bc magazine
REFRESH-INTERVAL;VALUE=DURATION:PT1H
X-Robots-Tag:noindex
X-PUBLISHED-TTL:PT1H
BEGIN:VTIMEZONE
TZID:Asia/Hong_Kong
BEGIN:STANDARD
TZOFFSETFROM:+0800
TZOFFSETTO:+0800
TZNAME:HKT
DTSTART:20170101T000000
END:STANDARD
END:VTIMEZONE
BEGIN:VEVENT
DTSTART;TZID=Asia/Hong_Kong:20180406T193000
DTEND;TZID=Asia/Hong_Kong:20180406T193000
DTSTAMP:20260424T235959
CREATED:19180222T090237Z
LAST-MODIFIED:20180222T091212Z
UID:10003812-1523043000-1523043000@www.bcmagazine.net
SUMMARY:Cantonese Opera
DESCRIPTION:Cantonese Opera\nGrand Xiqu\, Hong Kong Xiqu Troupe\nDate: 6-8 April\, 2018\nVenue: HK Cultural Centre\, Grand Theatre\nTickets: $380\, $320\, $260\, $200\, $160 from Urbtix
URL:https://www.bcmagazine.net/event/cantonese-opera-grand-xiqu-06-04-2018/
LOCATION:HK Cultural Centre\, Grand Theatre\,\, 10 Salisbury Road\, Tsim Sha Tsui\, Hong Kong
CATEGORIES:2018,Cantonese Opera,Music,Opera,Performing Arts
GEO:22.294318;114.171708
X-APPLE-STRUCTURED-LOCATION;VALUE=URI;X-ADDRESS=HK Cultural Centre Grand Theatre 10 Salisbury Road Tsim Sha Tsui Hong Kong;X-APPLE-RADIUS=500;X-TITLE=10 Salisbury Road:geo:114.171708,22.294318
END:VEVENT
BEGIN:VEVENT
DTSTART;TZID=Asia/Hong_Kong:20180407T193000
DTEND;TZID=Asia/Hong_Kong:20180407T193000
DTSTAMP:20260424T235959
CREATED:19180222T090237Z
LAST-MODIFIED:20180222T091455Z
UID:10003813-1523129400-1523129400@www.bcmagazine.net
SUMMARY:Cantonese Opera
DESCRIPTION:Cantonese Opera\nGrand Xiqu\, Hong Kong Xiqu Troupe\nDate: 6-8 April\, 2018\nVenue: HK Cultural Centre\, Grand Theatre\nTickets: $380\, $320\, $260\, $200\, $160 from Urbtix
URL:https://www.bcmagazine.net/event/cantonese-opera-grand-xiqu-07-04-2018/
LOCATION:HK Cultural Centre\, Grand Theatre\,\, 10 Salisbury Road\, Tsim Sha Tsui\, Hong Kong
CATEGORIES:2018,Cantonese Opera,Music,Opera,Performing Arts
GEO:22.294318;114.171708
X-APPLE-STRUCTURED-LOCATION;VALUE=URI;X-ADDRESS=HK Cultural Centre Grand Theatre 10 Salisbury Road Tsim Sha Tsui Hong Kong;X-APPLE-RADIUS=500;X-TITLE=10 Salisbury Road:geo:114.171708,22.294318
END:VEVENT
BEGIN:VEVENT
DTSTART;TZID=Asia/Hong_Kong:20180408T143000
DTEND;TZID=Asia/Hong_Kong:20180408T143000
DTSTAMP:20260424T235959
CREATED:19180222T090237Z
LAST-MODIFIED:20180222T091435Z
UID:10003814-1523197800-1523197800@www.bcmagazine.net
SUMMARY:Cantonese Opera
DESCRIPTION:Cantonese Opera\nGrand Xiqu\, Hong Kong Xiqu Troupe\nDate: 6-8 April\, 2018\nVenue: HK Cultural Centre\, Grand Theatre\nTickets: $380\, $320\, $260\, $200\, $160 from Urbtix
URL:https://www.bcmagazine.net/event/cantonese-opera-grand-xiqu-08-04-2018/
LOCATION:HK Cultural Centre\, Grand Theatre\,\, 10 Salisbury Road\, Tsim Sha Tsui\, Hong Kong
CATEGORIES:2018,Cantonese Opera,Music,Opera,Performing Arts
GEO:22.294318;114.171708
X-APPLE-STRUCTURED-LOCATION;VALUE=URI;X-ADDRESS=HK Cultural Centre Grand Theatre 10 Salisbury Road Tsim Sha Tsui Hong Kong;X-APPLE-RADIUS=500;X-TITLE=10 Salisbury Road:geo:114.171708,22.294318
END:VEVENT
BEGIN:VEVENT
DTSTART;TZID=Asia/Hong_Kong:20180423T193000
DTEND;TZID=Asia/Hong_Kong:20180423T193000
DTSTAMP:20260424T235959
CREATED:19180222T090237Z
LAST-MODIFIED:20180222T090826Z
UID:10003811-1524511800-1524511800@www.bcmagazine.net
SUMMARY:Chinese Opera
DESCRIPTION:Chinese Opera – Silang Tanmu\nChina Cultural City Limited\, Hubei Provincial Peking Opera Theatre\nDate: 7:30pm\, 23-24 April\, 2018\nVenue: HK Cultural Centre\, Grand Theatre\nTickets: $280\, $220\, $160 from Urbtix
URL:https://www.bcmagazine.net/event/chinese-opera-china-cultural-city-23-04-2018/
LOCATION:HK Cultural Centre\, Grand Theatre\,\, 10 Salisbury Road\, Tsim Sha Tsui\, Hong Kong
CATEGORIES:2018,Chinese opera,Music,Opera,Performing Arts
GEO:22.294318;114.171708
X-APPLE-STRUCTURED-LOCATION;VALUE=URI;X-ADDRESS=HK Cultural Centre Grand Theatre 10 Salisbury Road Tsim Sha Tsui Hong Kong;X-APPLE-RADIUS=500;X-TITLE=10 Salisbury Road:geo:114.171708,22.294318
END:VEVENT
BEGIN:VEVENT
DTSTART;TZID=Asia/Hong_Kong:20180424T193000
DTEND;TZID=Asia/Hong_Kong:20180424T193000
DTSTAMP:20260424T235959
CREATED:19180222T090237Z
LAST-MODIFIED:20180222T090732Z
UID:10003810-1524598200-1524598200@www.bcmagazine.net
SUMMARY:Chinese Opera
DESCRIPTION:Chinese Opera – Yangmen Nvjiang\nChina Cultural City Limited\, Hubei Provincial Peking Opera Theatre\nDate: 7:30pm\, 23-24 April\, 2018\nVenue: HK Cultural Centre\, Grand Theatre\nTickets: $280\, $220\, $160 from Urbtix
URL:https://www.bcmagazine.net/event/chinese-opera-china-cultural-city-24-04-2018/
LOCATION:HK Cultural Centre\, Grand Theatre\,\, 10 Salisbury Road\, Tsim Sha Tsui\, Hong Kong
CATEGORIES:2018,Chinese opera,Music,Opera,Performing Arts
GEO:22.294318;114.171708
X-APPLE-STRUCTURED-LOCATION;VALUE=URI;X-ADDRESS=HK Cultural Centre Grand Theatre 10 Salisbury Road Tsim Sha Tsui Hong Kong;X-APPLE-RADIUS=500;X-TITLE=10 Salisbury Road:geo:114.171708,22.294318
END:VEVENT
END:VCALENDAR