BEGIN:VCALENDAR
VERSION:2.0
PRODID:-//bc magazine - ECPv6.15.20//NONSGML v1.0//EN
CALSCALE:GREGORIAN
METHOD:PUBLISH
X-WR-CALNAME:bc magazine
X-ORIGINAL-URL:https://www.bcmagazine.net
X-WR-CALDESC:Events for bc magazine
REFRESH-INTERVAL;VALUE=DURATION:PT1H
X-Robots-Tag:noindex
X-PUBLISHED-TTL:PT1H
BEGIN:VTIMEZONE
TZID:Asia/Hong_Kong
BEGIN:STANDARD
TZOFFSETFROM:+0800
TZOFFSETTO:+0800
TZNAME:HKT
DTSTART:20190101T000000
END:STANDARD
END:VTIMEZONE
BEGIN:VEVENT
DTSTART;TZID=Asia/Hong_Kong:20201204T194500
DTEND;TZID=Asia/Hong_Kong:20201204T194500
DTSTAMP:20260421T145115
CREATED:19170810T093057Z
LAST-MODIFIED:20201103T114552Z
UID:10003208-1607111100-1607111100@www.bcmagazine.net
SUMMARY:Così fan tutte x The Magic Flute
DESCRIPTION:Così fan tutte x The Magic Flute\nOpera Hong Kong\nDate: 4-5 December\, 2020\nVenue: Tuen Mun Town Hall\, Auditorium\nTickets: $220\, $180\, $120\, $60 from Urbtix\nMore info:\nIn Cantonese
URL:https://www.bcmagazine.net/event/cosi-fan-tutte-04-12-2020/
LOCATION:Tuen Mun Town Hall\, Auditorium\, 3 Tuen Hi Road\, Tuen Mun
CATEGORIES:2020,Concert,Music,Opera,Performing Arts
ATTACH;FMTTYPE=image/jpeg:https://www.bcmagazine.net/wp-content/uploads/1917/08/mafic-flute-2020.jpg
GEO:22.39182;113.9767372
X-APPLE-STRUCTURED-LOCATION;VALUE=URI;X-ADDRESS=Tuen Mun Town Hall Auditorium 3 Tuen Hi Road Tuen Mun;X-APPLE-RADIUS=500;X-TITLE=3 Tuen Hi Road:geo:113.9767372,22.39182
END:VEVENT
BEGIN:VEVENT
DTSTART;TZID=Asia/Hong_Kong:20201205T194500
DTEND;TZID=Asia/Hong_Kong:20201205T194500
DTSTAMP:20260421T145115
CREATED:19170810T093057Z
LAST-MODIFIED:20201103T114618Z
UID:10003209-1607197500-1607197500@www.bcmagazine.net
SUMMARY:Così fan tutte x The Magic Flute
DESCRIPTION:Così fan tutte x The Magic Flute\nOpera Hong Kong\nDate: 4-5 December\, 2020\nVenue: Tuen Mun Town Hall\, Auditorium\nTickets: $220\, $180\, $120\, $60 from Urbtix\nMore info:\nIn Cantonese
URL:https://www.bcmagazine.net/event/cosi-fan-tutte-04-12-2020-2/
LOCATION:Tuen Mun Town Hall\, Auditorium\, 3 Tuen Hi Road\, Tuen Mun
CATEGORIES:2020,Concert,Music,Opera,Performing Arts
ATTACH;FMTTYPE=image/jpeg:https://www.bcmagazine.net/wp-content/uploads/1917/08/mafic-flute-2020.jpg
GEO:22.39182;113.9767372
X-APPLE-STRUCTURED-LOCATION;VALUE=URI;X-ADDRESS=Tuen Mun Town Hall Auditorium 3 Tuen Hi Road Tuen Mun;X-APPLE-RADIUS=500;X-TITLE=3 Tuen Hi Road:geo:113.9767372,22.39182
END:VEVENT
END:VCALENDAR