BEGIN:VCALENDAR
VERSION:2.0
PRODID:-//bc magazine - ECPv6.15.20//NONSGML v1.0//EN
CALSCALE:GREGORIAN
METHOD:PUBLISH
X-WR-CALNAME:bc magazine
X-ORIGINAL-URL:https://www.bcmagazine.net
X-WR-CALDESC:Events for bc magazine
REFRESH-INTERVAL;VALUE=DURATION:PT1H
X-Robots-Tag:noindex
X-PUBLISHED-TTL:PT1H
BEGIN:VTIMEZONE
TZID:Asia/Hong_Kong
BEGIN:STANDARD
TZOFFSETFROM:+0800
TZOFFSETTO:+0800
TZNAME:HKT
DTSTART:20200101T000000
END:STANDARD
END:VTIMEZONE
BEGIN:VEVENT
DTSTART;TZID=Asia/Hong_Kong:20210512T194500
DTEND;TZID=Asia/Hong_Kong:20210512T194500
DTSTAMP:20260425T223827
CREATED:19170810T093057Z
LAST-MODIFIED:20210407T041725Z
UID:10003213-1620848700-1620848700@www.bcmagazine.net
SUMMARY:La Traviata - Postponed
DESCRIPTION:La Traviata\nOpera Hong Kong\, Opéra de Monte-Carlo\, Opéra-Théâtre de Saint-Étienne\nDate: 12-16 May\, 2021\nVenue: HK Cultural Centre\, Grand Theatre\nTickets: tbc from Urbtix\nMore info:\nIn Italian with Chinese and English surtitles\n12-15 May – 7:45pm\n16 May – 3pm
URL:https://www.bcmagazine.net/event/la-traviata-16-05-2021/2021-05-12/
LOCATION:HK Cultural Centre\, Grand Theatre\,\, 10 Salisbury Road\, Tsim Sha Tsui\, Hong Kong
CATEGORIES:2021,Cancelled,Concert,Music,Opera,Performing Arts
ATTACH;FMTTYPE=image/jpeg:https://www.bcmagazine.net/wp-content/uploads/1917/08/LaTraviata-1000x460_2.jpg
GEO:22.294318;114.171708
X-APPLE-STRUCTURED-LOCATION;VALUE=URI;X-ADDRESS=HK Cultural Centre Grand Theatre 10 Salisbury Road Tsim Sha Tsui Hong Kong;X-APPLE-RADIUS=500;X-TITLE=10 Salisbury Road:geo:114.171708,22.294318
END:VEVENT
BEGIN:VEVENT
DTSTART;TZID=Asia/Hong_Kong:20210513T193000
DTEND;TZID=Asia/Hong_Kong:20210513T193000
DTSTAMP:20260425T223827
CREATED:19170810T093057Z
LAST-MODIFIED:20210407T041320Z
UID:10003219-1620934200-1620934200@www.bcmagazine.net
SUMMARY:Carmen
DESCRIPTION:Bizet’s Carmen\nOpera Hong Kong\nDate: 13-16 May\, 2021\nVenue: HK Cultural Centre\, Grand Theatre\nTickets: $900\, $780\, $620\, $480\, $320\, $180 from Urbtix\nMore info:\nin French with Chinese and English Surtitles\n13-16 May – 7:30pm\n16 May – 2:45pm
URL:https://www.bcmagazine.net/event/carmen/2021-05-13/
LOCATION:HK Cultural Centre\, Grand Theatre\,\, 10 Salisbury Road\, Tsim Sha Tsui\, Hong Kong
CATEGORIES:2021,Concert,Music,Opera,Performing Arts
ATTACH;FMTTYPE=image/jpeg:https://www.bcmagazine.net/wp-content/uploads/1917/08/opera-hong-kong-Carmen-2021.jpeg
GEO:22.294318;114.171708
X-APPLE-STRUCTURED-LOCATION;VALUE=URI;X-ADDRESS=HK Cultural Centre Grand Theatre 10 Salisbury Road Tsim Sha Tsui Hong Kong;X-APPLE-RADIUS=500;X-TITLE=10 Salisbury Road:geo:114.171708,22.294318
END:VEVENT
BEGIN:VEVENT
DTSTART;TZID=Asia/Hong_Kong:20210513T194500
DTEND;TZID=Asia/Hong_Kong:20210513T194500
DTSTAMP:20260425T223827
CREATED:19170810T093057Z
LAST-MODIFIED:20210407T041725Z
UID:10003214-1620935100-1620935100@www.bcmagazine.net
SUMMARY:La Traviata - Postponed
DESCRIPTION:La Traviata\nOpera Hong Kong\, Opéra de Monte-Carlo\, Opéra-Théâtre de Saint-Étienne\nDate: 12-16 May\, 2021\nVenue: HK Cultural Centre\, Grand Theatre\nTickets: tbc from Urbtix\nMore info:\nIn Italian with Chinese and English surtitles\n12-15 May – 7:45pm\n16 May – 3pm
URL:https://www.bcmagazine.net/event/la-traviata-16-05-2021/2021-05-13/
LOCATION:HK Cultural Centre\, Grand Theatre\,\, 10 Salisbury Road\, Tsim Sha Tsui\, Hong Kong
CATEGORIES:2021,Cancelled,Concert,Music,Opera,Performing Arts
ATTACH;FMTTYPE=image/jpeg:https://www.bcmagazine.net/wp-content/uploads/1917/08/LaTraviata-1000x460_2.jpg
GEO:22.294318;114.171708
X-APPLE-STRUCTURED-LOCATION;VALUE=URI;X-ADDRESS=HK Cultural Centre Grand Theatre 10 Salisbury Road Tsim Sha Tsui Hong Kong;X-APPLE-RADIUS=500;X-TITLE=10 Salisbury Road:geo:114.171708,22.294318
END:VEVENT
BEGIN:VEVENT
DTSTART;TZID=Asia/Hong_Kong:20210514T193000
DTEND;TZID=Asia/Hong_Kong:20210514T193000
DTSTAMP:20260425T223827
CREATED:19170810T093057Z
LAST-MODIFIED:20210407T041320Z
UID:10003220-1621020600-1621020600@www.bcmagazine.net
SUMMARY:Carmen
DESCRIPTION:Bizet’s Carmen\nOpera Hong Kong\nDate: 13-16 May\, 2021\nVenue: HK Cultural Centre\, Grand Theatre\nTickets: $900\, $780\, $620\, $480\, $320\, $180 from Urbtix\nMore info:\nin French with Chinese and English Surtitles\n13-16 May – 7:30pm\n16 May – 2:45pm
URL:https://www.bcmagazine.net/event/carmen/2021-05-14/
LOCATION:HK Cultural Centre\, Grand Theatre\,\, 10 Salisbury Road\, Tsim Sha Tsui\, Hong Kong
CATEGORIES:2021,Concert,Music,Opera,Performing Arts
ATTACH;FMTTYPE=image/jpeg:https://www.bcmagazine.net/wp-content/uploads/1917/08/opera-hong-kong-Carmen-2021.jpeg
GEO:22.294318;114.171708
X-APPLE-STRUCTURED-LOCATION;VALUE=URI;X-ADDRESS=HK Cultural Centre Grand Theatre 10 Salisbury Road Tsim Sha Tsui Hong Kong;X-APPLE-RADIUS=500;X-TITLE=10 Salisbury Road:geo:114.171708,22.294318
END:VEVENT
BEGIN:VEVENT
DTSTART;TZID=Asia/Hong_Kong:20210514T194500
DTEND;TZID=Asia/Hong_Kong:20210514T194500
DTSTAMP:20260425T223827
CREATED:19170810T093057Z
LAST-MODIFIED:20210407T041725Z
UID:10003215-1621021500-1621021500@www.bcmagazine.net
SUMMARY:La Traviata - Postponed
DESCRIPTION:La Traviata\nOpera Hong Kong\, Opéra de Monte-Carlo\, Opéra-Théâtre de Saint-Étienne\nDate: 12-16 May\, 2021\nVenue: HK Cultural Centre\, Grand Theatre\nTickets: tbc from Urbtix\nMore info:\nIn Italian with Chinese and English surtitles\n12-15 May – 7:45pm\n16 May – 3pm
URL:https://www.bcmagazine.net/event/la-traviata-16-05-2021/2021-05-14/
LOCATION:HK Cultural Centre\, Grand Theatre\,\, 10 Salisbury Road\, Tsim Sha Tsui\, Hong Kong
CATEGORIES:2021,Cancelled,Concert,Music,Opera,Performing Arts
ATTACH;FMTTYPE=image/jpeg:https://www.bcmagazine.net/wp-content/uploads/1917/08/LaTraviata-1000x460_2.jpg
GEO:22.294318;114.171708
X-APPLE-STRUCTURED-LOCATION;VALUE=URI;X-ADDRESS=HK Cultural Centre Grand Theatre 10 Salisbury Road Tsim Sha Tsui Hong Kong;X-APPLE-RADIUS=500;X-TITLE=10 Salisbury Road:geo:114.171708,22.294318
END:VEVENT
BEGIN:VEVENT
DTSTART;TZID=Asia/Hong_Kong:20210515T193000
DTEND;TZID=Asia/Hong_Kong:20210515T193000
DTSTAMP:20260425T223827
CREATED:19170810T093057Z
LAST-MODIFIED:20210407T041320Z
UID:10003221-1621107000-1621107000@www.bcmagazine.net
SUMMARY:Carmen
DESCRIPTION:Bizet’s Carmen\nOpera Hong Kong\nDate: 13-16 May\, 2021\nVenue: HK Cultural Centre\, Grand Theatre\nTickets: $900\, $780\, $620\, $480\, $320\, $180 from Urbtix\nMore info:\nin French with Chinese and English Surtitles\n13-16 May – 7:30pm\n16 May – 2:45pm
URL:https://www.bcmagazine.net/event/carmen/2021-05-15/
LOCATION:HK Cultural Centre\, Grand Theatre\,\, 10 Salisbury Road\, Tsim Sha Tsui\, Hong Kong
CATEGORIES:2021,Concert,Music,Opera,Performing Arts
ATTACH;FMTTYPE=image/jpeg:https://www.bcmagazine.net/wp-content/uploads/1917/08/opera-hong-kong-Carmen-2021.jpeg
GEO:22.294318;114.171708
X-APPLE-STRUCTURED-LOCATION;VALUE=URI;X-ADDRESS=HK Cultural Centre Grand Theatre 10 Salisbury Road Tsim Sha Tsui Hong Kong;X-APPLE-RADIUS=500;X-TITLE=10 Salisbury Road:geo:114.171708,22.294318
END:VEVENT
BEGIN:VEVENT
DTSTART;TZID=Asia/Hong_Kong:20210515T194500
DTEND;TZID=Asia/Hong_Kong:20210515T194500
DTSTAMP:20260425T223827
CREATED:19170810T093057Z
LAST-MODIFIED:20210407T041725Z
UID:10003216-1621107900-1621107900@www.bcmagazine.net
SUMMARY:La Traviata - Postponed
DESCRIPTION:La Traviata\nOpera Hong Kong\, Opéra de Monte-Carlo\, Opéra-Théâtre de Saint-Étienne\nDate: 12-16 May\, 2021\nVenue: HK Cultural Centre\, Grand Theatre\nTickets: tbc from Urbtix\nMore info:\nIn Italian with Chinese and English surtitles\n12-15 May – 7:45pm\n16 May – 3pm
URL:https://www.bcmagazine.net/event/la-traviata-16-05-2021/2021-05-15/
LOCATION:HK Cultural Centre\, Grand Theatre\,\, 10 Salisbury Road\, Tsim Sha Tsui\, Hong Kong
CATEGORIES:2021,Cancelled,Concert,Music,Opera,Performing Arts
ATTACH;FMTTYPE=image/jpeg:https://www.bcmagazine.net/wp-content/uploads/1917/08/LaTraviata-1000x460_2.jpg
GEO:22.294318;114.171708
X-APPLE-STRUCTURED-LOCATION;VALUE=URI;X-ADDRESS=HK Cultural Centre Grand Theatre 10 Salisbury Road Tsim Sha Tsui Hong Kong;X-APPLE-RADIUS=500;X-TITLE=10 Salisbury Road:geo:114.171708,22.294318
END:VEVENT
BEGIN:VEVENT
DTSTART;TZID=Asia/Hong_Kong:20210516T144500
DTEND;TZID=Asia/Hong_Kong:20210516T144500
DTSTAMP:20260425T223827
CREATED:19170810T093057Z
LAST-MODIFIED:20210407T041320Z
UID:10003222-1621176300-1621176300@www.bcmagazine.net
SUMMARY:Carmen
DESCRIPTION:Bizet’s Carmen\nOpera Hong Kong\nDate: 13-16 May\, 2021\nVenue: HK Cultural Centre\, Grand Theatre\nTickets: $900\, $780\, $620\, $480\, $320\, $180 from Urbtix\nMore info:\nin French with Chinese and English Surtitles\n13-16 May – 7:30pm\n16 May – 2:45pm
URL:https://www.bcmagazine.net/event/carmen/2021-05-16/1/
LOCATION:HK Cultural Centre\, Grand Theatre\,\, 10 Salisbury Road\, Tsim Sha Tsui\, Hong Kong
CATEGORIES:2021,Concert,Music,Opera,Performing Arts
ATTACH;FMTTYPE=image/jpeg:https://www.bcmagazine.net/wp-content/uploads/1917/08/opera-hong-kong-Carmen-2021.jpeg
GEO:22.294318;114.171708
X-APPLE-STRUCTURED-LOCATION;VALUE=URI;X-ADDRESS=HK Cultural Centre Grand Theatre 10 Salisbury Road Tsim Sha Tsui Hong Kong;X-APPLE-RADIUS=500;X-TITLE=10 Salisbury Road:geo:114.171708,22.294318
END:VEVENT
BEGIN:VEVENT
DTSTART;TZID=Asia/Hong_Kong:20210516T193000
DTEND;TZID=Asia/Hong_Kong:20210516T193000
DTSTAMP:20260425T223827
CREATED:19170810T093057Z
LAST-MODIFIED:20210407T041320Z
UID:10003223-1621193400-1621193400@www.bcmagazine.net
SUMMARY:Carmen
DESCRIPTION:Bizet’s Carmen\nOpera Hong Kong\nDate: 13-16 May\, 2021\nVenue: HK Cultural Centre\, Grand Theatre\nTickets: $900\, $780\, $620\, $480\, $320\, $180 from Urbtix\nMore info:\nin French with Chinese and English Surtitles\n13-16 May – 7:30pm\n16 May – 2:45pm
URL:https://www.bcmagazine.net/event/carmen/2021-05-16/2/
LOCATION:HK Cultural Centre\, Grand Theatre\,\, 10 Salisbury Road\, Tsim Sha Tsui\, Hong Kong
CATEGORIES:2021,Concert,Music,Opera,Performing Arts
ATTACH;FMTTYPE=image/jpeg:https://www.bcmagazine.net/wp-content/uploads/1917/08/opera-hong-kong-Carmen-2021.jpeg
GEO:22.294318;114.171708
X-APPLE-STRUCTURED-LOCATION;VALUE=URI;X-ADDRESS=HK Cultural Centre Grand Theatre 10 Salisbury Road Tsim Sha Tsui Hong Kong;X-APPLE-RADIUS=500;X-TITLE=10 Salisbury Road:geo:114.171708,22.294318
END:VEVENT
BEGIN:VEVENT
DTSTART;TZID=Asia/Hong_Kong:20210516T194500
DTEND;TZID=Asia/Hong_Kong:20210516T194500
DTSTAMP:20260425T223827
CREATED:19170810T093057Z
LAST-MODIFIED:20210407T041725Z
UID:10003217-1621194300-1621194300@www.bcmagazine.net
SUMMARY:La Traviata - Postponed
DESCRIPTION:La Traviata\nOpera Hong Kong\, Opéra de Monte-Carlo\, Opéra-Théâtre de Saint-Étienne\nDate: 12-16 May\, 2021\nVenue: HK Cultural Centre\, Grand Theatre\nTickets: tbc from Urbtix\nMore info:\nIn Italian with Chinese and English surtitles\n12-15 May – 7:45pm\n16 May – 3pm
URL:https://www.bcmagazine.net/event/la-traviata-16-05-2021/2021-05-16/
LOCATION:HK Cultural Centre\, Grand Theatre\,\, 10 Salisbury Road\, Tsim Sha Tsui\, Hong Kong
CATEGORIES:2021,Cancelled,Concert,Music,Opera,Performing Arts
ATTACH;FMTTYPE=image/jpeg:https://www.bcmagazine.net/wp-content/uploads/1917/08/LaTraviata-1000x460_2.jpg
GEO:22.294318;114.171708
X-APPLE-STRUCTURED-LOCATION;VALUE=URI;X-ADDRESS=HK Cultural Centre Grand Theatre 10 Salisbury Road Tsim Sha Tsui Hong Kong;X-APPLE-RADIUS=500;X-TITLE=10 Salisbury Road:geo:114.171708,22.294318
END:VEVENT
END:VCALENDAR