BEGIN:VCALENDAR
VERSION:2.0
PRODID:-//bc magazine - ECPv6.15.20//NONSGML v1.0//EN
CALSCALE:GREGORIAN
METHOD:PUBLISH
X-WR-CALNAME:bc magazine
X-ORIGINAL-URL:https://www.bcmagazine.net
X-WR-CALDESC:Events for bc magazine
REFRESH-INTERVAL;VALUE=DURATION:PT1H
X-Robots-Tag:noindex
X-PUBLISHED-TTL:PT1H
BEGIN:VTIMEZONE
TZID:Asia/Hong_Kong
BEGIN:STANDARD
TZOFFSETFROM:+0800
TZOFFSETTO:+0800
TZNAME:HKT
DTSTART:20200101T000000
END:STANDARD
END:VTIMEZONE
BEGIN:VEVENT
DTSTART;TZID=Asia/Hong_Kong:20210917T200000
DTEND;TZID=Asia/Hong_Kong:20210917T200000
DTSTAMP:20260422T142615
CREATED:19170810T093057Z
LAST-MODIFIED:20210825T033206Z
UID:10003234-1631908800-1631908800@www.bcmagazine.net
SUMMARY:Mirage
DESCRIPTION:Mirage\nHoichiu\, Patrick Ng\nDate: 17-19 September\, 2021\nVenue: HK Cultural Centre\, Studio Theatre\nTickets: $260\, $200 from Urbtix\nMore info:\nSand painting and live music
URL:https://www.bcmagazine.net/event/mirage/2021-09-17/
LOCATION:HK Cultural Centre\, Studio Theatre\, 10 Salisbury Road\, Tsim Sha Tsui\, Hong Kong
CATEGORIES:2021,Concert,Music,Opera,Performing Arts
END:VEVENT
BEGIN:VEVENT
DTSTART;TZID=Asia/Hong_Kong:20210918T150000
DTEND;TZID=Asia/Hong_Kong:20210918T150000
DTSTAMP:20260422T142615
CREATED:19170810T093057Z
LAST-MODIFIED:20210825T033206Z
UID:10003235-1631977200-1631977200@www.bcmagazine.net
SUMMARY:Mirage
DESCRIPTION:Mirage\nHoichiu\, Patrick Ng\nDate: 17-19 September\, 2021\nVenue: HK Cultural Centre\, Studio Theatre\nTickets: $260\, $200 from Urbtix\nMore info:\nSand painting and live music
URL:https://www.bcmagazine.net/event/mirage/2021-09-18/1/
LOCATION:HK Cultural Centre\, Studio Theatre\, 10 Salisbury Road\, Tsim Sha Tsui\, Hong Kong
CATEGORIES:2021,Concert,Music,Opera,Performing Arts
END:VEVENT
BEGIN:VEVENT
DTSTART;TZID=Asia/Hong_Kong:20210918T200000
DTEND;TZID=Asia/Hong_Kong:20210918T200000
DTSTAMP:20260422T142615
CREATED:19170810T093057Z
LAST-MODIFIED:20210825T033206Z
UID:10003236-1631995200-1631995200@www.bcmagazine.net
SUMMARY:Mirage
DESCRIPTION:Mirage\nHoichiu\, Patrick Ng\nDate: 17-19 September\, 2021\nVenue: HK Cultural Centre\, Studio Theatre\nTickets: $260\, $200 from Urbtix\nMore info:\nSand painting and live music
URL:https://www.bcmagazine.net/event/mirage/2021-09-18/2/
LOCATION:HK Cultural Centre\, Studio Theatre\, 10 Salisbury Road\, Tsim Sha Tsui\, Hong Kong
CATEGORIES:2021,Concert,Music,Opera,Performing Arts
END:VEVENT
BEGIN:VEVENT
DTSTART;TZID=Asia/Hong_Kong:20210919T150000
DTEND;TZID=Asia/Hong_Kong:20210919T150000
DTSTAMP:20260422T142615
CREATED:19170810T093057Z
LAST-MODIFIED:20210825T033206Z
UID:10003237-1632063600-1632063600@www.bcmagazine.net
SUMMARY:Mirage
DESCRIPTION:Mirage\nHoichiu\, Patrick Ng\nDate: 17-19 September\, 2021\nVenue: HK Cultural Centre\, Studio Theatre\nTickets: $260\, $200 from Urbtix\nMore info:\nSand painting and live music
URL:https://www.bcmagazine.net/event/mirage/2021-09-19/
LOCATION:HK Cultural Centre\, Studio Theatre\, 10 Salisbury Road\, Tsim Sha Tsui\, Hong Kong
CATEGORIES:2021,Concert,Music,Opera,Performing Arts
END:VEVENT
BEGIN:VEVENT
DTSTART;TZID=Asia/Hong_Kong:20210924T194500
DTEND;TZID=Asia/Hong_Kong:20210924T194500
DTSTAMP:20260422T142615
CREATED:19170810T093057Z
LAST-MODIFIED:20210826T122040Z
UID:10003238-1632512700-1632512700@www.bcmagazine.net
SUMMARY:Hong Kong Dance Company
DESCRIPTION:Waiting Heart\nHong Kong Dance Company\nDate: 24-26 September\, 2021\nVenue: HK Cultural Centre\, Studio Theatre\nTickets: $280\, $220 from Urbtix
URL:https://www.bcmagazine.net/event/hong-kong-dance-company/2021-09-24/
LOCATION:HK Cultural Centre\, Studio Theatre\, 10 Salisbury Road\, Tsim Sha Tsui\, Hong Kong
CATEGORIES:2021,Chinese opera,Dance,Music,Opera,Performing Arts
ATTACH;FMTTYPE=image/jpeg:https://www.bcmagazine.net/wp-content/uploads/2021/08/waiting-heart-2021.jpeg
END:VEVENT
BEGIN:VEVENT
DTSTART;TZID=Asia/Hong_Kong:20210925T150000
DTEND;TZID=Asia/Hong_Kong:20210926T150000
DTSTAMP:20260422T142615
CREATED:20230114T163019Z
LAST-MODIFIED:20230114T163019Z
UID:10003241-1632582000-1632668400@www.bcmagazine.net
SUMMARY:Hong Kong Dance Company
DESCRIPTION:Waiting Heart\nHong Kong Dance Company\nDate: 24-26 September\, 2021\nVenue: HK Cultural Centre\, Studio Theatre\nTickets: $280\, $220 from Urbtix
URL:https://www.bcmagazine.net/event/hong-kong-dance-company/2021-09-25/
LOCATION:HK Cultural Centre\, Studio Theatre\, 10 Salisbury Road\, Tsim Sha Tsui\, Hong Kong
CATEGORIES:2021,Chinese opera,Dance,Music,Opera,Performing Arts
ATTACH;FMTTYPE=image/jpeg:https://www.bcmagazine.net/wp-content/uploads/2021/08/waiting-heart-2021.jpeg
END:VEVENT
BEGIN:VEVENT
DTSTART;TZID=Asia/Hong_Kong:20210925T194500
DTEND;TZID=Asia/Hong_Kong:20210925T194500
DTSTAMP:20260422T142615
CREATED:19170810T093057Z
LAST-MODIFIED:20210826T122040Z
UID:10003239-1632599100-1632599100@www.bcmagazine.net
SUMMARY:Hong Kong Dance Company
DESCRIPTION:Waiting Heart\nHong Kong Dance Company\nDate: 24-26 September\, 2021\nVenue: HK Cultural Centre\, Studio Theatre\nTickets: $280\, $220 from Urbtix
URL:https://www.bcmagazine.net/event/hong-kong-dance-company/2021-09-25/
LOCATION:HK Cultural Centre\, Studio Theatre\, 10 Salisbury Road\, Tsim Sha Tsui\, Hong Kong
CATEGORIES:2021,Chinese opera,Dance,Music,Opera,Performing Arts
ATTACH;FMTTYPE=image/jpeg:https://www.bcmagazine.net/wp-content/uploads/2021/08/waiting-heart-2021.jpeg
END:VEVENT
BEGIN:VEVENT
DTSTART;TZID=Asia/Hong_Kong:20210926T150000
DTEND;TZID=Asia/Hong_Kong:20210927T150000
DTSTAMP:20260422T142615
CREATED:20230114T163019Z
LAST-MODIFIED:20230114T163019Z
UID:10003242-1632668400-1632754800@www.bcmagazine.net
SUMMARY:Hong Kong Dance Company
DESCRIPTION:Waiting Heart\nHong Kong Dance Company\nDate: 24-26 September\, 2021\nVenue: HK Cultural Centre\, Studio Theatre\nTickets: $280\, $220 from Urbtix
URL:https://www.bcmagazine.net/event/hong-kong-dance-company/2021-09-26/
LOCATION:HK Cultural Centre\, Studio Theatre\, 10 Salisbury Road\, Tsim Sha Tsui\, Hong Kong
CATEGORIES:2021,Chinese opera,Dance,Music,Opera,Performing Arts
ATTACH;FMTTYPE=image/jpeg:https://www.bcmagazine.net/wp-content/uploads/2021/08/waiting-heart-2021.jpeg
END:VEVENT
BEGIN:VEVENT
DTSTART;TZID=Asia/Hong_Kong:20210926T194500
DTEND;TZID=Asia/Hong_Kong:20210926T194500
DTSTAMP:20260422T142615
CREATED:19170810T093057Z
LAST-MODIFIED:20210826T122040Z
UID:10003240-1632685500-1632685500@www.bcmagazine.net
SUMMARY:Hong Kong Dance Company
DESCRIPTION:Waiting Heart\nHong Kong Dance Company\nDate: 24-26 September\, 2021\nVenue: HK Cultural Centre\, Studio Theatre\nTickets: $280\, $220 from Urbtix
URL:https://www.bcmagazine.net/event/hong-kong-dance-company/2021-09-26/
LOCATION:HK Cultural Centre\, Studio Theatre\, 10 Salisbury Road\, Tsim Sha Tsui\, Hong Kong
CATEGORIES:2021,Chinese opera,Dance,Music,Opera,Performing Arts
ATTACH;FMTTYPE=image/jpeg:https://www.bcmagazine.net/wp-content/uploads/2021/08/waiting-heart-2021.jpeg
END:VEVENT
END:VCALENDAR