BEGIN:VCALENDAR
VERSION:2.0
PRODID:-//bc magazine - ECPv6.15.20//NONSGML v1.0//EN
CALSCALE:GREGORIAN
METHOD:PUBLISH
X-WR-CALNAME:bc magazine
X-ORIGINAL-URL:https://www.bcmagazine.net
X-WR-CALDESC:Events for bc magazine
REFRESH-INTERVAL;VALUE=DURATION:PT1H
X-Robots-Tag:noindex
X-PUBLISHED-TTL:PT1H
BEGIN:VTIMEZONE
TZID:Asia/Hong_Kong
BEGIN:STANDARD
TZOFFSETFROM:+0800
TZOFFSETTO:+0800
TZNAME:HKT
DTSTART:20200101T000000
END:STANDARD
END:VTIMEZONE
BEGIN:VEVENT
DTSTART;TZID=Asia/Hong_Kong:20210829T193000
DTEND;TZID=Asia/Hong_Kong:20210829T193000
DTSTAMP:20260422T024913
CREATED:19170810T093057Z
LAST-MODIFIED:20210825T032027Z
UID:10003233-1630265400-1630265400@www.bcmagazine.net
SUMMARY:Opera Hong Kong
DESCRIPTION:I Capuleti e i Montecchi\nOpera Hong Kong\nDate: 7:30pm\, 27 & 29 August\, 2021\nVenue: HK City Hall\, Concert Hall\nTickets: $480\, $380\, $280\, $100 from Urbtix\nMore info:\nIn Italian with Chinese and English surtitles
URL:https://www.bcmagazine.net/event/opera-hong-kong-2/2021-08-29/
LOCATION:HK City Hall\, Concert Hall\,  5 Edinburgh Place\, Central\, Hong Kong
CATEGORIES:2021,Concert,Music,Opera,Performing Arts
ATTACH;FMTTYPE=image/png:https://www.bcmagazine.net/wp-content/uploads/1917/08/I-Capuleti-e-i-Montecchi-2021.png
END:VEVENT
END:VCALENDAR