BEGIN:VCALENDAR
VERSION:2.0
PRODID:-//bc magazine - ECPv6.15.20//NONSGML v1.0//EN
CALSCALE:GREGORIAN
METHOD:PUBLISH
X-WR-CALNAME:bc magazine
X-ORIGINAL-URL:https://www.bcmagazine.net
X-WR-CALDESC:Events for bc magazine
REFRESH-INTERVAL;VALUE=DURATION:PT1H
X-Robots-Tag:noindex
X-PUBLISHED-TTL:PT1H
BEGIN:VTIMEZONE
TZID:Asia/Hong_Kong
BEGIN:STANDARD
TZOFFSETFROM:+0800
TZOFFSETTO:+0800
TZNAME:HKT
DTSTART:20150101T000000
END:STANDARD
END:VTIMEZONE
BEGIN:VEVENT
DTSTART;TZID=Asia/Hong_Kong:20161013T193000
DTEND;TZID=Asia/Hong_Kong:20161013T193000
DTSTAMP:20260424T175736
CREATED:19161011T020717Z
LAST-MODIFIED:20161011T021009Z
UID:10002222-1476387000-1476387000@www.bcmagazine.net
SUMMARY:Otello
DESCRIPTION:Otello\nOpera Hong Kong\nDate: 7:30pm\, 13-16 October\, 2016\nVenue: HK Cultural Centre\, Grand Theatre\nTickets: $800\, $680\, $420\, $300\, $150 from Urbtix
URL:https://www.bcmagazine.net/event/otello-2016/2016-10-13/
LOCATION:HK Cultural Centre\, Grand Theatre\,\, 10 Salisbury Road\, Tsim Sha Tsui\, Hong Kong
CATEGORIES:2016,Music,Opera,Performing Arts
GEO:22.294318;114.171708
X-APPLE-STRUCTURED-LOCATION;VALUE=URI;X-ADDRESS=HK Cultural Centre Grand Theatre 10 Salisbury Road Tsim Sha Tsui Hong Kong;X-APPLE-RADIUS=500;X-TITLE=10 Salisbury Road:geo:114.171708,22.294318
END:VEVENT
BEGIN:VEVENT
DTSTART;TZID=Asia/Hong_Kong:20161014T193000
DTEND;TZID=Asia/Hong_Kong:20161014T193000
DTSTAMP:20260424T175736
CREATED:19161011T020717Z
LAST-MODIFIED:20161011T021009Z
UID:10002223-1476473400-1476473400@www.bcmagazine.net
SUMMARY:Otello
DESCRIPTION:Otello\nOpera Hong Kong\nDate: 7:30pm\, 13-16 October\, 2016\nVenue: HK Cultural Centre\, Grand Theatre\nTickets: $800\, $680\, $420\, $300\, $150 from Urbtix
URL:https://www.bcmagazine.net/event/otello-2016/2016-10-14/
LOCATION:HK Cultural Centre\, Grand Theatre\,\, 10 Salisbury Road\, Tsim Sha Tsui\, Hong Kong
CATEGORIES:2016,Music,Opera,Performing Arts
GEO:22.294318;114.171708
X-APPLE-STRUCTURED-LOCATION;VALUE=URI;X-ADDRESS=HK Cultural Centre Grand Theatre 10 Salisbury Road Tsim Sha Tsui Hong Kong;X-APPLE-RADIUS=500;X-TITLE=10 Salisbury Road:geo:114.171708,22.294318
END:VEVENT
BEGIN:VEVENT
DTSTART;TZID=Asia/Hong_Kong:20161015T193000
DTEND;TZID=Asia/Hong_Kong:20161015T193000
DTSTAMP:20260424T175736
CREATED:19161011T020717Z
LAST-MODIFIED:20161011T021009Z
UID:10002224-1476559800-1476559800@www.bcmagazine.net
SUMMARY:Otello
DESCRIPTION:Otello\nOpera Hong Kong\nDate: 7:30pm\, 13-16 October\, 2016\nVenue: HK Cultural Centre\, Grand Theatre\nTickets: $800\, $680\, $420\, $300\, $150 from Urbtix
URL:https://www.bcmagazine.net/event/otello-2016/2016-10-15/
LOCATION:HK Cultural Centre\, Grand Theatre\,\, 10 Salisbury Road\, Tsim Sha Tsui\, Hong Kong
CATEGORIES:2016,Music,Opera,Performing Arts
GEO:22.294318;114.171708
X-APPLE-STRUCTURED-LOCATION;VALUE=URI;X-ADDRESS=HK Cultural Centre Grand Theatre 10 Salisbury Road Tsim Sha Tsui Hong Kong;X-APPLE-RADIUS=500;X-TITLE=10 Salisbury Road:geo:114.171708,22.294318
END:VEVENT
BEGIN:VEVENT
DTSTART;TZID=Asia/Hong_Kong:20161016T193000
DTEND;TZID=Asia/Hong_Kong:20161016T193000
DTSTAMP:20260424T175736
CREATED:19161011T020717Z
LAST-MODIFIED:20161011T021009Z
UID:10002225-1476646200-1476646200@www.bcmagazine.net
SUMMARY:Otello
DESCRIPTION:Otello\nOpera Hong Kong\nDate: 7:30pm\, 13-16 October\, 2016\nVenue: HK Cultural Centre\, Grand Theatre\nTickets: $800\, $680\, $420\, $300\, $150 from Urbtix
URL:https://www.bcmagazine.net/event/otello-2016/2016-10-16/
LOCATION:HK Cultural Centre\, Grand Theatre\,\, 10 Salisbury Road\, Tsim Sha Tsui\, Hong Kong
CATEGORIES:2016,Music,Opera,Performing Arts
GEO:22.294318;114.171708
X-APPLE-STRUCTURED-LOCATION;VALUE=URI;X-ADDRESS=HK Cultural Centre Grand Theatre 10 Salisbury Road Tsim Sha Tsui Hong Kong;X-APPLE-RADIUS=500;X-TITLE=10 Salisbury Road:geo:114.171708,22.294318
END:VEVENT
END:VCALENDAR