BEGIN:VCALENDAR
VERSION:2.0
PRODID:-//bc magazine - ECPv6.15.20//NONSGML v1.0//EN
CALSCALE:GREGORIAN
METHOD:PUBLISH
X-WR-CALNAME:bc magazine
X-ORIGINAL-URL:https://www.bcmagazine.net
X-WR-CALDESC:Events for bc magazine
REFRESH-INTERVAL;VALUE=DURATION:PT1H
X-Robots-Tag:noindex
X-PUBLISHED-TTL:PT1H
BEGIN:VTIMEZONE
TZID:Asia/Hong_Kong
BEGIN:STANDARD
TZOFFSETFROM:+0800
TZOFFSETTO:+0800
TZNAME:HKT
DTSTART:20200101T000000
END:STANDARD
END:VTIMEZONE
BEGIN:VEVENT
DTSTART;TZID=Asia/Hong_Kong:20210926T150000
DTEND;TZID=Asia/Hong_Kong:20210927T150000
DTSTAMP:20260426T102241
CREATED:20230114T163019Z
LAST-MODIFIED:20230114T163019Z
UID:10003242-1632668400-1632754800@www.bcmagazine.net
SUMMARY:Hong Kong Dance Company
DESCRIPTION:Waiting Heart\nHong Kong Dance Company\nDate: 24-26 September\, 2021\nVenue: HK Cultural Centre\, Studio Theatre\nTickets: $280\, $220 from Urbtix
URL:https://www.bcmagazine.net/event/hong-kong-dance-company/2021-09-26/
LOCATION:HK Cultural Centre\, Studio Theatre\, 10 Salisbury Road\, Tsim Sha Tsui\, Hong Kong
CATEGORIES:2021,Chinese opera,Dance,Music,Opera,Performing Arts
ATTACH;FMTTYPE=image/jpeg:https://www.bcmagazine.net/wp-content/uploads/2021/08/waiting-heart-2021.jpeg
END:VEVENT
END:VCALENDAR