BEGIN:VCALENDAR
VERSION:2.0
PRODID:-//bc magazine - ECPv6.15.20//NONSGML v1.0//EN
CALSCALE:GREGORIAN
METHOD:PUBLISH
X-WR-CALNAME:bc magazine
X-ORIGINAL-URL:https://www.bcmagazine.net
X-WR-CALDESC:Events for bc magazine
REFRESH-INTERVAL;VALUE=DURATION:PT1H
X-Robots-Tag:noindex
X-PUBLISHED-TTL:PT1H
BEGIN:VTIMEZONE
TZID:Asia/Hong_Kong
BEGIN:STANDARD
TZOFFSETFROM:+0800
TZOFFSETTO:+0800
TZNAME:HKT
DTSTART:20240101T000000
END:STANDARD
END:VTIMEZONE
BEGIN:VEVENT
DTSTART;VALUE=DATE:20260227
DTEND;VALUE=DATE:20260331
DTSTAMP:20260424T200729
CREATED:20260120T044512Z
LAST-MODIFIED:20260219T124749Z
UID:10012629-1772150400-1774915199@www.bcmagazine.net
SUMMARY:Hong Kong Arts Festival
DESCRIPTION:54th Hong Kong Arts Festival\nDate: 27 February – 30 March\, 2026\nVenue: Various\nTickets: Urbtix
URL:https://www.bcmagazine.net/event/hong-kong-arts-festival-2026/
CATEGORIES:2026,Ballet,Cantonese drama,Cantonese Opera,Chinese opera,Concert,Cultural Festival,Dance,Music,Opera,Performing Arts,talk,Theatre
ATTACH;FMTTYPE=image/jpeg:https://www.bcmagazine.net/wp-content/uploads/2024/09/HKAF54-2026.jpg
END:VEVENT
BEGIN:VEVENT
DTSTART;TZID=Asia/Hong_Kong:20260220T193000
DTEND;TZID=Asia/Hong_Kong:20260220T193000
DTSTAMP:20260424T200730
CREATED:19220630T004537Z
LAST-MODIFIED:20260220T115515Z
UID:10013079-1771615800-1771615800@www.bcmagazine.net
SUMMARY:Lucid Express
DESCRIPTION:Lucid Express – “Instant Comfort” Album Release Show\nDate: 7:30pm\, 20 February 2026\nVenue: Portal\nTickets: $680\, $580\, $480
URL:https://www.bcmagazine.net/event/lucid-express-hk-2026/
LOCATION:Portal\, 1/F The Burrow\, 212 Choi Hung Road\, San Po Kong\, Hong Kong
CATEGORIES:2026,Concert,Music,Nightlife,Performing Arts
ATTACH;FMTTYPE=image/jpeg:https://www.bcmagazine.net/wp-content/uploads/1922/06/Lucid-Express-HK-2026.jpg
END:VEVENT
BEGIN:VEVENT
DTSTART;TZID=Asia/Hong_Kong:20260219T201500
DTEND;TZID=Asia/Hong_Kong:20260219T201500
DTSTAMP:20260424T200730
CREATED:20251227T053034Z
LAST-MODIFIED:20260219T132412Z
UID:10012694-1771532100-1771532100@www.bcmagazine.net
SUMMARY:Jace Chan
DESCRIPTION:Jace Chan – JACE WORLD\nDate: 8:15pm\, 18-19 February 2026\nVenue: HK Coliseum\nTickets: $1\,480\, $1\,080\, $880\, $580 from Urbtix
URL:https://www.bcmagazine.net/event/jace-chan/2026-02-19/
LOCATION:HK Coliseum\, 9 Cheong Wan Road\, Hung Hom\, Hong Kong
CATEGORIES:2026,Concert,Music,Performing Arts
ATTACH;FMTTYPE=image/webp:https://www.bcmagazine.net/wp-content/uploads/2025/12/jave-world-2026.webp
GEO:22.3014169;114.1820305
X-APPLE-STRUCTURED-LOCATION;VALUE=URI;X-ADDRESS=HK Coliseum 9 Cheong Wan Road Hung Hom Hong Kong;X-APPLE-RADIUS=500;X-TITLE=9 Cheong Wan Road:geo:114.1820305,22.3014169
END:VEVENT
BEGIN:VEVENT
DTSTART;TZID=Asia/Hong_Kong:20260218T201500
DTEND;TZID=Asia/Hong_Kong:20260218T201500
DTSTAMP:20260424T200730
CREATED:20251227T053034Z
LAST-MODIFIED:20260219T132412Z
UID:10012693-1771445700-1771445700@www.bcmagazine.net
SUMMARY:Jace Chan
DESCRIPTION:Jace Chan – JACE WORLD\nDate: 8:15pm\, 18-19 February 2026\nVenue: HK Coliseum\nTickets: $1\,480\, $1\,080\, $880\, $580 from Urbtix
URL:https://www.bcmagazine.net/event/jace-chan/2026-02-18/
LOCATION:HK Coliseum\, 9 Cheong Wan Road\, Hung Hom\, Hong Kong
CATEGORIES:2026,Concert,Music,Performing Arts
ATTACH;FMTTYPE=image/webp:https://www.bcmagazine.net/wp-content/uploads/2025/12/jave-world-2026.webp
GEO:22.3014169;114.1820305
X-APPLE-STRUCTURED-LOCATION;VALUE=URI;X-ADDRESS=HK Coliseum 9 Cheong Wan Road Hung Hom Hong Kong;X-APPLE-RADIUS=500;X-TITLE=9 Cheong Wan Road:geo:114.1820305,22.3014169
END:VEVENT
BEGIN:VEVENT
DTSTART;TZID=Asia/Hong_Kong:20260217T200000
DTEND;TZID=Asia/Hong_Kong:20260217T200000
DTSTAMP:20260424T200730
CREATED:20260201T040819Z
LAST-MODIFIED:20260211T110438Z
UID:10012621-1771358400-1771358400@www.bcmagazine.net
SUMMARY:Chinese New Year Night Parade
DESCRIPTION:Chinese New Year Night Parade\nDate: 8pm\, 17 February\, 2026\nVenue: Tsim Sha Tsui\nTickets: Free
URL:https://www.bcmagazine.net/event/chinese-new-year-night-parade-2026/
LOCATION:Tsim Sha Tsui Promenade\, Clock Tower\, Tsim Sha Tsui\, Hong Kong
CATEGORIES:2026,Cultural Festival,Dance,Free,Lifestyle,Nightlife,Performing Arts
ATTACH;FMTTYPE=image/jpeg:https://www.bcmagazine.net/wp-content/uploads/2025/01/CNYP-floats.jpg
END:VEVENT
BEGIN:VEVENT
DTSTART;TZID=Asia/Hong_Kong:20260207T180000
DTEND;TZID=Asia/Hong_Kong:20260207T180000
DTSTAMP:20260424T200730
CREATED:20260129T044212Z
LAST-MODIFIED:20260201T101727Z
UID:10012609-1770487200-1770487200@www.bcmagazine.net
SUMMARY:Tsunko Fan Meet
DESCRIPTION:Tsunko Fan Meet\nDate: 6pm\, 7 February 2026\nVenue: Mom Livehouse\nTickets: $860\, $650\, $220
URL:https://www.bcmagazine.net/event/tsunko-fan-meet-hk-2026/
LOCATION:MOM Livehouse\, B39 Seven Seas Shopping Centre\, 117-121 Kings Road\, North Point\, Hong Kong
CATEGORIES:2026,Concert,Music,Performing Arts
ATTACH;FMTTYPE=image/png:https://www.bcmagazine.net/wp-content/uploads/2025/12/Tsunko-2026-HK.png
GEO:22.2884683;114.192803
X-APPLE-STRUCTURED-LOCATION;VALUE=URI;X-ADDRESS=MOM Livehouse B39 Seven Seas Shopping Centre 117-121 Kings Road North Point Hong Kong;X-APPLE-RADIUS=500;X-TITLE=B39 Seven Seas Shopping Centre\, 117-121 Kings Road:geo:114.192803,22.2884683
END:VEVENT
BEGIN:VEVENT
DTSTART;TZID=Asia/Hong_Kong:20260205T200000
DTEND;TZID=Asia/Hong_Kong:20260205T200000
DTSTAMP:20260424T200730
CREATED:20250917T052749Z
LAST-MODIFIED:20250923T191139Z
UID:10011405-1770321600-1770321600@www.bcmagazine.net
SUMMARY:Calum Scott
DESCRIPTION:Calum Scott – The Avenoir Tour\nDate: 8pm\, 5 February 2026\nVenue: AsiaWorld Expo\, Runway 11\nTickets: $1\,888\, $1\,388\, $788\, $688\, $588 from HKTicketing \n 
URL:https://www.bcmagazine.net/event/calum-scott/
LOCATION:AsiaWorld-Expo\, Runway 11\, Cheong Wing Road\, Chek Lap Kok\, Lantau Island\, Hong Kong
CATEGORIES:2026,Concert,Music,Performing Arts
ATTACH;FMTTYPE=image/jpeg:https://www.bcmagazine.net/wp-content/uploads/2025/06/calum-scott-hong-kong-2026.jpg
GEO:22.3217383;113.9402012
X-APPLE-STRUCTURED-LOCATION;VALUE=URI;X-ADDRESS=AsiaWorld-Expo Runway 11 Cheong Wing Road Chek Lap Kok Lantau Island Hong Kong;X-APPLE-RADIUS=500;X-TITLE=Cheong Wing Road:geo:113.9402012,22.3217383
END:VEVENT
BEGIN:VEVENT
DTSTART;TZID=Asia/Hong_Kong:20260130T200000
DTEND;TZID=Asia/Hong_Kong:20260130T200000
DTSTAMP:20260424T200730
CREATED:20251125T044512Z
LAST-MODIFIED:20251211T103424Z
UID:10012181-1769803200-1769803200@www.bcmagazine.net
SUMMARY:Silent Siren
DESCRIPTION:Silent Siren – Come Back Live 2026\nDate: 8pm\, 30 January 2026\nVenue: Tides\nTickets: $899\, $699
URL:https://www.bcmagazine.net/event/silent-siren-hong-kong-2026/
LOCATION:Tides\, 1F\, The Whampoa Garden\, Hung Hom\, Hong Kong
CATEGORIES:2026,Concert,Music,Performing Arts
ATTACH;FMTTYPE=image/jpeg:https://www.bcmagazine.net/wp-content/uploads/2025/12/Silent-Siren-Hong-Kong-2026.jpg
END:VEVENT
BEGIN:VEVENT
DTSTART;TZID=Asia/Hong_Kong:20260125T183000
DTEND;TZID=Asia/Hong_Kong:20260125T183000
DTSTAMP:20260424T200730
CREATED:20250603T052749Z
LAST-MODIFIED:20250604T133725Z
UID:10011365-1769365800-1769365800@www.bcmagazine.net
SUMMARY:Black Pink
DESCRIPTION:Black Pink\nDate: 24-25 January\, 2026\nVenue: Kai Tak Stadium\nTickets: $3\,499\, $2\,899\, $2\,299\, $1\,899\, $1\,499\, $1\,099\, $899\, $699
URL:https://www.bcmagazine.net/event/102629/2026-01-25/
LOCATION:Kai Tak Stadium\, 38-39 Shing Kai Road\, Kowloon City\, Hong Kong
CATEGORIES:2026,Concert,Music,Performing Arts
ATTACH;FMTTYPE=image/jpeg:https://www.bcmagazine.net/wp-content/uploads/2024/09/Black-Pink-2025.jpg
END:VEVENT
BEGIN:VEVENT
DTSTART;TZID=Asia/Hong_Kong:20260124T183000
DTEND;TZID=Asia/Hong_Kong:20260124T183000
DTSTAMP:20260424T200730
CREATED:20250603T052749Z
LAST-MODIFIED:20250604T133725Z
UID:10011364-1769279400-1769279400@www.bcmagazine.net
SUMMARY:Black Pink
DESCRIPTION:Black Pink\nDate: 24-25 January\, 2026\nVenue: Kai Tak Stadium\nTickets: $3\,499\, $2\,899\, $2\,299\, $1\,899\, $1\,499\, $1\,099\, $899\, $699
URL:https://www.bcmagazine.net/event/102629/2026-01-24/
LOCATION:Kai Tak Stadium\, 38-39 Shing Kai Road\, Kowloon City\, Hong Kong
CATEGORIES:2026,Concert,Music,Performing Arts
ATTACH;FMTTYPE=image/jpeg:https://www.bcmagazine.net/wp-content/uploads/2024/09/Black-Pink-2025.jpg
END:VEVENT
BEGIN:VEVENT
DTSTART;TZID=Asia/Hong_Kong:20260113T200000
DTEND;TZID=Asia/Hong_Kong:20260113T200000
DTSTAMP:20260424T200730
CREATED:20250923T034537Z
LAST-MODIFIED:20250925T123918Z
UID:10011416-1768334400-1768334400@www.bcmagazine.net
SUMMARY:Fly By Midnight
DESCRIPTION:Fly By Midnight – The Fastest Time of Our Lives\nDate: 8pm\, 13 January 2026\nVenue: Kitty Woo Stadium\, Tung Po\nTickets: $1\,199\, $699
URL:https://www.bcmagazine.net/event/fly-by-midnight-hk-2025/
LOCATION:Kitty Woo Stadium\, 2\, Tsat Po Street\, San Po Kong\, Hong Kong
CATEGORIES:2025,Concert,Music,Nightlife,Performing Arts
ATTACH;FMTTYPE=image/jpeg:https://www.bcmagazine.net/wp-content/uploads/2025/09/Fly-by-Midnight-HK-2025.jpg
END:VEVENT
BEGIN:VEVENT
DTSTART;TZID=Asia/Hong_Kong:20251228T193000
DTEND;TZID=Asia/Hong_Kong:20251228T193000
DTSTAMP:20260424T200730
CREATED:20251212T044212Z
LAST-MODIFIED:20251212T072504Z
UID:10012184-1766950200-1766950200@www.bcmagazine.net
SUMMARY:The Martyr
DESCRIPTION:The Martyr – Reunion Concert\nDate: 7:30pm\, 27-28 December 2025\nVenue: HKICC Lee Shau Kee School of Creativity\, Multimedia Theatre\nTickets: $480 from Tickcats
URL:https://www.bcmagazine.net/event/the-martyr-hong-kong-2025/2025-12-28/
LOCATION:HKICC Lee Shau Kee School of Creativity\, Multimedia Theatre\, 135 Junction Road\, Kowloon City\, Hong Kong
CATEGORIES:2025,Concert,Music,Performing Arts
ATTACH;FMTTYPE=image/jpeg:https://www.bcmagazine.net/wp-content/uploads/2025/12/the-martyr-reunion-2025.jpg
GEO:22.333647;114.1870039
X-APPLE-STRUCTURED-LOCATION;VALUE=URI;X-ADDRESS=HKICC Lee Shau Kee School of Creativity Multimedia Theatre 135 Junction Road Kowloon City Hong Kong;X-APPLE-RADIUS=500;X-TITLE=135 Junction Road:geo:114.1870039,22.333647
END:VEVENT
BEGIN:VEVENT
DTSTART;TZID=Asia/Hong_Kong:20251227T193000
DTEND;TZID=Asia/Hong_Kong:20251227T193000
DTSTAMP:20260424T200730
CREATED:20251212T044212Z
LAST-MODIFIED:20251212T072504Z
UID:10012183-1766863800-1766863800@www.bcmagazine.net
SUMMARY:The Martyr
DESCRIPTION:The Martyr – Reunion Concert\nDate: 7:30pm\, 27-28 December 2025\nVenue: HKICC Lee Shau Kee School of Creativity\, Multimedia Theatre\nTickets: $480 from Tickcats
URL:https://www.bcmagazine.net/event/the-martyr-hong-kong-2025/2025-12-27/
LOCATION:HKICC Lee Shau Kee School of Creativity\, Multimedia Theatre\, 135 Junction Road\, Kowloon City\, Hong Kong
CATEGORIES:2025,Concert,Music,Performing Arts
ATTACH;FMTTYPE=image/jpeg:https://www.bcmagazine.net/wp-content/uploads/2025/12/the-martyr-reunion-2025.jpg
GEO:22.333647;114.1870039
X-APPLE-STRUCTURED-LOCATION;VALUE=URI;X-ADDRESS=HKICC Lee Shau Kee School of Creativity Multimedia Theatre 135 Junction Road Kowloon City Hong Kong;X-APPLE-RADIUS=500;X-TITLE=135 Junction Road:geo:114.1870039,22.333647
END:VEVENT
BEGIN:VEVENT
DTSTART;TZID=Asia/Hong_Kong:20251222T193000
DTEND;TZID=Asia/Hong_Kong:20251222T193000
DTSTAMP:20260424T200730
CREATED:20251209T044212Z
LAST-MODIFIED:20251212T074033Z
UID:10012185-1766431800-1766431800@www.bcmagazine.net
SUMMARY:Babychair
DESCRIPTION:Babychair Asia Tour 2025\nDate: 7:30pm\, 22 December 2025\nVenue: Mom Livehouse\nTickets: $480 from Tickcats
URL:https://www.bcmagazine.net/event/babychair-hong-kong-2025/
LOCATION:MOM Livehouse\, B39 Seven Seas Shopping Centre\, 117-121 Kings Road\, North Point\, Hong Kong
CATEGORIES:2025,Concert,Music,Performing Arts
ATTACH;FMTTYPE=image/png:https://www.bcmagazine.net/wp-content/uploads/2025/12/BabyChair-Hong-Kong-2025.png
GEO:22.2884683;114.192803
X-APPLE-STRUCTURED-LOCATION;VALUE=URI;X-ADDRESS=MOM Livehouse B39 Seven Seas Shopping Centre 117-121 Kings Road North Point Hong Kong;X-APPLE-RADIUS=500;X-TITLE=B39 Seven Seas Shopping Centre\, 117-121 Kings Road:geo:114.192803,22.2884683
END:VEVENT
BEGIN:VEVENT
DTSTART;VALUE=DATE:20251222
DTEND;VALUE=DATE:20260302
DTSTAMP:20260424T200730
CREATED:20251207T072433Z
LAST-MODIFIED:20251210T084849Z
UID:10012178-1766361600-1772409599@www.bcmagazine.net
SUMMARY:Christmas Carnival
DESCRIPTION:Christmas Carnival\nDate: 22 December 2025 – 1 March 2026\nVenue: Central Harbourfront\nTickets: $160\, $150\, $140
URL:https://www.bcmagazine.net/event/christmas-carnival-2026/
LOCATION:Central Harbourfront\,  9 Lung Wo Road\, Central\, Hong Kong
CATEGORIES:2025,2026,Music,Nightlife,Other,Performing Arts
ATTACH;FMTTYPE=image/jpeg:https://www.bcmagazine.net/wp-content/uploads/1918/11/carnival-2019.jpg
GEO:22.2826223;114.164346
X-APPLE-STRUCTURED-LOCATION;VALUE=URI;X-ADDRESS=Central Harbourfront  9 Lung Wo Road Central Hong Kong;X-APPLE-RADIUS=500;X-TITLE=9 Lung Wo Road:geo:114.164346,22.2826223
END:VEVENT
BEGIN:VEVENT
DTSTART;TZID=Asia/Hong_Kong:20251221T200000
DTEND;TZID=Asia/Hong_Kong:20251221T200000
DTSTAMP:20260424T200730
CREATED:20250909T120802Z
LAST-MODIFIED:20250910T211948Z
UID:10011401-1766347200-1766347200@www.bcmagazine.net
SUMMARY:ZEROBASEONE
DESCRIPTION:ZEROBASEONE – Here and Now\nDate: 20-21 December 2025\nVenue: Kai Tak Arena\nTickets: $1\,999\, $1\,899\, $1\,699\, $1\,199\, $899
URL:https://www.bcmagazine.net/event/zerobaseone/2025-12-21/
LOCATION:Kai Tak Arena\, Kai Tak Sports Park\, Hong Kong
CATEGORIES:2025,Concert,Music,Performing Arts
ATTACH;FMTTYPE=image/jpeg:https://www.bcmagazine.net/wp-content/uploads/2025/08/ZEROBASEONE-Hong-Kong-2025.jpg
END:VEVENT
BEGIN:VEVENT
DTSTART;TZID=Asia/Hong_Kong:20251220T180000
DTEND;TZID=Asia/Hong_Kong:20251220T180000
DTSTAMP:20260424T200730
CREATED:20250909T120802Z
LAST-MODIFIED:20250910T211948Z
UID:10011400-1766253600-1766253600@www.bcmagazine.net
SUMMARY:ZEROBASEONE
DESCRIPTION:ZEROBASEONE – Here and Now\nDate: 20-21 December 2025\nVenue: Kai Tak Arena\nTickets: $1\,999\, $1\,899\, $1\,699\, $1\,199\, $899
URL:https://www.bcmagazine.net/event/zerobaseone/2025-12-20/
LOCATION:Kai Tak Arena\, Kai Tak Sports Park\, Hong Kong
CATEGORIES:2025,Concert,Music,Performing Arts
ATTACH;FMTTYPE=image/jpeg:https://www.bcmagazine.net/wp-content/uploads/2025/08/ZEROBASEONE-Hong-Kong-2025.jpg
END:VEVENT
BEGIN:VEVENT
DTSTART;TZID=Asia/Hong_Kong:20251219T200000
DTEND;TZID=Asia/Hong_Kong:20251219T200000
DTSTAMP:20260424T200730
CREATED:20251210T044212Z
LAST-MODIFIED:20251212T074557Z
UID:10012187-1766174400-1766174400@www.bcmagazine.net
SUMMARY:Yonlapa
DESCRIPTION:Yonlapa\nDate: 8pm\, 19 December 2025\nVenue: Mom Livehouse\nTickets: $300 from Tickcats
URL:https://www.bcmagazine.net/event/yonlapa-hong-kong-2025/
LOCATION:MOM Livehouse\, B39 Seven Seas Shopping Centre\, 117-121 Kings Road\, North Point\, Hong Kong
CATEGORIES:2025,Concert,Music,Performing Arts
ATTACH;FMTTYPE=image/jpeg:https://www.bcmagazine.net/wp-content/uploads/2025/12/Yonlapa-Hong-Kong-2025.jpg
GEO:22.2884683;114.192803
X-APPLE-STRUCTURED-LOCATION;VALUE=URI;X-ADDRESS=MOM Livehouse B39 Seven Seas Shopping Centre 117-121 Kings Road North Point Hong Kong;X-APPLE-RADIUS=500;X-TITLE=B39 Seven Seas Shopping Centre\, 117-121 Kings Road:geo:114.192803,22.2884683
END:VEVENT
BEGIN:VEVENT
DTSTART;TZID=Asia/Hong_Kong:20251215T200000
DTEND;TZID=Asia/Hong_Kong:20251215T200000
DTSTAMP:20260424T200730
CREATED:20250918T034537Z
LAST-MODIFIED:20250925T111236Z
UID:10011409-1765828800-1765828800@www.bcmagazine.net
SUMMARY:Black Country\, New Road
DESCRIPTION:Black Country\, New Road\nDate: 8pm\, 15 December 2025\nVenue: The Box\, Freespace\, WestK\nTickets: $490
URL:https://www.bcmagazine.net/event/black-country-new-road-2025/
LOCATION:West Kowloon Cultural District\, Freespace\, The Box\, West Kowloon\, Hong Kong
CATEGORIES:2025,Concert,Music,Nightlife,Performing Arts
ATTACH;FMTTYPE=image/jpeg:https://www.bcmagazine.net/wp-content/uploads/2025/09/Black-Country-New-Road-2025-HK.jpeg
END:VEVENT
BEGIN:VEVENT
DTSTART;TZID=Asia/Hong_Kong:20251213T200000
DTEND;TZID=Asia/Hong_Kong:20251213T200000
DTSTAMP:20260424T200730
CREATED:20251112T024537Z
LAST-MODIFIED:20251113T135834Z
UID:10011794-1765656000-1765656000@www.bcmagazine.net
SUMMARY:Chestnut Bakery
DESCRIPTION:Chestnut Bakery Winter Adventure 2025 Hong Kong\nDate: 8pm\, 13 December 2025\nVenue: MOM Livehouse\nTickets: $380 tickets here
URL:https://www.bcmagazine.net/event/chestnut-bakery-hong-kong-2025/
LOCATION:MOM Livehouse\, B39 Seven Seas Shopping Centre\, 117-121 Kings Road\, North Point\, Hong Kong
CATEGORIES:2025,Concert,Music,Nightlife,Performing Arts
ATTACH;FMTTYPE=image/png:https://www.bcmagazine.net/wp-content/uploads/2025/11/chestnut-bakery-hong-kong-2025.png
GEO:22.2884683;114.192803
X-APPLE-STRUCTURED-LOCATION;VALUE=URI;X-ADDRESS=MOM Livehouse B39 Seven Seas Shopping Centre 117-121 Kings Road North Point Hong Kong;X-APPLE-RADIUS=500;X-TITLE=B39 Seven Seas Shopping Centre\, 117-121 Kings Road:geo:114.192803,22.2884683
END:VEVENT
BEGIN:VEVENT
DTSTART;VALUE=DATE:20251206
DTEND;VALUE=DATE:20260115
DTSTAMP:20260424T200730
CREATED:20251106T083217Z
LAST-MODIFIED:20251120T145829Z
UID:10011798-1764979200-1768435199@www.bcmagazine.net
SUMMARY:Counting Frames – David Bordwell
DESCRIPTION:Counting Frames – David Bordwell on Hong Kong Cinema\nDate: 6 December 2025 – 14 January 2026\nVenue: Broadway Cinematheque\, Premier Elements\nTickets: $95
URL:https://www.bcmagazine.net/event/counting-frames-david-bordwell-2025/
LOCATION:Broadway Cinematheque\, Prosperous Garden\, 3 Public Square Street\, Yaumatei\, Hong Kong
CATEGORIES:2025,2026,Cultural Festival,Exhibition,Film,talk
ATTACH;FMTTYPE=image/jpeg:https://www.bcmagazine.net/wp-content/uploads/2025/11/counting-frames-2025.jpg
END:VEVENT
BEGIN:VEVENT
DTSTART;VALUE=DATE:20251205
DTEND;VALUE=DATE:20251208
DTSTAMP:20260424T200730
CREATED:20251125T084202Z
LAST-MODIFIED:20251125T111018Z
UID:10011340-1764892800-1765151999@www.bcmagazine.net
SUMMARY:Clockenflap
DESCRIPTION:Clockenflap\nDate: 5-7 December 2025\nVenue: Central Harbourfront\nTickets: $1\,990\, $1\,280\, $880
URL:https://www.bcmagazine.net/event/clockenflap-2025/
LOCATION:Central Harbourfront\,  9 Lung Wo Road\, Central\, Hong Kong
CATEGORIES:2025,Concert,Music,Performing Arts
ATTACH;FMTTYPE=image/png:https://www.bcmagazine.net/wp-content/uploads/2024/12/clockenflap-2025.png
GEO:22.2826223;114.164346
X-APPLE-STRUCTURED-LOCATION;VALUE=URI;X-ADDRESS=Central Harbourfront  9 Lung Wo Road Central Hong Kong;X-APPLE-RADIUS=500;X-TITLE=9 Lung Wo Road:geo:114.164346,22.2826223
END:VEVENT
BEGIN:VEVENT
DTSTART;VALUE=DATE:20251205
DTEND;VALUE=DATE:20251208
DTSTAMP:20260424T200730
CREATED:20250530T045402Z
LAST-MODIFIED:20250604T125928Z
UID:10011360-1764892800-1765151999@www.bcmagazine.net
SUMMARY:The Nextwave XX25
DESCRIPTION:The Nextwave XX25 – Beach Music Festival\nDate: 5-6 July 2025\nVenue: Tai Pak Beach\, Discovery Bay\nTickets: $988\, $788
URL:https://www.bcmagazine.net/event/the-nextwave-xx25/
LOCATION:Tai Pak Beach\, Discovery Bay\, Hong Kong
CATEGORIES:2025,Concert,Music,Performing Arts
ATTACH;FMTTYPE=image/jpeg:https://www.bcmagazine.net/wp-content/uploads/2024/12/nextwave-beach-festival-2025.jpg
GEO:22.396428;114.109497
END:VEVENT
BEGIN:VEVENT
DTSTART;TZID=Asia/Hong_Kong:20251126T200000
DTEND;TZID=Asia/Hong_Kong:20251126T200000
DTSTAMP:20260424T200730
CREATED:20251102T024537Z
LAST-MODIFIED:20251113T140421Z
UID:10011795-1764187200-1764187200@www.bcmagazine.net
SUMMARY:Zoogazer
DESCRIPTION:Zoogazer\nDate: 8pm\, 26 November 2025\nVenue: MOM Livehouse\nTickets: $380 tickets here
URL:https://www.bcmagazine.net/event/zoogazer-hong-kong-2025/
LOCATION:MOM Livehouse\, B39 Seven Seas Shopping Centre\, 117-121 Kings Road\, North Point\, Hong Kong
CATEGORIES:2025,Concert,Music,Nightlife,Performing Arts
ATTACH;FMTTYPE=image/jpeg:https://www.bcmagazine.net/wp-content/uploads/2025/11/Zoogazer-hong-kong-2025.jpg
GEO:22.2884683;114.192803
X-APPLE-STRUCTURED-LOCATION;VALUE=URI;X-ADDRESS=MOM Livehouse B39 Seven Seas Shopping Centre 117-121 Kings Road North Point Hong Kong;X-APPLE-RADIUS=500;X-TITLE=B39 Seven Seas Shopping Centre\, 117-121 Kings Road:geo:114.192803,22.2884683
END:VEVENT
BEGIN:VEVENT
DTSTART;TZID=Asia/Hong_Kong:20251126T193000
DTEND;TZID=Asia/Hong_Kong:20251126T193000
DTSTAMP:20260424T200730
CREATED:20251013T124220Z
LAST-MODIFIED:20251013T203241Z
UID:10011789-1764185400-1764185400@www.bcmagazine.net
SUMMARY:Symphony Under the Stars
DESCRIPTION:Symphony Under the Stars\nHK Philharmonic Orchestra\nDate: 7:30pm\, 26 November\, 2025\nVenue: Central Harbourfront\nTickets: public registration www.hkphil.org
URL:https://www.bcmagazine.net/event/symphony-under-the-stars-2025/
LOCATION:Central Harbourfront\,  9 Lung Wo Road\, Central\, Hong Kong
CATEGORIES:2025,Concert,Free,Music,Performing Arts,Rugby,Sport
ATTACH;FMTTYPE=image/jpeg:https://www.bcmagazine.net/wp-content/uploads/2023/10/Symphony-Under-the-Stars-hong-kong-2025.jpg
GEO:22.2826223;114.164346
X-APPLE-STRUCTURED-LOCATION;VALUE=URI;X-ADDRESS=Central Harbourfront  9 Lung Wo Road Central Hong Kong;X-APPLE-RADIUS=500;X-TITLE=9 Lung Wo Road:geo:114.164346,22.2826223
END:VEVENT
BEGIN:VEVENT
DTSTART;TZID=Asia/Hong_Kong:20251118T200000
DTEND;TZID=Asia/Hong_Kong:20251118T200000
DTSTAMP:20260424T200730
CREATED:20251109T024537Z
LAST-MODIFIED:20251113T135044Z
UID:10011793-1763496000-1763496000@www.bcmagazine.net
SUMMARY:Iris Mondo
DESCRIPTION:Iris Mondo – Live in Hong Kong 2025\nSupport: Cozy Syndrome\nDate: 8pm\, 18 November 2025\nVenue: MOM Livehouse\nTickets: $420 tickets here
URL:https://www.bcmagazine.net/event/iris-mondo-hong-kong-2025/
LOCATION:MOM Livehouse\, B39 Seven Seas Shopping Centre\, 117-121 Kings Road\, North Point\, Hong Kong
CATEGORIES:2025,Concert,Music,Nightlife,Performing Arts
ATTACH;FMTTYPE=image/jpeg:https://www.bcmagazine.net/wp-content/uploads/2025/07/Iris-Mondo-Hong-Kong-2025.jpeg
GEO:22.2884683;114.192803
X-APPLE-STRUCTURED-LOCATION;VALUE=URI;X-ADDRESS=MOM Livehouse B39 Seven Seas Shopping Centre 117-121 Kings Road North Point Hong Kong;X-APPLE-RADIUS=500;X-TITLE=B39 Seven Seas Shopping Centre\, 117-121 Kings Road:geo:114.192803,22.2884683
END:VEVENT
BEGIN:VEVENT
DTSTART;TZID=Asia/Hong_Kong:20251116T180000
DTEND;TZID=Asia/Hong_Kong:20251116T180000
DTSTAMP:20260424T200730
CREATED:20250919T034537Z
LAST-MODIFIED:20250925T114635Z
UID:10011414-1763316000-1763316000@www.bcmagazine.net
SUMMARY:Mew
DESCRIPTION:Mew – The Farewell Shows\nDate: 8pm\, 16 November 2025\nVenue: The Box\, Freespace\, WestK\nTickets: $650
URL:https://www.bcmagazine.net/event/mew-hk-2025/
LOCATION:West Kowloon Cultural District\, Freespace\, The Box\, West Kowloon\, Hong Kong
CATEGORIES:2025,Concert,Music,Nightlife,Performing Arts
ATTACH;FMTTYPE=image/jpeg:https://www.bcmagazine.net/wp-content/uploads/2025/09/Mew-Hong-Kong-2025.jpg
END:VEVENT
BEGIN:VEVENT
DTSTART;TZID=Asia/Hong_Kong:20251108T200000
DTEND;TZID=Asia/Hong_Kong:20251108T200000
DTSTAMP:20260424T200730
CREATED:20250817T052749Z
LAST-MODIFIED:20250923T191936Z
UID:10011407-1762632000-1762632000@www.bcmagazine.net
SUMMARY:Hatsune Miku
DESCRIPTION:Hatsune Miku\nDate: 8pm\, 8 November 2025\nVenue: AsiaWorld Expo\, Arena\nTickets: $1\,488\, $888\, $688\, $488 from HKTicketing \n 
URL:https://www.bcmagazine.net/event/hatsune-miku-2025/
LOCATION:AsiaWorld-Expo\, Arena\, Cheong Wing Road\, Chek Lap Kok\, Lantau\, Hong Kong
CATEGORIES:2025,Concert,Music,Performing Arts
ATTACH;FMTTYPE=image/jpeg:https://www.bcmagazine.net/wp-content/uploads/2025/09/HATSUNE-MIKU-EXPO-2025.jpg
GEO:22.3217383;113.9402012
X-APPLE-STRUCTURED-LOCATION;VALUE=URI;X-ADDRESS=AsiaWorld-Expo Arena Cheong Wing Road Chek Lap Kok Lantau Hong Kong;X-APPLE-RADIUS=500;X-TITLE=Cheong Wing Road\, Chek Lap Kok:geo:113.9402012,22.3217383
END:VEVENT
BEGIN:VEVENT
DTSTART;TZID=Asia/Hong_Kong:20251022T180000
DTEND;TZID=Asia/Hong_Kong:20251022T180000
DTSTAMP:20260424T200730
CREATED:20250920T034537Z
LAST-MODIFIED:20250925T115648Z
UID:10011415-1761156000-1761156000@www.bcmagazine.net
SUMMARY:Yama
DESCRIPTION:Yama – Asia Tour 2025\nDate: 8pm\, 22 October 2025\nVenue: MacPherson Stadium\nTickets: $1\,599\, $799\, $699
URL:https://www.bcmagazine.net/event/yama-hk-2025/
LOCATION:MacPherson Stadium\, 38 Nelson Street\, Mongkok\, Hong Kong
CATEGORIES:2025,Concert,Music,Nightlife,Performing Arts
ATTACH;FMTTYPE=image/jpeg:https://www.bcmagazine.net/wp-content/uploads/2025/09/Yama-HK-2025.jpg
GEO:22.3188457;114.1728403
X-APPLE-STRUCTURED-LOCATION;VALUE=URI;X-ADDRESS=MacPherson Stadium 38 Nelson Street Mongkok Hong Kong;X-APPLE-RADIUS=500;X-TITLE=38 Nelson Street:geo:114.1728403,22.3188457
END:VEVENT
BEGIN:VEVENT
DTSTART;TZID=Asia/Hong_Kong:20251018T180000
DTEND;TZID=Asia/Hong_Kong:20251018T180000
DTSTAMP:20260424T200730
CREATED:20250907T034537Z
LAST-MODIFIED:20250925T112628Z
UID:10011413-1760810400-1760810400@www.bcmagazine.net
SUMMARY:Novelbright
DESCRIPTION:Novelbright – Winding Road\nDate: 6pm\, 18 October 2025\nVenue: Tides\, 1F\, The Whampoa Garden\, Hung Hom\nTickets: $xx
URL:https://www.bcmagazine.net/event/novelbright-hk-2025/
LOCATION:Tides\, 1F\, The Whampoa Garden\, Hung Hom\, Hong Kong
CATEGORIES:2025,Concert,Music,Nightlife,Performing Arts
ATTACH;FMTTYPE=image/jpeg:https://www.bcmagazine.net/wp-content/uploads/2025/09/Novelbright-HK-2025.jpg
END:VEVENT
END:VCALENDAR