BEGIN:VCALENDAR
VERSION:2.0
PRODID:-//bc magazine - ECPv6.15.20//NONSGML v1.0//EN
CALSCALE:GREGORIAN
METHOD:PUBLISH
X-WR-CALNAME:bc magazine
X-ORIGINAL-URL:https://www.bcmagazine.net
X-WR-CALDESC:Events for bc magazine
REFRESH-INTERVAL;VALUE=DURATION:PT1H
X-Robots-Tag:noindex
X-PUBLISHED-TTL:PT1H
BEGIN:VTIMEZONE
TZID:Asia/Hong_Kong
BEGIN:STANDARD
TZOFFSETFROM:+0800
TZOFFSETTO:+0800
TZNAME:HKT
DTSTART:20180101T000000
END:STANDARD
END:VTIMEZONE
BEGIN:VEVENT
DTSTART;TZID=Asia/Hong_Kong:20190402T201500
DTEND;TZID=Asia/Hong_Kong:20190402T201500
DTSTAMP:20260422T053117
CREATED:20190226T025612Z
LAST-MODIFIED:20190225T174424Z
UID:10006570-1554236100-1554236100@www.bcmagazine.net
SUMMARY:Hyde
DESCRIPTION:Hyde World Tour\, 2019 Asia\nDate: 8:15pm\, 2 April\, 2019\nVenue: Kitec\, Star Hall\nTickets: $1\,480\, $1\,280\, $1\,080\, $780 from HKTicketing
URL:https://www.bcmagazine.net/event/hyde-hk-2019/
LOCATION:KITEC\, Star Hall\, KITEC\, 1 Trademart Drive\, Kowloon Bay\, Hong Kong
CATEGORIES:2019,Concert,Music,Performing Arts
ATTACH;FMTTYPE=image/jpeg:https://www.bcmagazine.net/wp-content/uploads/2019/02/hyde-hk-2019.jpg
GEO:22.3239575;114.2037608
X-APPLE-STRUCTURED-LOCATION;VALUE=URI;X-ADDRESS=KITEC Star Hall KITEC 1 Trademart Drive Kowloon Bay Hong Kong;X-APPLE-RADIUS=500;X-TITLE=KITEC\, 1 Trademart Drive:geo:114.2037608,22.3239575
END:VEVENT
BEGIN:VEVENT
DTSTART;TZID=Asia/Hong_Kong:20190405T193000
DTEND;TZID=Asia/Hong_Kong:20190405T193000
DTSTAMP:20260422T053117
CREATED:19181213T044512Z
LAST-MODIFIED:20190118T101808Z
UID:10004664-1554492600-1554492600@www.bcmagazine.net
SUMMARY:Cantonese Opera
DESCRIPTION:Cantonese Opera\nChina Cultural City\nDate: 7:30pm\, 5-6 April\, 2019\nVenue: HK Cultural Centre\, Grand Theatre\nTickets: $320\, $260\, $200 from Urbtix
URL:https://www.bcmagazine.net/event/china-cultural-city-05-04-2019/
LOCATION:HK Cultural Centre\, Grand Theatre\,\, 10 Salisbury Road\, Tsim Sha Tsui\, Hong Kong
CATEGORIES:2019,Cantonese Opera,Chinese opera,Concert,Music,Performing Arts
GEO:22.294318;114.171708
X-APPLE-STRUCTURED-LOCATION;VALUE=URI;X-ADDRESS=HK Cultural Centre Grand Theatre 10 Salisbury Road Tsim Sha Tsui Hong Kong;X-APPLE-RADIUS=500;X-TITLE=10 Salisbury Road:geo:114.171708,22.294318
END:VEVENT
BEGIN:VEVENT
DTSTART;TZID=Asia/Hong_Kong:20190405T200000
DTEND;TZID=Asia/Hong_Kong:20190405T200000
DTSTAMP:20260422T053117
CREATED:19181213T044512Z
LAST-MODIFIED:20190315T110141Z
UID:10004703-1554494400-1554494400@www.bcmagazine.net
SUMMARY:Five New Old
DESCRIPTION:Five New Old「I WANT to SEE You MORE THAN EVER」\nDate: 8pm\, 5 April\, 2019\nVenue: MOM Livehouse\nTickets: $380\, $280 (advance)
URL:https://www.bcmagazine.net/event/five-new-old-hk-2019/
LOCATION:MOM Livehouse\, B39 Seven Seas Shopping Centre\, 117-121 Kings Road\, North Point\, Hong Kong
CATEGORIES:2019,Concert,Music,Performing Arts
ATTACH;FMTTYPE=image/jpeg:https://www.bcmagazine.net/wp-content/uploads/1918/12/five-new-old-2019.jpg
GEO:22.2884683;114.192803
X-APPLE-STRUCTURED-LOCATION;VALUE=URI;X-ADDRESS=MOM Livehouse B39 Seven Seas Shopping Centre 117-121 Kings Road North Point Hong Kong;X-APPLE-RADIUS=500;X-TITLE=B39 Seven Seas Shopping Centre\, 117-121 Kings Road:geo:114.192803,22.2884683
END:VEVENT
BEGIN:VEVENT
DTSTART;TZID=Asia/Hong_Kong:20190405T200000
DTEND;TZID=Asia/Hong_Kong:20190405T203000
DTSTAMP:20260422T053117
CREATED:19190111T045612Z
LAST-MODIFIED:20190225T073812Z
UID:10003970-1554494400-1554496200@www.bcmagazine.net
SUMMARY:Wayne So Sad + Midnight Ping Pong
DESCRIPTION:Wayne So Sad + Midnight Ping Pong\nDate: 8pm\, 5 April\, 2019\nVenue: This Town Needs (TTN)\nTickets: $280
URL:https://www.bcmagazine.net/event/wayne-so-sad-midnight-ping-pong-hk-2019/
LOCATION:This Town Needs (TTN)\, 1/F Ocean One\, 6 Shung Shun Street\, Yau Tong\, Hong Kong
CATEGORIES:2019,Concert,Music,Performing Arts
ATTACH;FMTTYPE=image/jpeg:https://www.bcmagazine.net/wp-content/uploads/1919/01/Wayne-So-Sad-Midnight-Ping-Pong.jpg
GEO:22.292861;114.23782
X-APPLE-STRUCTURED-LOCATION;VALUE=URI;X-ADDRESS=This Town Needs (TTN) 1/F Ocean One 6 Shung Shun Street Yau Tong Hong Kong;X-APPLE-RADIUS=500;X-TITLE=1/F Ocean One\, 6 Shung Shun Street:geo:114.23782,22.292861
END:VEVENT
BEGIN:VEVENT
DTSTART;TZID=Asia/Hong_Kong:20190406T193000
DTEND;TZID=Asia/Hong_Kong:20190406T193000
DTSTAMP:20260422T053117
CREATED:19181213T044512Z
LAST-MODIFIED:20190118T081021Z
UID:10004609-1554579000-1554579000@www.bcmagazine.net
SUMMARY:Kala\, Fina Night
DESCRIPTION:Kala\, Fina Night\nDate: 7:30pm\, 6 April 2019\nVenue: Kitec\, Music Zone@E-Max\nTickets: $280\, $250 (advance)
URL:https://www.bcmagazine.net/event/kala-fina-night/
LOCATION:KITEC\, Music Zone@E-Max\, KITEC\,‎ 1 Trademart Drive\, Kowloon Bay\, Hong Kong
CATEGORIES:2019,Concert,Music,Performing Arts
ATTACH;FMTTYPE=image/jpeg:https://www.bcmagazine.net/wp-content/uploads/1918/12/kala-fina-night.jpg
GEO:22.3239575;114.2037608
X-APPLE-STRUCTURED-LOCATION;VALUE=URI;X-ADDRESS=KITEC Music Zone@E-Max KITEC‎ 1 Trademart Drive Kowloon Bay Hong Kong;X-APPLE-RADIUS=500;X-TITLE=KITEC\,‎ 1 Trademart Drive:geo:114.2037608,22.3239575
END:VEVENT
BEGIN:VEVENT
DTSTART;TZID=Asia/Hong_Kong:20190406T193000
DTEND;TZID=Asia/Hong_Kong:20190406T193000
DTSTAMP:20260422T053117
CREATED:19181213T044512Z
LAST-MODIFIED:20190118T101842Z
UID:10004665-1554579000-1554579000@www.bcmagazine.net
SUMMARY:Cantonese Opera
DESCRIPTION:Cantonese Opera\nChina Cultural City\nDate: 7:30pm\, 5-6 April\, 2019\nVenue: HK Cultural Centre\, Grand Theatre\nTickets: $320\, $260\, $200 from Urbtix
URL:https://www.bcmagazine.net/event/china-cultural-city-06-04-2019/
LOCATION:HK Cultural Centre\, Grand Theatre\,\, 10 Salisbury Road\, Tsim Sha Tsui\, Hong Kong
CATEGORIES:2019,Cantonese Opera,Chinese opera,Concert,Music,Performing Arts
GEO:22.294318;114.171708
X-APPLE-STRUCTURED-LOCATION;VALUE=URI;X-ADDRESS=HK Cultural Centre Grand Theatre 10 Salisbury Road Tsim Sha Tsui Hong Kong;X-APPLE-RADIUS=500;X-TITLE=10 Salisbury Road:geo:114.171708,22.294318
END:VEVENT
END:VCALENDAR