BEGIN:VCALENDAR
VERSION:2.0
PRODID:-//bc magazine - ECPv6.15.20//NONSGML v1.0//EN
CALSCALE:GREGORIAN
METHOD:PUBLISH
X-WR-CALNAME:bc magazine
X-ORIGINAL-URL:https://www.bcmagazine.net
X-WR-CALDESC:Events for bc magazine
REFRESH-INTERVAL;VALUE=DURATION:PT1H
X-Robots-Tag:noindex
X-PUBLISHED-TTL:PT1H
BEGIN:VTIMEZONE
TZID:Asia/Hong_Kong
BEGIN:STANDARD
TZOFFSETFROM:+0800
TZOFFSETTO:+0800
TZNAME:HKT
DTSTART:20180101T000000
END:STANDARD
END:VTIMEZONE
BEGIN:VEVENT
DTSTART;TZID=Asia/Hong_Kong:20190626T200000
DTEND;TZID=Asia/Hong_Kong:20190626T200000
DTSTAMP:20260422T071414
CREATED:19160919T054156Z
LAST-MODIFIED:20190611T223322Z
UID:10002129-1561579200-1561579200@www.bcmagazine.net
SUMMARY:The KVB
DESCRIPTION:The KVB\nDate: 8pm\, 26 June\, 2019\nVenue: MOM Livehouse\nTickets: $350\, $280 (advance)
URL:https://www.bcmagazine.net/event/the-kvb-hk-2019/
LOCATION:MOM Livehouse\, B39 Seven Seas Shopping Centre\, 117-121 Kings Road\, North Point\, Hong Kong
CATEGORIES:2019,Concert,Music,Performing Arts
ATTACH;FMTTYPE=image/jpeg:https://www.bcmagazine.net/wp-content/uploads/1916/09/kvb-in-hk.jpg
GEO:22.2884683;114.192803
X-APPLE-STRUCTURED-LOCATION;VALUE=URI;X-ADDRESS=MOM Livehouse B39 Seven Seas Shopping Centre 117-121 Kings Road North Point Hong Kong;X-APPLE-RADIUS=500;X-TITLE=B39 Seven Seas Shopping Centre\, 117-121 Kings Road:geo:114.192803,22.2884683
END:VEVENT
BEGIN:VEVENT
DTSTART;TZID=Asia/Hong_Kong:20190627T201500
DTEND;TZID=Asia/Hong_Kong:20190627T201500
DTSTAMP:20260422T071414
CREATED:19181023T145036Z
LAST-MODIFIED:20190627T022334Z
UID:10004535-1561666500-1561666500@www.bcmagazine.net
SUMMARY:Epik High
DESCRIPTION:Epik High\nDate: 8:15pm\, 27 June\, 2019\nVenue: Kitec\, Rotunda 2\nTickets: $1\,180\, $780 from Cityline
URL:https://www.bcmagazine.net/event/epik-high-2019/
LOCATION:KITEC\, Rotunda 2\, Hong Kong
CATEGORIES:2019,Concert,Music,Performing Arts
ATTACH;FMTTYPE=image/png:https://www.bcmagazine.net/wp-content/uploads/1918/10/epik-high-2019.png
GEO:22.396428;114.109497
END:VEVENT
BEGIN:VEVENT
DTSTART;TZID=Asia/Hong_Kong:20190628T200000
DTEND;TZID=Asia/Hong_Kong:20190628T200000
DTSTAMP:20260422T071414
CREATED:19180805T120338Z
LAST-MODIFIED:20180805T121927Z
UID:10004394-1561752000-1561752000@www.bcmagazine.net
SUMMARY:Capturing Images + Chinese Music
DESCRIPTION:Capturing Images + Chinese Music\nHK Chinese Orchestra\nDate: 8pm\, 28 June\, 2019\nVenue: HK Cultural Centre\, Studio Theatre\nTickets: $280\, $220 from Urbtix
URL:https://www.bcmagazine.net/event/capturing-images-chinese-music/
LOCATION:HK Cultural Centre\, Studio Theatre\, 10 Salisbury Road\, Tsim Sha Tsui\, Hong Kong
CATEGORIES:2019,Concert,Music,Performing Arts
END:VEVENT
BEGIN:VEVENT
DTSTART;TZID=Asia/Hong_Kong:20190628T200000
DTEND;TZID=Asia/Hong_Kong:20190628T200000
DTSTAMP:20260422T071414
CREATED:19181023T145036Z
LAST-MODIFIED:20190627T021806Z
UID:10004534-1561752000-1561752000@www.bcmagazine.net
SUMMARY:Bobby Chen
DESCRIPTION:Bobby Chen – 30th Anniversary Concert\nDate: 8pm\, 28 June\, 2019\nVenue: Kitec\, Star Hall\nTickets: $780\, $580\, $380 from HK Ticketing
URL:https://www.bcmagazine.net/event/bobby-chen-2019/
LOCATION:KITEC\, Star Hall\, KITEC\, 1 Trademart Drive\, Kowloon Bay\, Hong Kong
CATEGORIES:2019,Concert,Music,Performing Arts
ATTACH;FMTTYPE=image/jpeg:https://www.bcmagazine.net/wp-content/uploads/1918/10/bobby-chen-hk-2019.jpg
GEO:22.3239575;114.2037608
X-APPLE-STRUCTURED-LOCATION;VALUE=URI;X-ADDRESS=KITEC Star Hall KITEC 1 Trademart Drive Kowloon Bay Hong Kong;X-APPLE-RADIUS=500;X-TITLE=KITEC\, 1 Trademart Drive:geo:114.2037608,22.3239575
END:VEVENT
BEGIN:VEVENT
DTSTART;TZID=Asia/Hong_Kong:20190629T160000
DTEND;TZID=Asia/Hong_Kong:20190629T160000
DTSTAMP:20260422T071414
CREATED:19190608T000835Z
LAST-MODIFIED:20190610T112621Z
UID:10004845-1561824000-1561824000@www.bcmagazine.net
SUMMARY:Lovefest for Stonewall
DESCRIPTION:Lovefest for Stonewall\nDate:4pm\, 29 June\, 2019\nVenue: Eaton Hotel\nTickets: $200\, $150\, $100
URL:https://www.bcmagazine.net/event/lovefest-for-stonewall-2019/
LOCATION:Eaton Hotel\, 380 Nathan Road\, Yau Ma Tei\, Hong Kong
CATEGORIES:2019,Film,LGBT,Lifestyle,Music,Nightlife,Performing Arts
ATTACH;FMTTYPE=image/jpeg:https://www.bcmagazine.net/wp-content/uploads/1919/06/Lovefest-for-Stonewall-2019.jpg
GEO:22.308041;114.1717102
X-APPLE-STRUCTURED-LOCATION;VALUE=URI;X-ADDRESS=Eaton Hotel 380 Nathan Road Yau Ma Tei Hong Kong;X-APPLE-RADIUS=500;X-TITLE=380 Nathan Road:geo:114.1717102,22.308041
END:VEVENT
BEGIN:VEVENT
DTSTART;TZID=Asia/Hong_Kong:20190629T200000
DTEND;TZID=Asia/Hong_Kong:20190629T200000
DTSTAMP:20260422T071414
CREATED:19180805T120338Z
LAST-MODIFIED:20180805T121744Z
UID:10004393-1561838400-1561838400@www.bcmagazine.net
SUMMARY:Ngai Kwun Wa Plays Huqin Classics
DESCRIPTION:Ngai Kwun Wa Plays Huqin Classics\nHK Chinese Orchestra\nDate: 8pm\, 29 June\, 2019\nVenue: HK Cultural Centre\, Studio Theatre\nTickets: $280\, $220 from Urbtix
URL:https://www.bcmagazine.net/event/ngai-kwun-wa-plays-huqin-classics/
LOCATION:HK Cultural Centre\, Studio Theatre\, 10 Salisbury Road\, Tsim Sha Tsui\, Hong Kong
CATEGORIES:2019,Concert,Music,Performing Arts
END:VEVENT
BEGIN:VEVENT
DTSTART;TZID=Asia/Hong_Kong:20190629T200000
DTEND;TZID=Asia/Hong_Kong:20190629T200000
DTSTAMP:20260422T071414
CREATED:19190411T044512Z
LAST-MODIFIED:20190414T002634Z
UID:10004757-1561838400-1561838400@www.bcmagazine.net
SUMMARY:GLIM Spanky
DESCRIPTION:GLIM Spanky – looking for the MAGIC Tour 2019\nDate: 8pm\, 29 June\, 2019\nVenue: This Town Needs (TTN)\nTickets: $480\, $380 (advance)
URL:https://www.bcmagazine.net/event/glim-spanky-hk-2019/
LOCATION:This Town Needs (TTN)\, 1/F Ocean One\, 6 Shung Shun Street\, Yau Tong\, Hong Kong
CATEGORIES:2019,Concert,Music,Performing Arts
ATTACH;FMTTYPE=image/jpeg:https://www.bcmagazine.net/wp-content/uploads/1919/04/GLIM-Spanky-hong-kong-2019.jpg
GEO:22.292861;114.23782
X-APPLE-STRUCTURED-LOCATION;VALUE=URI;X-ADDRESS=This Town Needs (TTN) 1/F Ocean One 6 Shung Shun Street Yau Tong Hong Kong;X-APPLE-RADIUS=500;X-TITLE=1/F Ocean One\, 6 Shung Shun Street:geo:114.23782,22.292861
END:VEVENT
BEGIN:VEVENT
DTSTART;TZID=Asia/Hong_Kong:20190629T200000
DTEND;TZID=Asia/Hong_Kong:20190629T200000
DTSTAMP:20260422T071414
CREATED:19190411T044512Z
LAST-MODIFIED:20190515T181441Z
UID:10004773-1561838400-1561838400@www.bcmagazine.net
SUMMARY:Nancy Sit
DESCRIPTION:Nancy Sit – The Sound of Nancy\nDate: 8pm\, 29 June\, 2019\nVenue: Cotai Arena\nTickets: $980\, $780\, $580\, $380 from Cotai Ticketing
URL:https://www.bcmagazine.net/event/nancy-sit-macau-2019/
LOCATION:Cotai Arena\, Venetian Macao\, Macau
CATEGORIES:2019,Concert,Macau,Music,Performing Arts
ATTACH;FMTTYPE=image/jpeg:https://www.bcmagazine.net/wp-content/uploads/1919/04/nancy-sit-macau-2019.jpg
END:VEVENT
BEGIN:VEVENT
DTSTART;TZID=Asia/Hong_Kong:20190630T143000
DTEND;TZID=Asia/Hong_Kong:20190630T143000
DTSTAMP:20260422T071414
CREATED:20190527T044512Z
LAST-MODIFIED:20190610T115435Z
UID:10006585-1561905000-1561905000@www.bcmagazine.net
SUMMARY:Dark Times Festival 2019
DESCRIPTION:Dark Times Festival 2019\nD O W N E R\, Forget the G\, Faslane\, Maenad & the Ravers\, NOYB\, 王和平 Peace\nDate: 2:30pm\, 30 June\, 2019\nVenue: Macao Contemporary Art Centre – Navy Yard No.2\nTickets: Free
URL:https://www.bcmagazine.net/event/dark-times-festival-2019/
LOCATION:Macao Contemporary Art Centre – Navy Yard No.2\, Rua de S. Tiago da Barra\, Macau
CATEGORIES:2019,Concert,Free,Macau,Music,Performing Arts
ATTACH;FMTTYPE=image/jpeg:https://www.bcmagazine.net/wp-content/uploads/2019/04/Dark-Times-Festival-2019.jpg
END:VEVENT
END:VCALENDAR