BEGIN:VCALENDAR
VERSION:2.0
PRODID:-//bc magazine - ECPv6.15.20//NONSGML v1.0//EN
CALSCALE:GREGORIAN
METHOD:PUBLISH
X-WR-CALNAME:bc magazine
X-ORIGINAL-URL:https://www.bcmagazine.net
X-WR-CALDESC:Events for bc magazine
REFRESH-INTERVAL;VALUE=DURATION:PT1H
X-Robots-Tag:noindex
X-PUBLISHED-TTL:PT1H
BEGIN:VTIMEZONE
TZID:Asia/Hong_Kong
BEGIN:STANDARD
TZOFFSETFROM:+0800
TZOFFSETTO:+0800
TZNAME:HKT
DTSTART:20190101T000000
END:STANDARD
END:VTIMEZONE
BEGIN:VEVENT
DTSTART;TZID=Asia/Hong_Kong:20200711T200000
DTEND;TZID=Asia/Hong_Kong:20200711T200000
DTSTAMP:20260422T184512
CREATED:20200628T020834Z
LAST-MODIFIED:20200629T053755Z
UID:10006626-1594497600-1594497600@www.bcmagazine.net
SUMMARY:Hong Kong Sinfonietta
DESCRIPTION:Colleen Lee plays Beethoven Piano Concerto No 4\nHong Kong Sinfonietta\nDate: 8pm 11 July\, 2020\nVenue: HK City Hall\, Concert Hall\nTickets: $420\, $280\, $160 from Urbtix\nMore info:
URL:https://www.bcmagazine.net/event/hong-kong-sinfonietta-colleen-lee-2020/
LOCATION:HK City Hall\, Concert Hall\,  5 Edinburgh Place\, Central\, Hong Kong
CATEGORIES:2020,Concert,Music,Performing Arts
ATTACH;FMTTYPE=image/png:https://www.bcmagazine.net/wp-content/uploads/1918/05/Hong-Kong-Sinfonietta-250-Beethoven.png
END:VEVENT
END:VCALENDAR