BEGIN:VCALENDAR
VERSION:2.0
PRODID:-//bc magazine - ECPv6.15.20//NONSGML v1.0//EN
CALSCALE:GREGORIAN
METHOD:PUBLISH
X-WR-CALNAME:bc magazine
X-ORIGINAL-URL:https://www.bcmagazine.net
X-WR-CALDESC:Events for bc magazine
REFRESH-INTERVAL;VALUE=DURATION:PT1H
X-Robots-Tag:noindex
X-PUBLISHED-TTL:PT1H
BEGIN:VTIMEZONE
TZID:Asia/Hong_Kong
BEGIN:STANDARD
TZOFFSETFROM:+0800
TZOFFSETTO:+0800
TZNAME:HKT
DTSTART:20190101T000000
END:STANDARD
END:VTIMEZONE
BEGIN:VEVENT
DTSTART;VALUE=DATE:20201125
DTEND;VALUE=DATE:20201216
DTSTAMP:20260424T035635
CREATED:20201102T023057Z
LAST-MODIFIED:20201105T113746Z
UID:10006641-1606262400-1608076799@www.bcmagazine.net
SUMMARY:49th Hong Kong French Film Festival
DESCRIPTION:49th Hong Kong French Film Festival\nDate: 25 November – 15 December\, 2020\nVenue: Various cinema and online\nTickets: various\nMore info:\nwww.hkfrenchfilmfestival.com
URL:https://www.bcmagazine.net/event/49th-hong-kong-french-film-festival/
CATEGORIES:2020,Cultural Festival,Exhibition,Film,Performing Arts
ATTACH;FMTTYPE=image/jpeg:https://www.bcmagazine.net/wp-content/uploads/2020/11/49-french-film-fest-2020.jpg
END:VEVENT
BEGIN:VEVENT
DTSTART;TZID=Asia/Hong_Kong:20201217T193000
DTEND;TZID=Asia/Hong_Kong:20201217T193000
DTSTAMP:20260424T035635
CREATED:19171209T102000Z
LAST-MODIFIED:20201209T103213Z
UID:10003643-1608233400-1608233400@www.bcmagazine.net
SUMMARY:The Nutcracker - Cancelled
DESCRIPTION:The Nutcracker\nHK Ballet\, Hong Kong Sinfonietta\nDate: 17-20\, 22-27 December\, 2020\nVenue: HK Cultural Centre\, Grand Theatre\nTickets: $1\,000\, $680\, $480\, $320\, $180 from Urbtix\nMore info:\n17-20\, 22-27 December\, 2020 – 7:30pm\n19-20\, 25-27 December\, 2020 – 2:30pm
URL:https://www.bcmagazine.net/event/the-nutcracker-2020/2020-12-17/
LOCATION:HK Cultural Centre\, Grand Theatre\,\, 10 Salisbury Road\, Tsim Sha Tsui\, Hong Kong
CATEGORIES:2020,Ballet,Cancelled,Dance,Performing Arts
ATTACH;FMTTYPE=image/jpeg:https://www.bcmagazine.net/wp-content/uploads/1917/07/nutcracker-2020.jpg
GEO:22.294318;114.171708
X-APPLE-STRUCTURED-LOCATION;VALUE=URI;X-ADDRESS=HK Cultural Centre Grand Theatre 10 Salisbury Road Tsim Sha Tsui Hong Kong;X-APPLE-RADIUS=500;X-TITLE=10 Salisbury Road:geo:114.171708,22.294318
END:VEVENT
BEGIN:VEVENT
DTSTART;TZID=Asia/Hong_Kong:20201218T193000
DTEND;TZID=Asia/Hong_Kong:20201218T193000
DTSTAMP:20260424T035635
CREATED:19171209T102000Z
LAST-MODIFIED:20201209T103213Z
UID:10003644-1608319800-1608319800@www.bcmagazine.net
SUMMARY:The Nutcracker - Cancelled
DESCRIPTION:The Nutcracker\nHK Ballet\, Hong Kong Sinfonietta\nDate: 17-20\, 22-27 December\, 2020\nVenue: HK Cultural Centre\, Grand Theatre\nTickets: $1\,000\, $680\, $480\, $320\, $180 from Urbtix\nMore info:\n17-20\, 22-27 December\, 2020 – 7:30pm\n19-20\, 25-27 December\, 2020 – 2:30pm
URL:https://www.bcmagazine.net/event/the-nutcracker-2020/2020-12-18/
LOCATION:HK Cultural Centre\, Grand Theatre\,\, 10 Salisbury Road\, Tsim Sha Tsui\, Hong Kong
CATEGORIES:2020,Ballet,Cancelled,Dance,Performing Arts
ATTACH;FMTTYPE=image/jpeg:https://www.bcmagazine.net/wp-content/uploads/1917/07/nutcracker-2020.jpg
GEO:22.294318;114.171708
X-APPLE-STRUCTURED-LOCATION;VALUE=URI;X-ADDRESS=HK Cultural Centre Grand Theatre 10 Salisbury Road Tsim Sha Tsui Hong Kong;X-APPLE-RADIUS=500;X-TITLE=10 Salisbury Road:geo:114.171708,22.294318
END:VEVENT
BEGIN:VEVENT
DTSTART;TZID=Asia/Hong_Kong:20201219T193000
DTEND;TZID=Asia/Hong_Kong:20201219T193000
DTSTAMP:20260424T035635
CREATED:19171209T102000Z
LAST-MODIFIED:20201209T103213Z
UID:10003645-1608406200-1608406200@www.bcmagazine.net
SUMMARY:The Nutcracker - Cancelled
DESCRIPTION:The Nutcracker\nHK Ballet\, Hong Kong Sinfonietta\nDate: 17-20\, 22-27 December\, 2020\nVenue: HK Cultural Centre\, Grand Theatre\nTickets: $1\,000\, $680\, $480\, $320\, $180 from Urbtix\nMore info:\n17-20\, 22-27 December\, 2020 – 7:30pm\n19-20\, 25-27 December\, 2020 – 2:30pm
URL:https://www.bcmagazine.net/event/the-nutcracker-2020/2020-12-19/
LOCATION:HK Cultural Centre\, Grand Theatre\,\, 10 Salisbury Road\, Tsim Sha Tsui\, Hong Kong
CATEGORIES:2020,Ballet,Cancelled,Dance,Performing Arts
ATTACH;FMTTYPE=image/jpeg:https://www.bcmagazine.net/wp-content/uploads/1917/07/nutcracker-2020.jpg
GEO:22.294318;114.171708
X-APPLE-STRUCTURED-LOCATION;VALUE=URI;X-ADDRESS=HK Cultural Centre Grand Theatre 10 Salisbury Road Tsim Sha Tsui Hong Kong;X-APPLE-RADIUS=500;X-TITLE=10 Salisbury Road:geo:114.171708,22.294318
END:VEVENT
BEGIN:VEVENT
DTSTART;TZID=Asia/Hong_Kong:20201220T193000
DTEND;TZID=Asia/Hong_Kong:20201220T193000
DTSTAMP:20260424T035635
CREATED:19171209T102000Z
LAST-MODIFIED:20201209T103213Z
UID:10003646-1608492600-1608492600@www.bcmagazine.net
SUMMARY:The Nutcracker - Cancelled
DESCRIPTION:The Nutcracker\nHK Ballet\, Hong Kong Sinfonietta\nDate: 17-20\, 22-27 December\, 2020\nVenue: HK Cultural Centre\, Grand Theatre\nTickets: $1\,000\, $680\, $480\, $320\, $180 from Urbtix\nMore info:\n17-20\, 22-27 December\, 2020 – 7:30pm\n19-20\, 25-27 December\, 2020 – 2:30pm
URL:https://www.bcmagazine.net/event/the-nutcracker-2020/2020-12-20/
LOCATION:HK Cultural Centre\, Grand Theatre\,\, 10 Salisbury Road\, Tsim Sha Tsui\, Hong Kong
CATEGORIES:2020,Ballet,Cancelled,Dance,Performing Arts
ATTACH;FMTTYPE=image/jpeg:https://www.bcmagazine.net/wp-content/uploads/1917/07/nutcracker-2020.jpg
GEO:22.294318;114.171708
X-APPLE-STRUCTURED-LOCATION;VALUE=URI;X-ADDRESS=HK Cultural Centre Grand Theatre 10 Salisbury Road Tsim Sha Tsui Hong Kong;X-APPLE-RADIUS=500;X-TITLE=10 Salisbury Road:geo:114.171708,22.294318
END:VEVENT
END:VCALENDAR