BEGIN:VCALENDAR
VERSION:2.0
PRODID:-//bc magazine - ECPv6.15.20//NONSGML v1.0//EN
CALSCALE:GREGORIAN
METHOD:PUBLISH
X-WR-CALNAME:bc magazine
X-ORIGINAL-URL:https://www.bcmagazine.net
X-WR-CALDESC:Events for bc magazine
REFRESH-INTERVAL;VALUE=DURATION:PT1H
X-Robots-Tag:noindex
X-PUBLISHED-TTL:PT1H
BEGIN:VTIMEZONE
TZID:Asia/Hong_Kong
BEGIN:STANDARD
TZOFFSETFROM:+0800
TZOFFSETTO:+0800
TZNAME:HKT
DTSTART:20200101T000000
END:STANDARD
END:VTIMEZONE
BEGIN:VEVENT
DTSTART;VALUE=DATE:20210315
DTEND;VALUE=DATE:20210413
DTSTAMP:20260423T120329
CREATED:20210306T090416Z
LAST-MODIFIED:20210313T161927Z
UID:10006651-1615766400-1618271999@www.bcmagazine.net
SUMMARY:Entertainment Expo
DESCRIPTION:Entertainment Expo comprises a series of events\, including the HKTDC Hong Kong International Film and TV Market (FILMART)\, Hong Kong International Film Festival\, Hong Kong-Asia Film Financing Forum (HAF)\, ifva Festival\, Digital Entertainment Summit\, and the Entertainment Asia Forum. \nEntertainment Expo\nDate: 15 March – 12 April\, 2021\nVenue: various\nTickets: tbc
URL:https://www.bcmagazine.net/event/entertainment-expo-2021/
LOCATION:HK Convention and Exhibition Centre\, 1 Expo Drive\, Wanchai\, Hong Kong
CATEGORIES:2021,Exhibition,Film,Lifestyle,Performing Arts
ATTACH;FMTTYPE=image/jpeg:https://www.bcmagazine.net/wp-content/uploads/2020/04/entertainment-expo-2021.jpeg
END:VEVENT
BEGIN:VEVENT
DTSTART;VALUE=DATE:20210401
DTEND;VALUE=DATE:20210413
DTSTAMP:20260423T120329
CREATED:20210122T063818Z
LAST-MODIFIED:20210129T140704Z
UID:10006649-1617235200-1618271999@www.bcmagazine.net
SUMMARY:45th Hong Kong International Film Festival
DESCRIPTION:45th Hong Kong International Film Festival\nDate: 1-12 April\, 2021\nVenue: various\nTickets: tbc
URL:https://www.bcmagazine.net/event/45th-hong-kong-international-film-festival/2021-04-01/
CATEGORIES:2021,Film,Performing Arts
ATTACH;FMTTYPE=image/jpeg:https://www.bcmagazine.net/wp-content/uploads/1916/06/HKIFF45-Key-Art-700x1000-1.jpg
END:VEVENT
BEGIN:VEVENT
DTSTART;VALUE=DATE:20210414
DTEND;VALUE=DATE:20210424
DTSTAMP:20260423T120329
CREATED:20210327T022813Z
LAST-MODIFIED:20210329T181226Z
UID:10006654-1618358400-1619222399@www.bcmagazine.net
SUMMARY:Art Walk: Before a Passage
DESCRIPTION:Art Walk: Before a Passage\nDate: 14-23 April\, 2021\nVenues: North Point East Pier\nTickets: Free with registration
URL:https://www.bcmagazine.net/event/art-walk-before-a-passage-2021/
LOCATION:North Point East Pier\, North Point\, Hong Kong
CATEGORIES:2021,Cultural Festival,Film,Free,Lifestyle,Performing Arts
ATTACH;FMTTYPE=image/jpeg:https://www.bcmagazine.net/wp-content/uploads/2021/03/Art-Walk-Before-a-Passage-2021.jpg
END:VEVENT
BEGIN:VEVENT
DTSTART;TZID=Asia/Hong_Kong:20210414T180000
DTEND;TZID=Asia/Hong_Kong:20210414T180000
DTSTAMP:20260423T120329
CREATED:19210413T180707Z
LAST-MODIFIED:20210418T175345Z
UID:10005151-1618423200-1618423200@www.bcmagazine.net
SUMMARY:Art Walk: Before a Passage
DESCRIPTION:Art Walk: Before a Passage\nNew Arts Power\nDate: 6pm\, 14-25 April\, 2021\nVenue: North Point (East) Pier\, Upper Deck\nTickets: Free\, register here\nMore info:\nFour sessions daily: 6pm\, 7pm\, 8pm\, 9pm\nNo walk-ins allowed
URL:https://www.bcmagazine.net/event/art-walk-before-a-passage/2021-04-14/
LOCATION:North Point East Pier\, North Point\, Hong Kong
CATEGORIES:2021,Art Gallery,Free,Multimedia,Performing Arts
ATTACH;FMTTYPE=image/jpeg:https://www.bcmagazine.net/wp-content/uploads/2021/04/artwalk-2021.04.jpg
END:VEVENT
BEGIN:VEVENT
DTSTART;TZID=Asia/Hong_Kong:20210415T180000
DTEND;TZID=Asia/Hong_Kong:20210415T180000
DTSTAMP:20260423T120329
CREATED:19210413T180707Z
LAST-MODIFIED:20210418T175345Z
UID:10005152-1618509600-1618509600@www.bcmagazine.net
SUMMARY:Art Walk: Before a Passage
DESCRIPTION:Art Walk: Before a Passage\nNew Arts Power\nDate: 6pm\, 14-25 April\, 2021\nVenue: North Point (East) Pier\, Upper Deck\nTickets: Free\, register here\nMore info:\nFour sessions daily: 6pm\, 7pm\, 8pm\, 9pm\nNo walk-ins allowed
URL:https://www.bcmagazine.net/event/art-walk-before-a-passage/2021-04-15/
LOCATION:North Point East Pier\, North Point\, Hong Kong
CATEGORIES:2021,Art Gallery,Free,Multimedia,Performing Arts
ATTACH;FMTTYPE=image/jpeg:https://www.bcmagazine.net/wp-content/uploads/2021/04/artwalk-2021.04.jpg
END:VEVENT
BEGIN:VEVENT
DTSTART;VALUE=DATE:20210416
DTEND;VALUE=DATE:20210501
DTSTAMP:20260423T120329
CREATED:20210326T112813Z
LAST-MODIFIED:20210326T113833Z
UID:10006653-1618531200-1619827199@www.bcmagazine.net
SUMMARY:European Union Film Festival 2021
DESCRIPTION:European Union Film Festival 2021\nDate: 16-30 April\, 2021\nVenues: Broadway Cinematheque\, AMC Pacific Place\nTickets: $95 www.cinema.com.hk/en/movie/special/21
URL:https://www.bcmagazine.net/event/european-union-film-festival-2021/
CATEGORIES:2021,Cultural Festival,Film,Lifestyle,Performing Arts
ATTACH;FMTTYPE=image/jpeg:https://www.bcmagazine.net/wp-content/uploads/1918/02/EUFF-2021-Poster.jpg
END:VEVENT
BEGIN:VEVENT
DTSTART;TZID=Asia/Hong_Kong:20210416T180000
DTEND;TZID=Asia/Hong_Kong:20210416T180000
DTSTAMP:20260423T120329
CREATED:19210413T180707Z
LAST-MODIFIED:20210418T175345Z
UID:10005153-1618596000-1618596000@www.bcmagazine.net
SUMMARY:Art Walk: Before a Passage
DESCRIPTION:Art Walk: Before a Passage\nNew Arts Power\nDate: 6pm\, 14-25 April\, 2021\nVenue: North Point (East) Pier\, Upper Deck\nTickets: Free\, register here\nMore info:\nFour sessions daily: 6pm\, 7pm\, 8pm\, 9pm\nNo walk-ins allowed
URL:https://www.bcmagazine.net/event/art-walk-before-a-passage/2021-04-16/
LOCATION:North Point East Pier\, North Point\, Hong Kong
CATEGORIES:2021,Art Gallery,Free,Multimedia,Performing Arts
ATTACH;FMTTYPE=image/jpeg:https://www.bcmagazine.net/wp-content/uploads/2021/04/artwalk-2021.04.jpg
END:VEVENT
BEGIN:VEVENT
DTSTART;TZID=Asia/Hong_Kong:20210416T194500
DTEND;TZID=Asia/Hong_Kong:20210416T194500
DTSTAMP:20260423T120329
CREATED:19170810T093057Z
LAST-MODIFIED:20210407T042639Z
UID:10003224-1618602300-1618602300@www.bcmagazine.net
SUMMARY:The Originals (Reimagined)
DESCRIPTION:The Originals (Reimagined)\nHong Kong Musicals in Concert\nDate: 16-18 April\, 2021\nVenue: HK Cultural Centre\, Grand Theatre\nTickets: $480\, $380\, $280\, $180 from Urbtix\nMore info:\nIn Cantonese with Chinese and English surtitles\n16-17 April – 7:45pm\n16 April – 2:45pm
URL:https://www.bcmagazine.net/event/the-originals-reimagined/2021-04-16/
LOCATION:HK Cultural Centre\, Grand Theatre\,\, 10 Salisbury Road\, Tsim Sha Tsui\, Hong Kong
CATEGORIES:2021,Concert,Music,Musical,Performing Arts
GEO:22.294318;114.171708
X-APPLE-STRUCTURED-LOCATION;VALUE=URI;X-ADDRESS=HK Cultural Centre Grand Theatre 10 Salisbury Road Tsim Sha Tsui Hong Kong;X-APPLE-RADIUS=500;X-TITLE=10 Salisbury Road:geo:114.171708,22.294318
END:VEVENT
BEGIN:VEVENT
DTSTART;VALUE=DATE:20210417
DTEND;VALUE=DATE:20210418
DTSTAMP:20260423T120329
CREATED:19210409T085402Z
LAST-MODIFIED:20210504T163327Z
UID:10005117-1618617600-1618703999@www.bcmagazine.net
SUMMARY:HKIFF Cine Fan
DESCRIPTION:HKIFF Cine Fan\nDate: April- July\, 2021\nVenue: K11 Art House\nTickets: $85 from Urbtix
URL:https://www.bcmagazine.net/event/hkiff-cine-fan/2021-04-17/
LOCATION:K11 Art House Cinema\, 10 Salisbury Road\, Tsim Sha Tsui\, Hong Kong
CATEGORIES:2021,Cultural Festival,Film,Performing Arts
ATTACH;FMTTYPE=image/jpeg:https://www.bcmagazine.net/wp-content/uploads/1921/04/cinefan-2021.jpeg
END:VEVENT
BEGIN:VEVENT
DTSTART;TZID=Asia/Hong_Kong:20210417T180000
DTEND;TZID=Asia/Hong_Kong:20210417T180000
DTSTAMP:20260423T120329
CREATED:19210413T180707Z
LAST-MODIFIED:20210418T175345Z
UID:10005154-1618682400-1618682400@www.bcmagazine.net
SUMMARY:Art Walk: Before a Passage
DESCRIPTION:Art Walk: Before a Passage\nNew Arts Power\nDate: 6pm\, 14-25 April\, 2021\nVenue: North Point (East) Pier\, Upper Deck\nTickets: Free\, register here\nMore info:\nFour sessions daily: 6pm\, 7pm\, 8pm\, 9pm\nNo walk-ins allowed
URL:https://www.bcmagazine.net/event/art-walk-before-a-passage/2021-04-17/
LOCATION:North Point East Pier\, North Point\, Hong Kong
CATEGORIES:2021,Art Gallery,Free,Multimedia,Performing Arts
ATTACH;FMTTYPE=image/jpeg:https://www.bcmagazine.net/wp-content/uploads/2021/04/artwalk-2021.04.jpg
END:VEVENT
BEGIN:VEVENT
DTSTART;TZID=Asia/Hong_Kong:20210417T194500
DTEND;TZID=Asia/Hong_Kong:20210417T194500
DTSTAMP:20260423T120329
CREATED:19170810T093057Z
LAST-MODIFIED:20210407T042639Z
UID:10003225-1618688700-1618688700@www.bcmagazine.net
SUMMARY:The Originals (Reimagined)
DESCRIPTION:The Originals (Reimagined)\nHong Kong Musicals in Concert\nDate: 16-18 April\, 2021\nVenue: HK Cultural Centre\, Grand Theatre\nTickets: $480\, $380\, $280\, $180 from Urbtix\nMore info:\nIn Cantonese with Chinese and English surtitles\n16-17 April – 7:45pm\n16 April – 2:45pm
URL:https://www.bcmagazine.net/event/the-originals-reimagined/2021-04-17/
LOCATION:HK Cultural Centre\, Grand Theatre\,\, 10 Salisbury Road\, Tsim Sha Tsui\, Hong Kong
CATEGORIES:2021,Concert,Music,Musical,Performing Arts
GEO:22.294318;114.171708
X-APPLE-STRUCTURED-LOCATION;VALUE=URI;X-ADDRESS=HK Cultural Centre Grand Theatre 10 Salisbury Road Tsim Sha Tsui Hong Kong;X-APPLE-RADIUS=500;X-TITLE=10 Salisbury Road:geo:114.171708,22.294318
END:VEVENT
BEGIN:VEVENT
DTSTART;VALUE=DATE:20210418
DTEND;VALUE=DATE:20210419
DTSTAMP:20260423T120329
CREATED:19210409T085402Z
LAST-MODIFIED:20210504T163327Z
UID:10005118-1618704000-1618790399@www.bcmagazine.net
SUMMARY:HKIFF Cine Fan
DESCRIPTION:HKIFF Cine Fan\nDate: April- July\, 2021\nVenue: K11 Art House\nTickets: $85 from Urbtix
URL:https://www.bcmagazine.net/event/hkiff-cine-fan/2021-04-18/
LOCATION:K11 Art House Cinema\, 10 Salisbury Road\, Tsim Sha Tsui\, Hong Kong
CATEGORIES:2021,Cultural Festival,Film,Performing Arts
ATTACH;FMTTYPE=image/jpeg:https://www.bcmagazine.net/wp-content/uploads/1921/04/cinefan-2021.jpeg
END:VEVENT
BEGIN:VEVENT
DTSTART;TZID=Asia/Hong_Kong:20210418T144500
DTEND;TZID=Asia/Hong_Kong:20210418T144500
DTSTAMP:20260423T120329
CREATED:19170810T093057Z
LAST-MODIFIED:20210407T042639Z
UID:10003226-1618757100-1618757100@www.bcmagazine.net
SUMMARY:The Originals (Reimagined)
DESCRIPTION:The Originals (Reimagined)\nHong Kong Musicals in Concert\nDate: 16-18 April\, 2021\nVenue: HK Cultural Centre\, Grand Theatre\nTickets: $480\, $380\, $280\, $180 from Urbtix\nMore info:\nIn Cantonese with Chinese and English surtitles\n16-17 April – 7:45pm\n16 April – 2:45pm
URL:https://www.bcmagazine.net/event/the-originals-reimagined/2021-04-18/
LOCATION:HK Cultural Centre\, Grand Theatre\,\, 10 Salisbury Road\, Tsim Sha Tsui\, Hong Kong
CATEGORIES:2021,Concert,Music,Musical,Performing Arts
GEO:22.294318;114.171708
X-APPLE-STRUCTURED-LOCATION;VALUE=URI;X-ADDRESS=HK Cultural Centre Grand Theatre 10 Salisbury Road Tsim Sha Tsui Hong Kong;X-APPLE-RADIUS=500;X-TITLE=10 Salisbury Road:geo:114.171708,22.294318
END:VEVENT
BEGIN:VEVENT
DTSTART;TZID=Asia/Hong_Kong:20210418T180000
DTEND;TZID=Asia/Hong_Kong:20210418T180000
DTSTAMP:20260423T120329
CREATED:19210413T180707Z
LAST-MODIFIED:20210418T175345Z
UID:10005155-1618768800-1618768800@www.bcmagazine.net
SUMMARY:Art Walk: Before a Passage
DESCRIPTION:Art Walk: Before a Passage\nNew Arts Power\nDate: 6pm\, 14-25 April\, 2021\nVenue: North Point (East) Pier\, Upper Deck\nTickets: Free\, register here\nMore info:\nFour sessions daily: 6pm\, 7pm\, 8pm\, 9pm\nNo walk-ins allowed
URL:https://www.bcmagazine.net/event/art-walk-before-a-passage/2021-04-18/
LOCATION:North Point East Pier\, North Point\, Hong Kong
CATEGORIES:2021,Art Gallery,Free,Multimedia,Performing Arts
ATTACH;FMTTYPE=image/jpeg:https://www.bcmagazine.net/wp-content/uploads/2021/04/artwalk-2021.04.jpg
END:VEVENT
END:VCALENDAR