BEGIN:VCALENDAR
VERSION:2.0
PRODID:-//bc magazine - ECPv6.15.20//NONSGML v1.0//EN
CALSCALE:GREGORIAN
METHOD:PUBLISH
X-WR-CALNAME:bc magazine
X-ORIGINAL-URL:https://www.bcmagazine.net
X-WR-CALDESC:Events for bc magazine
REFRESH-INTERVAL;VALUE=DURATION:PT1H
X-Robots-Tag:noindex
X-PUBLISHED-TTL:PT1H
BEGIN:VTIMEZONE
TZID:Asia/Hong_Kong
BEGIN:STANDARD
TZOFFSETFROM:+0800
TZOFFSETTO:+0800
TZNAME:HKT
DTSTART:20200101T000000
END:STANDARD
END:VTIMEZONE
BEGIN:VEVENT
DTSTART;VALUE=DATE:20210626
DTEND;VALUE=DATE:20210807
DTSTAMP:20260423T122844
CREATED:20210620T041457Z
LAST-MODIFIED:20210626T093050Z
UID:10006665-1624665600-1628294399@www.bcmagazine.net
SUMMARY:Summerfest 2021
DESCRIPTION:Summerfest\nDate: 26 June – 6 August\, 2021\nVenue: Central Harbourfront\nTickets: Free\nMore info: programme schedule
URL:https://www.bcmagazine.net/event/summerfest-2021/
LOCATION:Central Harbourfront\,  9 Lung Wo Road\, Central\, Hong Kong
CATEGORIES:2021,Lifestyle,Music,Other,Performing Arts,Sport
GEO:22.2826223;114.164346
X-APPLE-STRUCTURED-LOCATION;VALUE=URI;X-ADDRESS=Central Harbourfront  9 Lung Wo Road Central Hong Kong;X-APPLE-RADIUS=500;X-TITLE=9 Lung Wo Road:geo:114.164346,22.2826223
END:VEVENT
BEGIN:VEVENT
DTSTART;TZID=Asia/Hong_Kong:20210712T201500
DTEND;TZID=Asia/Hong_Kong:20210712T201500
DTSTAMP:20260423T122844
CREATED:19210503T085402Z
LAST-MODIFIED:20210603T081439Z
UID:10005170-1626120900-1626120900@www.bcmagazine.net
SUMMARY:Leon Lai
DESCRIPTION:Leon Lai Talk and Sing\nDate: 8:15pm\, 10-18 July\, 2021\nVenue: HK Coliseum\nTickets: $880 from Urbtix
URL:https://www.bcmagazine.net/event/leon-lai-2021/2021-07-12/
LOCATION:HK Coliseum\, 9 Cheong Wan Road\, Hung Hom\, Hong Kong
CATEGORIES:2021,Cantopop,Concert,Music,Performing Arts
ATTACH;FMTTYPE=image/jpeg:https://www.bcmagazine.net/wp-content/uploads/1921/05/leon-lai-2021.jpeg
GEO:22.3014169;114.1820305
X-APPLE-STRUCTURED-LOCATION;VALUE=URI;X-ADDRESS=HK Coliseum 9 Cheong Wan Road Hung Hom Hong Kong;X-APPLE-RADIUS=500;X-TITLE=9 Cheong Wan Road:geo:114.1820305,22.3014169
END:VEVENT
BEGIN:VEVENT
DTSTART;TZID=Asia/Hong_Kong:20210713T201500
DTEND;TZID=Asia/Hong_Kong:20210713T201500
DTSTAMP:20260423T122844
CREATED:19210503T085402Z
LAST-MODIFIED:20210603T081439Z
UID:10005171-1626207300-1626207300@www.bcmagazine.net
SUMMARY:Leon Lai
DESCRIPTION:Leon Lai Talk and Sing\nDate: 8:15pm\, 10-18 July\, 2021\nVenue: HK Coliseum\nTickets: $880 from Urbtix
URL:https://www.bcmagazine.net/event/leon-lai-2021/2021-07-13/
LOCATION:HK Coliseum\, 9 Cheong Wan Road\, Hung Hom\, Hong Kong
CATEGORIES:2021,Cantopop,Concert,Music,Performing Arts
ATTACH;FMTTYPE=image/jpeg:https://www.bcmagazine.net/wp-content/uploads/1921/05/leon-lai-2021.jpeg
GEO:22.3014169;114.1820305
X-APPLE-STRUCTURED-LOCATION;VALUE=URI;X-ADDRESS=HK Coliseum 9 Cheong Wan Road Hung Hom Hong Kong;X-APPLE-RADIUS=500;X-TITLE=9 Cheong Wan Road:geo:114.1820305,22.3014169
END:VEVENT
BEGIN:VEVENT
DTSTART;TZID=Asia/Hong_Kong:20210714T201500
DTEND;TZID=Asia/Hong_Kong:20210714T201500
DTSTAMP:20260423T122844
CREATED:19210503T085402Z
LAST-MODIFIED:20210603T081439Z
UID:10005172-1626293700-1626293700@www.bcmagazine.net
SUMMARY:Leon Lai
DESCRIPTION:Leon Lai Talk and Sing\nDate: 8:15pm\, 10-18 July\, 2021\nVenue: HK Coliseum\nTickets: $880 from Urbtix
URL:https://www.bcmagazine.net/event/leon-lai-2021/2021-07-14/
LOCATION:HK Coliseum\, 9 Cheong Wan Road\, Hung Hom\, Hong Kong
CATEGORIES:2021,Cantopop,Concert,Music,Performing Arts
ATTACH;FMTTYPE=image/jpeg:https://www.bcmagazine.net/wp-content/uploads/1921/05/leon-lai-2021.jpeg
GEO:22.3014169;114.1820305
X-APPLE-STRUCTURED-LOCATION;VALUE=URI;X-ADDRESS=HK Coliseum 9 Cheong Wan Road Hung Hom Hong Kong;X-APPLE-RADIUS=500;X-TITLE=9 Cheong Wan Road:geo:114.1820305,22.3014169
END:VEVENT
BEGIN:VEVENT
DTSTART;TZID=Asia/Hong_Kong:20210715T201500
DTEND;TZID=Asia/Hong_Kong:20210715T201500
DTSTAMP:20260423T122844
CREATED:19210503T085402Z
LAST-MODIFIED:20210603T081439Z
UID:10005173-1626380100-1626380100@www.bcmagazine.net
SUMMARY:Leon Lai
DESCRIPTION:Leon Lai Talk and Sing\nDate: 8:15pm\, 10-18 July\, 2021\nVenue: HK Coliseum\nTickets: $880 from Urbtix
URL:https://www.bcmagazine.net/event/leon-lai-2021/2021-07-15/
LOCATION:HK Coliseum\, 9 Cheong Wan Road\, Hung Hom\, Hong Kong
CATEGORIES:2021,Cantopop,Concert,Music,Performing Arts
ATTACH;FMTTYPE=image/jpeg:https://www.bcmagazine.net/wp-content/uploads/1921/05/leon-lai-2021.jpeg
GEO:22.3014169;114.1820305
X-APPLE-STRUCTURED-LOCATION;VALUE=URI;X-ADDRESS=HK Coliseum 9 Cheong Wan Road Hung Hom Hong Kong;X-APPLE-RADIUS=500;X-TITLE=9 Cheong Wan Road:geo:114.1820305,22.3014169
END:VEVENT
BEGIN:VEVENT
DTSTART;TZID=Asia/Hong_Kong:20210716T201500
DTEND;TZID=Asia/Hong_Kong:20210716T201500
DTSTAMP:20260423T122844
CREATED:19210503T085402Z
LAST-MODIFIED:20210603T081439Z
UID:10005174-1626466500-1626466500@www.bcmagazine.net
SUMMARY:Leon Lai
DESCRIPTION:Leon Lai Talk and Sing\nDate: 8:15pm\, 10-18 July\, 2021\nVenue: HK Coliseum\nTickets: $880 from Urbtix
URL:https://www.bcmagazine.net/event/leon-lai-2021/2021-07-16/
LOCATION:HK Coliseum\, 9 Cheong Wan Road\, Hung Hom\, Hong Kong
CATEGORIES:2021,Cantopop,Concert,Music,Performing Arts
ATTACH;FMTTYPE=image/jpeg:https://www.bcmagazine.net/wp-content/uploads/1921/05/leon-lai-2021.jpeg
GEO:22.3014169;114.1820305
X-APPLE-STRUCTURED-LOCATION;VALUE=URI;X-ADDRESS=HK Coliseum 9 Cheong Wan Road Hung Hom Hong Kong;X-APPLE-RADIUS=500;X-TITLE=9 Cheong Wan Road:geo:114.1820305,22.3014169
END:VEVENT
BEGIN:VEVENT
DTSTART;VALUE=DATE:20210717
DTEND;VALUE=DATE:20210718
DTSTAMP:20260423T122844
CREATED:19210409T085402Z
LAST-MODIFIED:20210504T163327Z
UID:10005144-1626480000-1626566399@www.bcmagazine.net
SUMMARY:HKIFF Cine Fan
DESCRIPTION:HKIFF Cine Fan\nDate: April- July\, 2021\nVenue: K11 Art House\nTickets: $85 from Urbtix
URL:https://www.bcmagazine.net/event/hkiff-cine-fan/2021-07-17/
LOCATION:K11 Art House Cinema\, 10 Salisbury Road\, Tsim Sha Tsui\, Hong Kong
CATEGORIES:2021,Cultural Festival,Film,Performing Arts
ATTACH;FMTTYPE=image/jpeg:https://www.bcmagazine.net/wp-content/uploads/1921/04/cinefan-2021.jpeg
END:VEVENT
BEGIN:VEVENT
DTSTART;TZID=Asia/Hong_Kong:20210717T200000
DTEND;TZID=Asia/Hong_Kong:20210717T200000
DTSTAMP:20260423T122844
CREATED:20210609T094055Z
LAST-MODIFIED:20210611T065337Z
UID:10006662-1626552000-1626552000@www.bcmagazine.net
SUMMARY:Lucid Express
DESCRIPTION:Lucid Express\nSupport: TYNT\nDate: 8pm\, 17 July\, 2021\nVenue: Kitec\, Music Zone@E-Max\nTickets: $380\, $320 from Tickcats
URL:https://www.bcmagazine.net/event/lucid-express-2021/
LOCATION:KITEC\, Music Zone@E-Max\, KITEC\,‎ 1 Trademart Drive\, Kowloon Bay\, Hong Kong
CATEGORIES:2021,Concert,Music,Performing Arts
ATTACH;FMTTYPE=image/jpeg:https://www.bcmagazine.net/wp-content/uploads/1918/06/lucid-express-2021-cd-release-poster.jpg
GEO:22.3239575;114.2037608
X-APPLE-STRUCTURED-LOCATION;VALUE=URI;X-ADDRESS=KITEC Music Zone@E-Max KITEC‎ 1 Trademart Drive Kowloon Bay Hong Kong;X-APPLE-RADIUS=500;X-TITLE=KITEC\,‎ 1 Trademart Drive:geo:114.2037608,22.3239575
END:VEVENT
BEGIN:VEVENT
DTSTART;TZID=Asia/Hong_Kong:20210717T201500
DTEND;TZID=Asia/Hong_Kong:20210717T201500
DTSTAMP:20260423T122844
CREATED:19210503T085402Z
LAST-MODIFIED:20210603T081439Z
UID:10005175-1626552900-1626552900@www.bcmagazine.net
SUMMARY:Leon Lai
DESCRIPTION:Leon Lai Talk and Sing\nDate: 8:15pm\, 10-18 July\, 2021\nVenue: HK Coliseum\nTickets: $880 from Urbtix
URL:https://www.bcmagazine.net/event/leon-lai-2021/2021-07-17/
LOCATION:HK Coliseum\, 9 Cheong Wan Road\, Hung Hom\, Hong Kong
CATEGORIES:2021,Cantopop,Concert,Music,Performing Arts
ATTACH;FMTTYPE=image/jpeg:https://www.bcmagazine.net/wp-content/uploads/1921/05/leon-lai-2021.jpeg
GEO:22.3014169;114.1820305
X-APPLE-STRUCTURED-LOCATION;VALUE=URI;X-ADDRESS=HK Coliseum 9 Cheong Wan Road Hung Hom Hong Kong;X-APPLE-RADIUS=500;X-TITLE=9 Cheong Wan Road:geo:114.1820305,22.3014169
END:VEVENT
BEGIN:VEVENT
DTSTART;VALUE=DATE:20210718
DTEND;VALUE=DATE:20210719
DTSTAMP:20260423T122844
CREATED:19210409T085402Z
LAST-MODIFIED:20210504T163327Z
UID:10005145-1626566400-1626652799@www.bcmagazine.net
SUMMARY:HKIFF Cine Fan
DESCRIPTION:HKIFF Cine Fan\nDate: April- July\, 2021\nVenue: K11 Art House\nTickets: $85 from Urbtix
URL:https://www.bcmagazine.net/event/hkiff-cine-fan/2021-07-18/
LOCATION:K11 Art House Cinema\, 10 Salisbury Road\, Tsim Sha Tsui\, Hong Kong
CATEGORIES:2021,Cultural Festival,Film,Performing Arts
ATTACH;FMTTYPE=image/jpeg:https://www.bcmagazine.net/wp-content/uploads/1921/04/cinefan-2021.jpeg
END:VEVENT
BEGIN:VEVENT
DTSTART;TZID=Asia/Hong_Kong:20210718T143000
DTEND;TZID=Asia/Hong_Kong:20210718T143000
DTSTAMP:20260423T122844
CREATED:19210503T085402Z
LAST-MODIFIED:20210603T082617Z
UID:10005179-1626618600-1626618600@www.bcmagazine.net
SUMMARY:The Asura Judgment
DESCRIPTION:The Asura Judgment\nDate: 2:30pm\, 18 July\, 2021\nVenue: Tuen Mun Town Hall\, Auditorium\nTickets: $360\, $300\, $240\, $180 from Urbtix
URL:https://www.bcmagazine.net/event/the-asura-judgment-2021/
LOCATION:Tuen Mun Town Hall\, Auditorium\, 3 Tuen Hi Road\, Tuen Mun
CATEGORIES:2021,Cantonese Opera,Concert,Music,Performing Arts
ATTACH;FMTTYPE=image/png:https://www.bcmagazine.net/wp-content/uploads/1921/05/The-Asura-Judgment-2021.png
GEO:22.39182;113.9767372
X-APPLE-STRUCTURED-LOCATION;VALUE=URI;X-ADDRESS=Tuen Mun Town Hall Auditorium 3 Tuen Hi Road Tuen Mun;X-APPLE-RADIUS=500;X-TITLE=3 Tuen Hi Road:geo:113.9767372,22.39182
END:VEVENT
BEGIN:VEVENT
DTSTART;TZID=Asia/Hong_Kong:20210718T201500
DTEND;TZID=Asia/Hong_Kong:20210718T201500
DTSTAMP:20260423T122844
CREATED:19210503T085402Z
LAST-MODIFIED:20210603T081439Z
UID:10005176-1626639300-1626639300@www.bcmagazine.net
SUMMARY:Leon Lai
DESCRIPTION:Leon Lai Talk and Sing\nDate: 8:15pm\, 10-18 July\, 2021\nVenue: HK Coliseum\nTickets: $880 from Urbtix
URL:https://www.bcmagazine.net/event/leon-lai-2021/2021-07-18/
LOCATION:HK Coliseum\, 9 Cheong Wan Road\, Hung Hom\, Hong Kong
CATEGORIES:2021,Cantopop,Concert,Music,Performing Arts
ATTACH;FMTTYPE=image/jpeg:https://www.bcmagazine.net/wp-content/uploads/1921/05/leon-lai-2021.jpeg
GEO:22.3014169;114.1820305
X-APPLE-STRUCTURED-LOCATION;VALUE=URI;X-ADDRESS=HK Coliseum 9 Cheong Wan Road Hung Hom Hong Kong;X-APPLE-RADIUS=500;X-TITLE=9 Cheong Wan Road:geo:114.1820305,22.3014169
END:VEVENT
END:VCALENDAR