BEGIN:VCALENDAR
VERSION:2.0
PRODID:-//bc magazine - ECPv6.15.20//NONSGML v1.0//EN
CALSCALE:GREGORIAN
METHOD:PUBLISH
X-WR-CALNAME:bc magazine
X-ORIGINAL-URL:https://www.bcmagazine.net
X-WR-CALDESC:Events for bc magazine
REFRESH-INTERVAL;VALUE=DURATION:PT1H
X-Robots-Tag:noindex
X-PUBLISHED-TTL:PT1H
BEGIN:VTIMEZONE
TZID:Asia/Hong_Kong
BEGIN:STANDARD
TZOFFSETFROM:+0800
TZOFFSETTO:+0800
TZNAME:HKT
DTSTART:20250101T000000
END:STANDARD
END:VTIMEZONE
BEGIN:VEVENT
DTSTART;VALUE=DATE:20260227
DTEND;VALUE=DATE:20260331
DTSTAMP:20260424T040829
CREATED:20260120T044512Z
LAST-MODIFIED:20260219T124749Z
UID:10012629-1772150400-1774915199@www.bcmagazine.net
SUMMARY:Hong Kong Arts Festival
DESCRIPTION:54th Hong Kong Arts Festival\nDate: 27 February – 30 March\, 2026\nVenue: Various\nTickets: Urbtix
URL:https://www.bcmagazine.net/event/hong-kong-arts-festival-2026/
CATEGORIES:2026,Ballet,Cantonese drama,Cantonese Opera,Chinese opera,Concert,Cultural Festival,Dance,Music,Opera,Performing Arts,talk,Theatre
ATTACH;FMTTYPE=image/jpeg:https://www.bcmagazine.net/wp-content/uploads/2024/09/HKAF54-2026.jpg
END:VEVENT
BEGIN:VEVENT
DTSTART;TZID=Asia/Hong_Kong:20260330T201500
DTEND;TZID=Asia/Hong_Kong:20260330T201500
DTSTAMP:20260424T040829
CREATED:20260117T053034Z
LAST-MODIFIED:20260219T130738Z
UID:10012650-1774901700-1774901700@www.bcmagazine.net
SUMMARY:Leon Lai
DESCRIPTION:Leon Lai – Robbaba\nDate: 8:15pm\, 22-31 March 2026\nVenue: HK Coliseum\nTickets: $1\,380\, $680 from Urbtix
URL:https://www.bcmagazine.net/event/leon-lai/2026-03-30/
LOCATION:HK Coliseum\, 9 Cheong Wan Road\, Hung Hom\, Hong Kong
CATEGORIES:2026,Concert,Music,Performing Arts
ATTACH;FMTTYPE=image/jpeg:https://www.bcmagazine.net/wp-content/uploads/2026/02/Leon-Lai-Robbaba-2026.jpg
GEO:22.3014169;114.1820305
X-APPLE-STRUCTURED-LOCATION;VALUE=URI;X-ADDRESS=HK Coliseum 9 Cheong Wan Road Hung Hom Hong Kong;X-APPLE-RADIUS=500;X-TITLE=9 Cheong Wan Road:geo:114.1820305,22.3014169
END:VEVENT
BEGIN:VEVENT
DTSTART;TZID=Asia/Hong_Kong:20260331T201500
DTEND;TZID=Asia/Hong_Kong:20260331T201500
DTSTAMP:20260424T040829
CREATED:20260117T053034Z
LAST-MODIFIED:20260219T130738Z
UID:10012651-1774988100-1774988100@www.bcmagazine.net
SUMMARY:Leon Lai
DESCRIPTION:Leon Lai – Robbaba\nDate: 8:15pm\, 22-31 March 2026\nVenue: HK Coliseum\nTickets: $1\,380\, $680 from Urbtix
URL:https://www.bcmagazine.net/event/leon-lai/2026-03-31/
LOCATION:HK Coliseum\, 9 Cheong Wan Road\, Hung Hom\, Hong Kong
CATEGORIES:2026,Concert,Music,Performing Arts
ATTACH;FMTTYPE=image/jpeg:https://www.bcmagazine.net/wp-content/uploads/2026/02/Leon-Lai-Robbaba-2026.jpg
GEO:22.3014169;114.1820305
X-APPLE-STRUCTURED-LOCATION;VALUE=URI;X-ADDRESS=HK Coliseum 9 Cheong Wan Road Hung Hom Hong Kong;X-APPLE-RADIUS=500;X-TITLE=9 Cheong Wan Road:geo:114.1820305,22.3014169
END:VEVENT
BEGIN:VEVENT
DTSTART;VALUE=DATE:20260401
DTEND;VALUE=DATE:20260413
DTSTAMP:20260424T040829
CREATED:20260201T064218Z
LAST-MODIFIED:20260201T100950Z
UID:10012608-1775001600-1776038399@www.bcmagazine.net
SUMMARY:Hong Kong International Film Festival
DESCRIPTION:50th Hong Kong International Film Festival\nDate: 1-12 April\, 2026\nVenue: various\nTickets: tbc
URL:https://www.bcmagazine.net/event/hong-kong-international-film-festival-2026/
CATEGORIES:2026,Film,Performing Arts
ATTACH;FMTTYPE=image/png:https://www.bcmagazine.net/wp-content/uploads/2025/02/Screenshot-2026-02-01-at-17.51.42.png
END:VEVENT
BEGIN:VEVENT
DTSTART;VALUE=DATE:20260401
DTEND;VALUE=DATE:20260413
DTSTAMP:20260424T040829
CREATED:20260224T064218Z
LAST-MODIFIED:20260225T062853Z
UID:10013090-1775001600-1776038399@www.bcmagazine.net
SUMMARY:50 and Beyond: The Hong Kong International Film Festival Golden Jubilee Exhibition
DESCRIPTION:50 and Beyond: The Hong Kong International Film Festival Golden Jubilee Exhibition\nDate: 1-12 April\, 2026\nVenue:  Hong Kong City Hall Exhibition Hall\nTickets: Free
URL:https://www.bcmagazine.net/event/50-and-beyond-the-hong-kong-international-film-festival-golden-jubilee-exhibition/
LOCATION:HK City Hall\, 5 Edinburgh Place\, Central\, Hong Kong
CATEGORIES:2026,Film,Free,Performing Arts
ATTACH;FMTTYPE=image/jpeg:https://www.bcmagazine.net/wp-content/uploads/2026/02/50-and-Beyond-The-Hong-Kong-International-Film-Festival-Golden-Jubilee-Exhibition.jpg
GEO:22.2822646;114.1615275
X-APPLE-STRUCTURED-LOCATION;VALUE=URI;X-ADDRESS=HK City Hall 5 Edinburgh Place Central Hong Kong;X-APPLE-RADIUS=500;X-TITLE=5 Edinburgh Place:geo:114.1615275,22.2822646
END:VEVENT
BEGIN:VEVENT
DTSTART;TZID=Asia/Hong_Kong:20260404T190000
DTEND;TZID=Asia/Hong_Kong:20260404T190000
DTSTAMP:20260424T040829
CREATED:19220630T004537Z
LAST-MODIFIED:20260220T121641Z
UID:10013083-1775329200-1775329200@www.bcmagazine.net
SUMMARY:Shazna
DESCRIPTION:Shazna – Asia Tour\nDate: 7pm\, 4 April 2026\nVenue: Portal\nTickets: $950\, $750
URL:https://www.bcmagazine.net/event/shazna-2026/
LOCATION:Portal\, 1/F The Burrow\, 212 Choi Hung Road\, San Po Kong\, Hong Kong
CATEGORIES:2026,Concert,Music,Nightlife,Performing Arts
ATTACH;FMTTYPE=image/png:https://www.bcmagazine.net/wp-content/uploads/1922/06/Shazna-hk-2026.png
END:VEVENT
END:VCALENDAR