BEGIN:VCALENDAR
VERSION:2.0
PRODID:-//bc magazine - ECPv6.15.20//NONSGML v1.0//EN
CALSCALE:GREGORIAN
METHOD:PUBLISH
X-WR-CALNAME:bc magazine
X-ORIGINAL-URL:https://www.bcmagazine.net
X-WR-CALDESC:Events for bc magazine
REFRESH-INTERVAL;VALUE=DURATION:PT1H
X-Robots-Tag:noindex
X-PUBLISHED-TTL:PT1H
BEGIN:VTIMEZONE
TZID:Asia/Hong_Kong
BEGIN:STANDARD
TZOFFSETFROM:+0800
TZOFFSETTO:+0800
TZNAME:HKT
DTSTART:20140101T000000
END:STANDARD
END:VTIMEZONE
BEGIN:VEVENT
DTSTART;VALUE=DATE:20150703
DTEND;VALUE=DATE:20150706
DTSTAMP:20260423T081306
CREATED:20150703T000850Z
LAST-MODIFIED:20150704T032628Z
UID:10005023-1435881600-1436140799@www.bcmagazine.net
SUMMARY:Hong Kong Dragon Boat Carnival
DESCRIPTION:The Hong Kong Dragon Boat Carnival takes place on the Tsim Sha Tsui waterfront from the 3 July 2015 (Friday) to 5 July 2015 (Sunday). The carnival features the Hong Kong International Dragon Boat Races in Victoria Harbour and a social and family fun day on the East Tsim Sha Tsui promenade \nThree days of intense racing will fill the harbour with a profusion of colour and the sounds of drummers and fans urging paddlers on to the finish line. 4\,000 paddlers comprising 411 teams from 143 dragon boat clubs\, with 311 local teams and 100 overseas teams from 13 countries\, including Australia\, Canada\, Mainland China\, Dubai\, Japan\, Korea\, Macau\, the Netherlands\, the Philippines\, Singapore\, Taiwan\, Thailand and the UK.  \nHong Kong Dragon Boat Carnival\nDate: 3-5 July 2015 (Friday to Sunday)\nVenue: Victoria Harbour\, East Tsim Sha Tsui\, Kowloon\nTickets: Free to watch\nMore info:\n3 July: Noon to 5pm\n4 July: 8:30am to 6pm\n5 July: 9am to 5pm
URL:https://www.bcmagazine.net/event/hong-kong-dragon-boat-carnival/
LOCATION:Victoria Harbour\, Hong Kong
CATEGORIES:2015,Free,Sport
END:VEVENT
BEGIN:VEVENT
DTSTART;VALUE=DATE:20150716
DTEND;VALUE=DATE:20150719
DTSTAMP:20260423T081306
CREATED:20150619T085313Z
LAST-MODIFIED:20150808T071127Z
UID:10004982-1437004800-1437263999@www.bcmagazine.net
SUMMARY:FIVB Volleyball World Grand Prix
DESCRIPTION:  \nChina\, Thailand\, Japan and the USA compete at this years’ FIVB Volleyball World Grand Prix in July at the HK Coliseum. \nFIVB Volleyball World Grand Prix\nDate: 16-18 July\, 2015\nVenue: HK Coliseum\nTickets:\n16-17 July – $350\, $150\, $70\n18 July – $650\, $350\, $160\, $80 from URBTIX
URL:https://www.bcmagazine.net/event/fivb-volleyball-world-grand-prix/
LOCATION:HK Coliseum\, 9 Cheong Wan Road\, Hung Hom\, Hong Kong
CATEGORIES:2015,Sport,Volleyball
GEO:22.3014169;114.1820305
X-APPLE-STRUCTURED-LOCATION;VALUE=URI;X-ADDRESS=HK Coliseum 9 Cheong Wan Road Hung Hom Hong Kong;X-APPLE-RADIUS=500;X-TITLE=9 Cheong Wan Road:geo:114.1820305,22.3014169
END:VEVENT
BEGIN:VEVENT
DTSTART;TZID=Asia/Hong_Kong:20150718T173000
DTEND;TZID=Asia/Hong_Kong:20150718T233000
DTSTAMP:20260423T081306
CREATED:20150601T055915Z
LAST-MODIFIED:20150611T060506Z
UID:10005939-1437240600-1437262200@www.bcmagazine.net
SUMMARY:Victory at The Venetian!
DESCRIPTION:Victory at The Venetian!\nDate: 5:30pm\, 18 July 2015\nVenue: CotaiArena\, Macau\nTickets: $4\,680\, $1\,680\, $1\,280\, $980\, $580\, $280\, $180 from CotaiTicketing
URL:https://www.bcmagazine.net/event/victory-at-the-venetian/
LOCATION:CotaiArena\, Venetian Macao\, Taipa\, Macau
CATEGORIES:2015,Boxing,Macau,Sport
GEO:22.1483528;113.5602019
X-APPLE-STRUCTURED-LOCATION;VALUE=URI;X-ADDRESS=CotaiArena Venetian Macao Taipa Macau;X-APPLE-RADIUS=500;X-TITLE=Venetian Macao:geo:113.5602019,22.1483528
END:VEVENT
BEGIN:VEVENT
DTSTART;TZID=Asia/Hong_Kong:20150728T190000
DTEND;TZID=Asia/Hong_Kong:20150728T230000
DTSTAMP:20260423T081306
CREATED:20150610T035325Z
LAST-MODIFIED:20150710T053053Z
UID:10006020-1438110000-1438124400@www.bcmagazine.net
SUMMARY:TK4 Finals Hong Kong
DESCRIPTION:TK4 Finals Hong Kong\nDate: 7pm\, 28 July\, 2015\nVenue: Star Hall\, KITEC\nTickets: $2\,980\, $1\,980\, $980\, $780\, $480\, $380\, $280 from HKTicketing
URL:https://www.bcmagazine.net/event/tk4-finals-hong-kong/
LOCATION:KITEC\, Star Hall\, KITEC\, 1 Trademart Drive\, Kowloon Bay\, Hong Kong
CATEGORIES:2015,Muay Thai,Sport
GEO:22.3239575;114.2037608
X-APPLE-STRUCTURED-LOCATION;VALUE=URI;X-ADDRESS=KITEC Star Hall KITEC 1 Trademart Drive Kowloon Bay Hong Kong;X-APPLE-RADIUS=500;X-TITLE=KITEC\, 1 Trademart Drive:geo:114.2037608,22.3239575
END:VEVENT
BEGIN:VEVENT
DTSTART;TZID=Asia/Hong_Kong:20150731T184500
DTEND;TZID=Asia/Hong_Kong:20150731T230000
DTSTAMP:20260423T081306
CREATED:20150422T060005Z
LAST-MODIFIED:20150711T041630Z
UID:10005765-1438368300-1438383600@www.bcmagazine.net
SUMMARY:IMPI Fighting Championship World Series - 31 July\, 2015
DESCRIPTION:IMPI Fighting Championship World Series\nDate: 6:45pm\, 31 July\, 2015\nVenue: Queen Elizabeth Stadium\, Arena\nTickets: $480\, $380\, $200 from URBTIX
URL:https://www.bcmagazine.net/event/impi-fighting-championship-world-series-31-july-2015/
LOCATION:Queen Elizabeth Stadium\, 18 Oi Kwan Road\, Wanchai\, Hong Kong
CATEGORIES:2015,Muay Thai,Sport
GEO:22.2751271;114.1789682
X-APPLE-STRUCTURED-LOCATION;VALUE=URI;X-ADDRESS=Queen Elizabeth Stadium 18 Oi Kwan Road Wanchai Hong Kong;X-APPLE-RADIUS=500;X-TITLE=18 Oi Kwan Road:geo:114.1789682,22.2751271
END:VEVENT
END:VCALENDAR