BEGIN:VCALENDAR
VERSION:2.0
PRODID:-//bc magazine - ECPv6.15.20//NONSGML v1.0//EN
CALSCALE:GREGORIAN
METHOD:PUBLISH
X-WR-CALNAME:bc magazine
X-ORIGINAL-URL:https://www.bcmagazine.net
X-WR-CALDESC:Events for bc magazine
REFRESH-INTERVAL;VALUE=DURATION:PT1H
X-Robots-Tag:noindex
X-PUBLISHED-TTL:PT1H
BEGIN:VTIMEZONE
TZID:Asia/Hong_Kong
BEGIN:STANDARD
TZOFFSETFROM:+0800
TZOFFSETTO:+0800
TZNAME:HKT
DTSTART:20150101T000000
END:STANDARD
END:VTIMEZONE
BEGIN:VEVENT
DTSTART;VALUE=DATE:20160116
DTEND;VALUE=DATE:20160118
DTSTAMP:20260423T081357
CREATED:20150914T093032Z
LAST-MODIFIED:20150914T093032Z
UID:10005070-1452902400-1453075199@www.bcmagazine.net
SUMMARY:UCI Track Cycling World Cup
DESCRIPTION:UCI Track Cycling World Cup\nDate: 16-17 January\, 2016\nVenue: HK Velodrome\nTickets: tbc
URL:https://www.bcmagazine.net/event/uci-track-cycling-world-cup/
LOCATION:Hong Kong
CATEGORIES:2016,Sport
END:VEVENT
BEGIN:VEVENT
DTSTART;VALUE=DATE:20160117
DTEND;VALUE=DATE:20160118
DTSTAMP:20260423T081357
CREATED:20150617T133150Z
LAST-MODIFIED:20150717T133558Z
UID:10006024-1452988800-1453075199@www.bcmagazine.net
SUMMARY:Hong Kong Marathon 2016
DESCRIPTION:Hong Kong Marathon 2016\nDate: 17 January\, 2016\nVenue: Central Hong Kong\nTickets: Free to watch\nMore info: tbc
URL:https://www.bcmagazine.net/event/hong-kong-marathon-2016/
LOCATION:Hong Kong
CATEGORIES:2016,Sport
END:VEVENT
BEGIN:VEVENT
DTSTART;VALUE=DATE:20160121
DTEND;VALUE=DATE:20160125
DTSTAMP:20260423T081357
CREATED:19160102T102040Z
LAST-MODIFIED:20160102T102459Z
UID:10001011-1453334400-1453679999@www.bcmagazine.net
SUMMARY:ICC Intercontinental Cup: Hong Kong v Scotland
DESCRIPTION:ICC Intercontinental Cup: Hong Kong v Scotland\nBraidwood Cup Series\nDate: 9:30am\, 21-24 January\, 2016\nVenue: Tin Kwong Road Recreation Ground\nTickets: Free\nMore info: First class cricket\, 4 day game
URL:https://www.bcmagazine.net/event/icc-intercontinental-cup-hong-kong-v-scotland-2016/
LOCATION:Tin Kwong Road Recreation Ground\, Tin Kwong Road\, Mong Kok\, Hong Kong
CATEGORIES:2016,Cricket,Sport
GEO:22.3219997;114.1847986
X-APPLE-STRUCTURED-LOCATION;VALUE=URI;X-ADDRESS=Tin Kwong Road Recreation Ground Tin Kwong Road Mong Kok Hong Kong;X-APPLE-RADIUS=500;X-TITLE=Tin Kwong Road:geo:114.1847986,22.3219997
END:VEVENT
BEGIN:VEVENT
DTSTART;TZID=Asia/Hong_Kong:20160126T093000
DTEND;TZID=Asia/Hong_Kong:20160126T093000
DTSTAMP:20260423T081357
CREATED:19160102T102514Z
LAST-MODIFIED:20160102T102935Z
UID:10001013-1453800600-1453800600@www.bcmagazine.net
SUMMARY:ODI: Hong Kong v Scotland
DESCRIPTION:ICC World Cricket League Championship: Hong Kong v Scotland\nBraidwood Cup Series\nDate: 9:30am\, 26\, 28 January\, 2016\nVenue: Tin Kwong Road Recreation Ground\nTickets: Free\nMore info: One Day International\, 50 overs a side
URL:https://www.bcmagazine.net/event/odi-hong-kong-v-scotland-2016/2016-01-26/
LOCATION:Tin Kwong Road Recreation Ground\, Tin Kwong Road\, Mong Kok\, Hong Kong
CATEGORIES:2016,Cricket,Sport
GEO:22.3219997;114.1847986
X-APPLE-STRUCTURED-LOCATION;VALUE=URI;X-ADDRESS=Tin Kwong Road Recreation Ground Tin Kwong Road Mong Kok Hong Kong;X-APPLE-RADIUS=500;X-TITLE=Tin Kwong Road:geo:114.1847986,22.3219997
END:VEVENT
BEGIN:VEVENT
DTSTART;TZID=Asia/Hong_Kong:20160128T093000
DTEND;TZID=Asia/Hong_Kong:20160128T093000
DTSTAMP:20260423T081357
CREATED:19160102T102514Z
LAST-MODIFIED:20160102T102935Z
UID:10001014-1453973400-1453973400@www.bcmagazine.net
SUMMARY:ODI: Hong Kong v Scotland
DESCRIPTION:ICC World Cricket League Championship: Hong Kong v Scotland\nBraidwood Cup Series\nDate: 9:30am\, 26\, 28 January\, 2016\nVenue: Tin Kwong Road Recreation Ground\nTickets: Free\nMore info: One Day International\, 50 overs a side
URL:https://www.bcmagazine.net/event/odi-hong-kong-v-scotland-2016/2016-01-28/
LOCATION:Tin Kwong Road Recreation Ground\, Tin Kwong Road\, Mong Kok\, Hong Kong
CATEGORIES:2016,Cricket,Sport
GEO:22.3219997;114.1847986
X-APPLE-STRUCTURED-LOCATION;VALUE=URI;X-ADDRESS=Tin Kwong Road Recreation Ground Tin Kwong Road Mong Kok Hong Kong;X-APPLE-RADIUS=500;X-TITLE=Tin Kwong Road:geo:114.1847986,22.3219997
END:VEVENT
BEGIN:VEVENT
DTSTART;TZID=Asia/Hong_Kong:20160130T130000
DTEND;TZID=Asia/Hong_Kong:20160130T170000
DTSTAMP:20260423T081357
CREATED:19160102T101215Z
LAST-MODIFIED:20160102T101922Z
UID:10001004-1454158800-1454173200@www.bcmagazine.net
SUMMARY:T20 International: Hong Kong v Scotland
DESCRIPTION:T20 International: Hong Kong v Scotland\nBraidwood Cup series\nDate: 1pm\, 30-31 January\, 2016\nVenue: Tin Kwong Road Recreation Ground\nTickets: Free
URL:https://www.bcmagazine.net/event/t20-international-hong-kong-v-scotland-2016/2016-01-30/
LOCATION:Tin Kwong Road Recreation Ground\, Tin Kwong Road\, Mong Kok\, Hong Kong
CATEGORIES:2016,Cricket,Sport
GEO:22.3219997;114.1847986
X-APPLE-STRUCTURED-LOCATION;VALUE=URI;X-ADDRESS=Tin Kwong Road Recreation Ground Tin Kwong Road Mong Kok Hong Kong;X-APPLE-RADIUS=500;X-TITLE=Tin Kwong Road:geo:114.1847986,22.3219997
END:VEVENT
END:VCALENDAR