BEGIN:VCALENDAR
VERSION:2.0
PRODID:-//bc magazine - ECPv6.15.20//NONSGML v1.0//EN
CALSCALE:GREGORIAN
METHOD:PUBLISH
X-WR-CALNAME:bc magazine
X-ORIGINAL-URL:https://www.bcmagazine.net
X-WR-CALDESC:Events for bc magazine
REFRESH-INTERVAL;VALUE=DURATION:PT1H
X-Robots-Tag:noindex
X-PUBLISHED-TTL:PT1H
BEGIN:VTIMEZONE
TZID:Asia/Hong_Kong
BEGIN:STANDARD
TZOFFSETFROM:+0800
TZOFFSETTO:+0800
TZNAME:HKT
DTSTART:20150101T000000
END:STANDARD
END:VTIMEZONE
BEGIN:VEVENT
DTSTART;VALUE=DATE:20160206
DTEND;VALUE=DATE:20160207
DTSTAMP:20260421T074654
CREATED:19150908T033311Z
LAST-MODIFIED:20150908T034106Z
UID:10000340-1454716800-1454803199@www.bcmagazine.net
SUMMARY:Sai Kung 50
DESCRIPTION:Sai Kung 50\nHK50 Series\nDate: 20 February\, 2016\nVenue: Sai Kung Country Park\nTickets: tbc
URL:https://www.bcmagazine.net/event/sai-kung-50/
LOCATION:Sai Kung Country Park\, Sai kung\, Hong Kong
CATEGORIES:2016,Sport
END:VEVENT
BEGIN:VEVENT
DTSTART;TZID=Asia/Hong_Kong:20160206T170000
DTEND;TZID=Asia/Hong_Kong:20160206T170000
DTSTAMP:20260421T074654
CREATED:19160105T144030Z
LAST-MODIFIED:20160105T150209Z
UID:10001061-1454778000-1454778000@www.bcmagazine.net
SUMMARY:Racing 92 v Highlanders
DESCRIPTION:Racing 92 v Highlanders\nDate: 5pm\, 6 February\, 2016\nVenue: Sui Sai Wan Sports Ground\nTickets: $399 from Ticketflap
URL:https://www.bcmagazine.net/event/racing-92-vs-highlanders-2016/
LOCATION:Siu Sai Wan Sports Ground\, 8 Fu Hong Street\, Siu Sai Wan\, Hong Kong
CATEGORIES:2016,Rugby,Sport
GEO:22.268424;114.249054
X-APPLE-STRUCTURED-LOCATION;VALUE=URI;X-ADDRESS=Siu Sai Wan Sports Ground 8 Fu Hong Street Siu Sai Wan Hong Kong;X-APPLE-RADIUS=500;X-TITLE=8 Fu Hong Street:geo:114.249054,22.268424
END:VEVENT
BEGIN:VEVENT
DTSTART;TZID=Asia/Hong_Kong:20160219T090000
DTEND;TZID=Asia/Hong_Kong:20160219T090000
DTSTAMP:20260421T074654
CREATED:19151212T133326Z
LAST-MODIFIED:20151212T134846Z
UID:10000869-1455872400-1455872400@www.bcmagazine.net
SUMMARY:Masters of Hong Kong
DESCRIPTION:Masters of Hong Kong\nDate: 19-21 February\, 2016\nVenue: AsiaWorld Expo\nTickets: $980\, $850\, $720\, $590 from Cityline\nMore info: \nSession 1 – 19 Feb 2016\, 6pm-12:00am: Prestige Seats $720\, Standard Seats $590\nSession 2 – 20 Feb 2016\, 9am-6pm: Standard Seats $330\nSession 3 – 20 Feb 2016\, 6pm-12:00am: Prestige Seats $720\, Standard Seats $590\nSession 4 – 21 Feb 2016\, 9am-6pm: Prestige Seats $980\, Standard Seats $850
URL:https://www.bcmagazine.net/event/masters-of-hong-kong-2016/2016-02-19/
LOCATION:AsiaWorld-Expo\, Cheong Wing Road\, Chek Lap Kok\, Lantau\, Hong Kong
CATEGORIES:2016,Sport
GEO:22.3217383;113.9402012
X-APPLE-STRUCTURED-LOCATION;VALUE=URI;X-ADDRESS=AsiaWorld-Expo Cheong Wing Road Chek Lap Kok Lantau Hong Kong;X-APPLE-RADIUS=500;X-TITLE=Cheong Wing Road\, Chek Lap Kok:geo:113.9402012,22.3217383
END:VEVENT
END:VCALENDAR