BEGIN:VCALENDAR
VERSION:2.0
PRODID:-//bc magazine - ECPv6.15.20//NONSGML v1.0//EN
CALSCALE:GREGORIAN
METHOD:PUBLISH
X-WR-CALNAME:bc magazine
X-ORIGINAL-URL:https://www.bcmagazine.net
X-WR-CALDESC:Events for bc magazine
REFRESH-INTERVAL;VALUE=DURATION:PT1H
X-Robots-Tag:noindex
X-PUBLISHED-TTL:PT1H
BEGIN:VTIMEZONE
TZID:Asia/Hong_Kong
BEGIN:STANDARD
TZOFFSETFROM:+0800
TZOFFSETTO:+0800
TZNAME:HKT
DTSTART:20150101T000000
END:STANDARD
END:VTIMEZONE
BEGIN:VEVENT
DTSTART;TZID=Asia/Hong_Kong:20160320T100000
DTEND;TZID=Asia/Hong_Kong:20160320T170000
DTSTAMP:20260421T093957
CREATED:19160218T092106Z
LAST-MODIFIED:20160218T092817Z
UID:10000333-1458468000-1458493200@www.bcmagazine.net
SUMMARY:Hebe Haven SLAM Sailing Centre Open Day
DESCRIPTION:Hebe Haven SLAM Sailing Centre Open Day\nDate: 10am-5pm\, 20 March\, 2016\nVenue: Hebe Haven Yacht Club\nTickets: Free
URL:https://www.bcmagazine.net/event/hebe-haven-slam-sailing-centre-open-day-2016/
LOCATION:Hebe Haven Yacht Club\, Hebe Haven\, Hong Kong
CATEGORIES:2016,Sailing,Sport
END:VEVENT
BEGIN:VEVENT
DTSTART;VALUE=DATE:20160328
DTEND;VALUE=DATE:20160329
DTSTAMP:20260421T093957
CREATED:19160217T134324Z
LAST-MODIFIED:20160217T135246Z
UID:10000336-1459123200-1459209599@www.bcmagazine.net
SUMMARY:JCKSC Easter Trophy
DESCRIPTION:JCKSC Easter Trophy\nDate: 28 March\, 2016\nVenue: Kau Sai Chau Public Golf Course\nTickets: $\,2\,200/team\nMore info: 2-Ball Best Ball Stableford
URL:https://www.bcmagazine.net/event/jcksc-easter-trophy-2016/
LOCATION:Kau Sai Chau Public Golf Course\, Kau Sai Chau\, Hong Kong
CATEGORIES:2016,Sport
GEO:22.3615399;114.3133433
END:VEVENT
END:VCALENDAR